Workbook
Name SDGsグラフ: INDIRECT(#REF!)
Name SDGsグラフ: INDIRECT(#REF!)
Name シティホテル: INDIRECT([1]SDGs結果表示!$A$1)
Name リゾートホテル: INDIRECT([2]SDGs結果表示!$A$1)
Name 案1: #REF!
Name 案1: #REF!
Name 案2: #REF!
Name 案2: #REF!
Name 案3: #REF!
Name 案3: #REF!
Name 図形: INDIRECT(#REF!)
Name 図形: INDIRECT(SDGs結果表示!$A$1)
Name 非表示: #REF!
Name 非表示: SDGs結果表示!$B$4
Name 表示: #REF!
Name 表示: SDGs結果表示!$C$4

Sheet オフィス評価結果
X1: スコア
I2: 【オフィス】 | P2: 建築環境SDGsチェックリスト評価結果 | W2: ゴール3 | X2: =IF(建築環境SDGsチェックリスト!$D$3="オフィス",建築環境SDGsチェックリスト!H116,"0") -> 0
W3: ゴール4 | X3: =IF(建築環境SDGsチェックリスト!$D$3="オフィス",建築環境SDGsチェックリスト!H117,"0") -> 0
W4: ゴール5 | X4: =IF(建築環境SDGsチェックリスト!$D$3="オフィス",建築環境SDGsチェックリスト!H118,"0") -> 0
I5: ■使用評価マニュアル： | J5: CASBEE-不動産 2024年版 | M5: v1.21 | W5: ゴール6 | X5: =IF(建築環境SDGsチェックリスト!$D$3="オフィス",建築環境SDGsチェックリスト!H119,"0") -> 0
C6: 建物概要 | W6: ゴール7 | X6: =IF(建築環境SDGsチェックリスト!$D$3="オフィス",建築環境SDGsチェックリスト!H120,"0") -> 0
C7: 建物名称 | D7: ○○ビル | H7: 敷地面積 | I7: ○○○ | J7: m2 | K7: 評価の段階 | L7: 運用段階評価 | S7: 項目 | T7: 充足率 | W7: ゴール8 | X7: =IF(建築環境SDGsチェックリスト!$D$3="オフィス",建築環境SDGsチェックリスト!H121,"0") -> 0
C8: 建設地 | D8: ○○県○○市XXXXXX | H8: 建築面積 | I8: ○○○ | J8: m2 | K8: 評価の実施日 | L8: 20XX/XX/XX | S8: =C25 -> １．エネルギー／温暖化ガス | T8: =IF(C42/D42>1,1,C42/D42) -> 0.6 | W8: ゴール9 | X8: =IF(建築環境SDGsチェックリスト!$D$3="オフィス",建築環境SDGsチェックリスト!H122,"0") -> 0
C9: 用途地域 | D9: 商業地域、防火地域 | H9: 延床面積（評価対象分） | I9: ○○○ | J9: m2 | K9: 作成者 | L9: ○○○ | S9: =C44 -> ２．水 | T9: =C54/D54 -> 0.6 | W9: ゴール11 | X9: =IF(建築環境SDGsチェックリスト!$D$3="オフィス",建築環境SDGsチェックリスト!H123,"0") -> 0
C10: 建物用途 | D10: 事務所 | H10: 階数 | I10: 地上○○F | K10: 不動産評価員番号 | S10: =C56 -> ３．資源利用／安全 | T10: =C82/D82 -> 0.5375 | W10: ゴール12 | X10: =IF(建築環境SDGsチェックリスト!$D$3="オフィス",建築環境SDGsチェックリスト!H124,"0") -> 0
C11: 竣工年月 | D11: 19XX/XX/XX | H11: 構造 | I11: RC造 | K11: 確認日 | L11: 20XX/XX/XX | S11: =C84 -> ４．生物多様性／敷地 | T11: =C100/D100 -> 0.6 | W11: ゴール13 | X11: =IF(建築環境SDGsチェックリスト!$D$3="オフィス",建築環境SDGsチェックリスト!H125,"0") -> 0
C12: 直近の大規模改修実施年月 | F12: 20XX/XX/XX | H12: 平均居住人員 | I12: XXX | J12: 人 | K12: 確認者 | L12: ○○○ | S12: =C102 -> ５．屋内環境 | T12: =C128/D128 -> 0.6 | W12: ゴール15 | X12: =IF(建築環境SDGsチェックリスト!$D$3="オフィス",建築環境SDGsチェックリスト!H126,"0") -> 0
C13: 部分評価の場合の特記事項 | F13: 例）建物全体延床面積○○㎡ | H13: 年間使用時間 | I13: XXX | J13: 時間/年 | K13: 不動産評価員番号 | W13: ゴール17 | X13: =IF(建築環境SDGsチェックリスト!$D$3="オフィス",建築環境SDGsチェックリスト!H127,"0") -> 0 | Z13: 評価しない
C15: 評価結果 | W15: SDGsRank | X15: =(AVERAGE(X2:X13)-1)*2+1 -> #DIV/0!
S16: 赤星 | T16: 点星 | W16: SDGsRank(Ring) | X16: =IF(X15=1,1,IF(X15<1.5,1,IF(X15<2.5,2,IF(X15<3.5,3,IF(X15<4.5,4,5)))))/5 -> #DIV/0! | Z16: 緑星 | AA16: 点星
C17: =C42+C54+C82+C100+C128 -> 58.75 | D17: /100 | E17: 合計 | I17: ホールライフカーボンの評価 | M17: =IF(Z17=0,Z13,"") -> 評価しない | S17: =IF(C17>=F19,5,IF(C17>=F20,4,IF(C17>=F21,3,IF(C17>=F22,2,0)))) -> 2 | T17: =5-S17 -> 3 | W17: (BlankRing) | X17: =1-X16 -> #DIV/0! | Z17: =C132 -> 0 | AA17: =IF(M17=Z13,0,5-Z17) -> 0
C18: （得点 | D18: / 満点）
C19: S ランク；★★★★★ | E19: ≧ | F19: 78 | S19: 適合
C20: A ランク；★★★★ | E20: ≧ | F20: 66 | S20: 不適合
C21: B+ランク；★★★ | E21: ≧ | F21: 60 | J21: 取組項目数：A1-A5 | K21: =IF(M17=Z13,"",L132) | L21: B1,B3-B5 | M21: =IF(M17=Z13,"",L134)
C22: B ランク；★★ | E22: ≧ | F22: 50 | J22: B6-B7 | K22: =IF(M17=Z13,"",L133) | L22: C1-C4 | M22: =IF(M17=Z13,"",L135) | W22: DECC2019年公開データ【最新データ年度のみ】
C23: ポイントは小数点第1位までの表示とする | S23: 延床面積 | T23: =IF($I$9>=30000,Z23,IF($I$9>=10000,Y23,X23)) -> 30,000m2以上 | U23: 評価建物 | W23: 延床面積 | X23: 10,000㎡未満 | Y23: 10,000m2以上30,000m2未満 | Z23: 30,000m2以上
S24: =W24 -> 0 | T24: =IF($I$9>=30000,Z24,IF($I$9>=10000,Y24,X24)) -> 1 | U24: =IF(AND($L$35>=S24,$L$35<S25),T24,0) -> 1 | W24: 0 | X24: 7 | Y24: 0 | Z24: 1
C25: １．エネルギー／温暖化ガス | S25: =W25 -> 200 | T25: =IF($I$9>=30000,Z25,IF($I$9>=10000,Y25,X25)) -> 2 | U25: =IF(AND($L$35>=S25,$L$35<S26),T25,0) -> 0 | W25: 200 | X25: 49 | Y25: 0 | Z25: 2
C26: 評価 | D26: 最大加点 | J26: 指標 | K26: (*は参考値) | L26: 評価値 | S26: =W26 -> 400 | T26: =IF($I$9>=30000,Z26,IF($I$9>=10000,Y26,X26)) -> 3 | U26: =IF(AND($L$35>=S26,$L$35<S27),T26,0) -> 0 | W26: 400 | X26: 66 | Y26: 5 | Z26: 3
E27: 必須項目 | G27: ；省エネルギー基準への適合、目標設定、モニタリング、運用管理体制 | S27: =W27 -> 600 | T27: =IF($I$9>=30000,Z27,IF($I$9>=10000,Y27,X27)) -> 4 | U27: =IF(AND($L$35>=S27,$L$35<S28),T27,0) -> 0 | W27: 600 | X27: 104 | Y27: 14 | Z27: 4
D28: 加点 1 | F28: 根拠等 | J28: 一次エネルギー(目標値) | M28: MJ/m2・年 | S28: =W28 -> 800 | T28: =IF($I$9>=30000,Z28,IF($I$9>=10000,Y28,X28)) -> 8 | U28: =IF(AND($L$35>=S28,$L$35<S29),T28,0) -> 0 | W28: 800 | X28: 194 | Y28: 28 | Z28: 8
S29: =W29 -> 1000 | T29: =IF($I$9>=30000,Z29,IF($I$9>=10000,Y29,X29)) -> 9 | U29: =IF(AND($L$35>=S29,$L$35<S30),T29,0) -> 0 | W29: 1000 | X29: 255 | Y29: 61 | Z29: 9
C30: 15 | D30: 25 | E30: 1.1 | F30: 使用・排出原単位（計算値） | S30: =W30 -> 1200 | T30: =IF($I$9>=30000,Z30,IF($I$9>=10000,Y30,X30)) -> 22 | U30: =IF(AND($L$35>=S30,$L$35<S31),T30,0) -> 0 | W30: 1200 | X30: 245 | Y30: 82 | Z30: 22
F31: 根拠等 | J31: 一次エネルギー(計画値） | M31: MJ/m2・年 | S31: =W31 -> 1400 | T31: =IF($I$9>=30000,Z31,IF($I$9>=10000,Y31,X31)) -> 22 | U31: =IF(AND($L$35>=S31,$L$35<S32),T31,0) -> 0 | W31: 1400 | X31: 225 | Y31: 101 | Z31: 22
J32: 二次エネルギー(*) | M32: kWh/m2・年 | S32: =W32 -> 1600 | T32: =IF($I$9>=30000,Z32,IF($I$9>=10000,Y32,X32)) -> 34 | U32: =IF(AND($L$35>=S32,$L$35<S33),T32,0) -> 0 | W32: 1600 | X32: 167 | Y32: 89 | Z32: 34
J33: GHG排出量(*) | M33: kg-CO2eq/m2・年 | S33: =W33 -> 1800 | T33: =IF($I$9>=30000,Z33,IF($I$9>=10000,Y33,X33)) -> 39 | U33: =IF(AND($L$35>=S33,$L$35<S34),T33,0) -> 0 | W33: 1800 | X33: 117 | Y33: 70 | Z33: 39
C34: 3 | D34: 5 | E34: 1.2 | F34: 使用・排出原単位（実績値） | S34: =W34 -> 2000 | T34: =IF($I$9>=30000,Z34,IF($I$9>=10000,Y34,X34)) -> 44 | U34: =IF(AND($L$35>=S34,$L$35<S35),T34,0) -> 0 | W34: 2000 | X34: 78 | Y34: 58 | Z34: 44
F35: 根拠等 | J35: 一次エネルギー(実績値） | M35: MJ/m2・年 | S35: =W35 -> 2200 | T35: =IF($I$9>=30000,Z35,IF($I$9>=10000,Y35,X35)) -> 32 | U35: =IF(AND($L$35>=S35,$L$35<S36),T35,0) -> 0 | W35: 2200 | X35: 53 | Y35: 47 | Z35: 32
J36: 二次エネルギー(*) | M36: kWh/m2・年 | S36: =W36 -> 2400 | T36: =IF($I$9>=30000,Z36,IF($I$9>=10000,Y36,X36)) -> 23 | U36: =IF(AND($L$35>=S36,$L$35<S37),T36,0) -> 0 | W36: 2400 | X36: 37 | Y36: 28 | Z36: 23
J37: GHG排出量(*) | M37: kg-CO2eq/m2・年 | S37: =W37 -> 2600 | T37: =IF($I$9>=30000,Z37,IF($I$9>=10000,Y37,X37)) -> 23 | U37: =IF(AND($L$35>=S37,$L$35<S38),T37,0) -> 0 | W37: 2600 | X37: 25 | Y37: 17 | Z37: 23
D38: 0 | E38: 1.3 | F38: 省エネルギー（仕様評価） | I38: 評価しない | S38: =W38 -> 2800 | T38: =IF($I$9>=30000,Z38,IF($I$9>=10000,Y38,X38)) -> 14 | U38: =IF(AND($L$35>=S38,$L$35<S39),T38,0) -> 0 | W38: 2800 | X38: 21 | Y38: 26 | Z38: 14
F39: 根拠等 | J39: 導入された対策項目数 | M39: 項目 | S39: =W39 -> 3000 | T39: =IF($I$9>=30000,Z39,IF($I$9>=10000,Y39,X39)) -> 5 | U39: =IF(AND($L$35>=S39,$L$35<S40),T39,0) -> 0 | W39: 3000 | X39: 11 | Y39: 8 | Z39: 5
C40: 3 | D40: 5 | E40: 1.4 | F40: 自然エネルギー（間接利用） | S40: =W40 -> 3200 | T40: =IF($I$9>=30000,Z40,IF($I$9>=10000,Y40,X40)) -> 6 | U40: =IF(AND($L$35>=S40,$L$35<S41),T40,0) -> 0 | W40: 3200 | X40: 11 | Y40: 6 | Z40: 6
F41: 根拠等 | J41: 利用率 | M41: % | S41: =W41 -> 3400 | T41: =IF($I$9>=30000,Z41,IF($I$9>=10000,Y41,X41)) -> 12 | U41: =IF(AND($L$35>=S41,$L$35<S42),T41,0) -> 0 | W41: 3400 | X41: 8 | Y41: 7 | Z41: 12
...

Sheet 店舗評価結果
X1: スコア
I2: 【店舗】 | W2: ゴール3 | X2: =IF(建築環境SDGsチェックリスト!$D$3="店舗",建築環境SDGsチェックリスト!H116,"0") -> 0
W3: ゴール4 | X3: =IF(建築環境SDGsチェックリスト!$D$3="店舗",建築環境SDGsチェックリスト!H117,"0") -> 0
W4: ゴール5 | X4: =IF(建築環境SDGsチェックリスト!$D$3="店舗",建築環境SDGsチェックリスト!H118,"0") -> 0
I5: ■使用評価マニュアル： | J5: =オフィス評価結果!J5 -> CASBEE-不動産 2024年版 | M5: =オフィス評価結果!M5 -> v1.21 | P5: 建築環境SDGsチェックリスト評価結果 | W5: ゴール6 | X5: =IF(建築環境SDGsチェックリスト!$D$3="店舗",建築環境SDGsチェックリスト!H119,"0") -> 0
C6: 建物概要 | W6: ゴール7 | X6: =IF(建築環境SDGsチェックリスト!$D$3="店舗",建築環境SDGsチェックリスト!H120,"0") -> 0
C7: 建物名称 | D7: ○○ショッピングセンター | H7: 敷地面積 | I7: ○○○ | J7: m2 | K7: 評価の段階 | L7: 運用段階評価 | S7: 項目 | T7: 充足率 | W7: ゴール8 | X7: =IF(建築環境SDGsチェックリスト!$D$3="店舗",建築環境SDGsチェックリスト!H121,"0") -> 0
C8: 建設地 | D8: ○○県○○市XXXXXX | H8: 建築面積 | I8: ○○○ | J8: m2 | K8: 評価の実施日 | L8: 20XX/XX/XX | S8: =C25 -> １．エネルギー／温暖化ガス | T8: =IF(C42/D42>1,1,C42/D42) -> 0.6 | W8: ゴール9 | X8: =IF(建築環境SDGsチェックリスト!$D$3="店舗",建築環境SDGsチェックリスト!H122,"0") -> 0
C9: 用途地域 | D9: 商業地域、防火地域 | H9: 延床面積（評価対象分） | I9: ○○○ | J9: m2 | K9: 作成者 | L9: ○○○ | S9: =C44 -> ２．水 | T9: =C54/D54 -> 0.6 | W9: ゴール11 | X9: =IF(建築環境SDGsチェックリスト!$D$3="店舗",建築環境SDGsチェックリスト!H123,"0") -> 0
C10: 建物用途 | D10: 店舗 | H10: 階数 | I10: 地上○○F | K10: 不動産評価員番号 | S10: =C56 -> ３．資源利用／安全 | T10: =C82/D82 -> 0.55 | W10: ゴール12 | X10: =IF(建築環境SDGsチェックリスト!$D$3="店舗",建築環境SDGsチェックリスト!H124,"0") -> 0
C11: 竣工年月 | D11: 19XX/XX/XX | H11: 構造 | I11: RC造 | K11: 確認日 | L11: 20XX/XX/XX | S11: =C84 -> ４．生物多様性／敷地 | T11: =C100/D100 -> 0.6 | W11: ゴール13 | X11: =IF(建築環境SDGsチェックリスト!$D$3="店舗",建築環境SDGsチェックリスト!H125,"0") -> 0
C12: 直近の大規模改修実施年月 | F12: なし | H12: 常勤者・来場者 | I12: XXX, XXX | J12: 人 | K12: 確認者 | L12: ○○○ | S12: =C102 -> ５．屋内環境 | T12: =C128/D128 -> 0.9 | W12: ゴール15 | X12: =IF(建築環境SDGsチェックリスト!$D$3="店舗",建築環境SDGsチェックリスト!H126,"0") -> 0
C13: 部分評価の場合の特記事項 | F13: 例）建物全体延床面積○○㎡ | H13: 年間使用日数 | I13: XXX | J13: 日/年 | K13: 不動産評価員番号 | W13: ゴール17 | X13: =IF(建築環境SDGsチェックリスト!$D$3="店舗",建築環境SDGsチェックリスト!H127,"0") -> 0 | Z13: 評価しない
C15: 評価結果 | W15: SDGsRank | X15: =(AVERAGE(X2:X13)-1)*2+1 -> #DIV/0!
S16: 赤星 | T16: 点星 | W16: SDGsRank(Ring) | X16: =IF(X15=1,1,IF(X15<1.5,1,IF(X15<2.5,2,IF(X15<3.5,3,IF(X15<4.5,4,5)))))/5 -> #DIV/0! | Z16: 緑星 | AA16: 点星
C17: =C42+C54+C82+C100+C128 -> 61.75 | D17: /100 | E17: 合計 | I17: ホールライフカーボンの評価 | M17: =IF(Z17=0,Z13,"") -> 評価しない | S17: =IF(C17>=F19,5,IF(C17>=F20,4,IF(C17>=F21,3,IF(C17>=F22,2,0)))) -> 3 | T17: =5-S17 -> 2 | W17: (BlankRing) | X17: =1-X16 -> #DIV/0! | Z17: =C132 -> 0 | AA17: =IF(M17=Z13,0,5-Z17) -> 0
C18: （得点 | D18: / 満点）
C19: S ランク；★★★★★ | E19: ≧ | F19: 78 | S19: 適合
C20: A ランク；★★★★ | E20: ≧ | F20: 66 | S20: 不適合
C21: B+ランク；★★★ | E21: ≧ | F21: 60 | J21: 取組項目数：A1-A5 | K21: =IF(M17=Z13,"",L132) | L21: B1,B3-B5 | M21: =IF(M17=Z13,"",L134)
C22: B ランク；★★ | E22: ≧ | F22: 50 | J22: B6-B7 | K22: =IF(M17=Z13,"",L133) | L22: C1-C4 | M22: =IF(M17=Z13,"",L135)
C23: ポイントは小数点第1位までの表示とする | S23: 延床面積 | T23: =IF($I$9>=30000,Z23,IF($I$9>=10000,Y23,X23)) -> 30,000m2以上 | U23: 評価建物 | W23: 延床面積 | X23: 10,000㎡未満 | Y23: 10,000m2以上30,000m2未満 | Z23: 30,000m2以上
S24: =W24 -> 0 | T24: =IF($I$9>=30000,Z24,IF($I$9>=10000,Y24,X24)) -> 0 | U24: =IF(AND($L$35>=S24,$L$35<S25),T24,0) -> 0 | W24: 0
C25: １．エネルギー／温暖化ガス | S25: =W25 -> 200 | T25: =IF($I$9>=30000,Z25,IF($I$9>=10000,Y25,X25)) -> 0 | U25: =IF(AND($L$35>=S25,$L$35<S26),T25,0) -> 0 | W25: 200
C26: 評価 | D26: 最大加点 | J26: 指標 | K26: (*は参考値) | L26: 評価値 | S26: =W26 -> 400 | T26: =IF($I$9>=30000,Z26,IF($I$9>=10000,Y26,X26)) -> 0 | U26: =IF(AND($L$35>=S26,$L$35<S27),T26,0) -> 0 | W26: 400
E27: 必須項目 | G27: ；省エネルギー基準への適合、目標設定、モニタリング、運用管理体制 | S27: =W27 -> 600 | T27: =IF($I$9>=30000,Z27,IF($I$9>=10000,Y27,X27)) -> 0 | U27: =IF(AND($L$35>=S27,$L$35<S28),T27,0) -> 0 | W27: 600
D28: 加点 1 | F28: 根拠等 | J28: 一次エネルギー(目標値) | M28: MJ/m2・年 | S28: =W28 -> 800 | T28: =IF($I$9>=30000,Z28,IF($I$9>=10000,Y28,X28)) -> 0 | U28: =IF(AND($L$35>=S28,$L$35<S29),T28,0) -> 0 | W28: 800
S29: =W29 -> 1000 | T29: =IF($I$9>=30000,Z29,IF($I$9>=10000,Y29,X29)) -> 0 | U29: =IF(AND($L$35>=S29,$L$35<S30),T29,0) -> 0 | W29: 1000
C30: 15 | D30: 25 | E30: 1.1 | F30: 使用・排出原単位（計算値） | S30: =W30 -> 1200 | T30: =IF($I$9>=30000,Z30,IF($I$9>=10000,Y30,X30)) -> 0 | U30: =IF(AND($L$35>=S30,$L$35<S31),T30,0) -> 0 | W30: 1200
F31: 根拠等 | J31: 一次エネルギー(計画値） | M31: MJ/m2・年 | S31: =W31 -> 1400 | T31: =IF($I$9>=30000,Z31,IF($I$9>=10000,Y31,X31)) -> 0 | U31: =IF(AND($L$35>=S31,$L$35<S32),T31,0) -> 0 | W31: 1400
J32: 二次エネルギー(*) | M32: kWh/m2・年 | S32: =W32 -> 1600 | T32: =IF($I$9>=30000,Z32,IF($I$9>=10000,Y32,X32)) -> 0 | U32: =IF(AND($L$35>=S32,$L$35<S33),T32,0) -> 0 | W32: 1600
J33: GHG排出量(*) | M33: kg-CO2eq/m2・年 | S33: =W33 -> 1800 | T33: =IF($I$9>=30000,Z33,IF($I$9>=10000,Y33,X33)) -> 0 | U33: =IF(AND($L$35>=S33,$L$35<S34),T33,0) -> 0 | W33: 1800
C34: 3 | D34: 5 | E34: 1.2 | F34: 使用・排出原単位（実績値） | S34: =W34 -> 2000 | T34: =IF($I$9>=30000,Z34,IF($I$9>=10000,Y34,X34)) -> 0 | U34: =IF(AND($L$35>=S34,$L$35<S35),T34,0) -> 0 | W34: 2000
F35: 根拠等 | J35: 一次エネルギー(実績値） | M35: MJ/m2・年 | S35: =W35 -> 2200 | T35: =IF($I$9>=30000,Z35,IF($I$9>=10000,Y35,X35)) -> 0 | U35: =IF(AND($L$35>=S35,$L$35<S36),T35,0) -> 0 | W35: 2200
J36: 二次エネルギー(*) | M36: kWh/m2・年 | S36: =W36 -> 2400 | T36: =IF($I$9>=30000,Z36,IF($I$9>=10000,Y36,X36)) -> 0 | U36: =IF(AND($L$35>=S36,$L$35<S37),T36,0) -> 0 | W36: 2400
J37: GHG排出量(*) | M37: kg-CO2eq/m2・年 | S37: =W37 -> 2600 | T37: =IF($I$9>=30000,Z37,IF($I$9>=10000,Y37,X37)) -> 0 | U37: =IF(AND($L$35>=S37,$L$35<S38),T37,0) -> 0 | W37: 2600
D38: 0 | E38: 1.3 | F38: 省エネルギー（仕様評価） | I38: 評価しない | S38: =W38 -> 2800 | T38: =IF($I$9>=30000,Z38,IF($I$9>=10000,Y38,X38)) -> 0 | U38: =IF(AND($L$35>=S38,$L$35<S39),T38,0) -> 0 | W38: 2800
F39: 根拠等 | J39: 導入された対策項目数 | M39: 項目 | S39: =W39 -> 3000 | T39: =IF($I$9>=30000,Z39,IF($I$9>=10000,Y39,X39)) -> 0 | U39: =IF(AND($L$35>=S39,$L$35<S40),T39,0) -> 0 | W39: 3000
C40: 3 | D40: 5 | E40: 1.4 | F40: 自然エネルギー（間接利用） | S40: =W40 -> 3200 | T40: =IF($I$9>=30000,Z40,IF($I$9>=10000,Y40,X40)) -> 0 | U40: =IF(AND($L$35>=S40,$L$35<S41),T40,0) -> 0 | W40: 3200
F41: 根拠等 | J41: 利用率 | M41: % | S41: =W41 -> 3400 | T41: =IF($I$9>=30000,Z41,IF($I$9>=10000,Y41,X41)) -> 0 | U41: =IF(AND($L$35>=S41,$L$35<S42),T41,0) -> 0 | W41: 3400
...

Sheet 物流評価結果
X1: スコア
I2: 【物流施設】 | W2: ゴール3 | X2: =IF(建築環境SDGsチェックリスト!$D$3="物流施設",建築環境SDGsチェックリスト!H116,"0") -> 0
W3: ゴール4 | X3: =IF(建築環境SDGsチェックリスト!$D$3="物流施設",建築環境SDGsチェックリスト!H117,"0") -> 0
W4: ゴール5 | X4: =IF(建築環境SDGsチェックリスト!$D$3="物流施設",建築環境SDGsチェックリスト!H118,"0") -> 0
I5: ■使用評価マニュアル： | J5: =オフィス評価結果!J5 -> CASBEE-不動産 2024年版 | M5: =オフィス評価結果!M5 -> v1.21 | P5: 建築環境SDGsチェックリスト評価結果 | W5: ゴール6 | X5: =IF(建築環境SDGsチェックリスト!$D$3="物流施設",建築環境SDGsチェックリスト!H119,"0") -> 0
C6: 建物概要 | W6: ゴール7 | X6: =IF(建築環境SDGsチェックリスト!$D$3="物流施設",建築環境SDGsチェックリスト!H120,"0") -> 0
C7: 建物名称 | D7: ○○配送センター | H7: 敷地面積 | I7: ○○○ | J7: m2 | K7: 評価の段階 | L7: 運用段階評価 | S7: 項目 | T7: 充足率 | W7: ゴール8 | X7: =IF(建築環境SDGsチェックリスト!$D$3="物流施設",建築環境SDGsチェックリスト!H121,"0") -> 0
C8: 建設地 | D8: ○○県○○市XXXXXX | H8: 建築面積 | I8: ○○○ | J8: m2 | K8: 評価の実施日 | L8: 20XX/XX/XX | S8: =C25 -> １．エネルギー／温暖化ガス | T8: =IF(C42/D42>1,1,C42/D42) -> 0.68571429 | W8: ゴール9 | X8: =IF(建築環境SDGsチェックリスト!$D$3="物流施設",建築環境SDGsチェックリスト!H122,"0") -> 0
C9: 用途地域 | D9: 商業地域、防火地域 | H9: 延床面積（評価対象分） | I9: ○○○ | J9: m2 | K9: 作成者 | L9: ○○○ | S9: =C44 -> ２．水 | T9: =C54/D54 -> 0.6 | W9: ゴール11 | X9: =IF(建築環境SDGsチェックリスト!$D$3="物流施設",建築環境SDGsチェックリスト!H123,"0") -> 0
C10: 建物用途 | D10: 物流施設 | H10: 階数 | I10: 地上○○F | K10: 不動産評価員番号 | S10: =C56 -> ３．資源利用／安全 | T10: =C82/D82 -> 0.5375 | W10: ゴール12 | X10: =IF(建築環境SDGsチェックリスト!$D$3="物流施設",建築環境SDGsチェックリスト!H124,"0") -> 0
C11: 竣工年月 | D11: 19XX/XX/XX | H11: 構造 | I11: RC造 | K11: 確認日 | L11: 20XX/XX/XX | S11: =C84 -> ４．生物多様性／敷地 | T11: =C100/D100 -> 0.6 | W11: ゴール13 | X11: =IF(建築環境SDGsチェックリスト!$D$3="物流施設",建築環境SDGsチェックリスト!H125,"0") -> 0
C12: 直近の大規模改修実施年月 | F12: 20XX/XX/XX | H12: 平均居住人員 | I12: XXX | J12: 人 | K12: 確認者 | L12: ○○○ | S12: =C102 -> ５．屋内環境 | T12: =C128/D128 -> 0.6 | W12: ゴール15 | X12: =IF(建築環境SDGsチェックリスト!$D$3="物流施設",建築環境SDGsチェックリスト!H126,"0") -> 0
C13: 部分評価の場合の特記事項 | F13: 例）建物全体延床面積○○㎡ | H13: 年間使用時間 | I13: XXX | J13: 時間/年 | K13: 不動産評価員番号 | W13: ゴール17 | X13: =IF(建築環境SDGsチェックリスト!$D$3="物流施設",建築環境SDGsチェックリスト!H127,"0") -> 0 | Z13: 評価しない
C15: 評価結果 | W15: SDGsRank | X15: =(AVERAGE(X2:X13)-1)*2+1 -> #DIV/0!
S16: 赤星 | T16: 点星 | W16: SDGsRank(Ring) | X16: =IF(X15=1,1,IF(X15<1.5,1,IF(X15<2.5,2,IF(X15<3.5,3,IF(X15<4.5,4,5)))))/5 -> #DIV/0! | Z16: 緑星 | AA16: 点星
C17: =C42+C54+C82+C100+C128 -> 61.75 | D17: /100 | E17: 合計 | I17: ホールライフカーボンの評価 | M17: =IF(Z17=0,Z13,"") -> 評価しない | S17: =IF(C17>=F19,5,IF(C17>=F20,4,IF(C17>=F21,3,IF(C17>=F22,2,0)))) -> 3 | T17: =5-S17 -> 2 | W17: (BlankRing) | X17: =1-X16 -> #DIV/0! | Z17: =C132 -> 0 | AA17: =IF(M17=Z13,0,5-Z17) -> 0
C18: （得点 | D18: / 満点）
C19: S ランク；★★★★★ | E19: ≧ | F19: 78 | S19: 適合
C20: A ランク；★★★★ | E20: ≧ | F20: 66 | S20: 不適合
C21: B+ランク；★★★ | E21: ≧ | F21: 60 | J21: 取組項目数：A1-A5 | K21: =IF(M17=Z13,"",L132) | L21: B1,B3-B5 | M21: =IF(M17=Z13,"",L134)
C22: B ランク；★★ | E22: ≧ | F22: 50 | J22: B6-B7 | K22: =IF(M17=Z13,"",L133) | L22: C1-C4 | M22: =IF(M17=Z13,"",L135)
C23: ポイントは小数点第1位までの表示とする | S23: 延床面積 | T23: =IF($I$9>=30000,Z23,IF($I$9>=10000,Y23,X23)) -> 30,000m2以上 | U23: 評価建物 | W23: 延床面積 | X23: 10,000㎡未満 | Y23: 10,000m2以上30,000m2未満 | Z23: 30,000m2以上
S24: =W24 -> 0 | T24: =IF($I$9>=30000,Z24,IF($I$9>=10000,Y24,X24)) -> 0 | U24: =IF(AND($L$35>=S24,$L$35<S25),T24,0) -> 0 | W24: 0
C25: １．エネルギー／温暖化ガス | S25: =W25 -> 200 | T25: =IF($I$9>=30000,Z25,IF($I$9>=10000,Y25,X25)) -> 0 | U25: =IF(AND($L$35>=S25,$L$35<S26),T25,0) -> 0 | W25: 200
C26: 評価 | D26: 最大加点 | J26: 指標 | K26: (*は参考値) | L26: 評価値 | S26: =W26 -> 400 | T26: =IF($I$9>=30000,Z26,IF($I$9>=10000,Y26,X26)) -> 0 | U26: =IF(AND($L$35>=S26,$L$35<S27),T26,0) -> 0 | W26: 400
E27: 必須項目 | G27: ；省エネルギー基準への適合、目標設定、モニタリング、運用管理体制 | S27: =W27 -> 600 | T27: =IF($I$9>=30000,Z27,IF($I$9>=10000,Y27,X27)) -> 0 | U27: =IF(AND($L$35>=S27,$L$35<S28),T27,0) -> 0 | W27: 600
D28: 加点 1 | F28: 根拠等 | J28: 一次エネルギー(目標値) | M28: MJ/m2・年 | S28: =W28 -> 800 | T28: =IF($I$9>=30000,Z28,IF($I$9>=10000,Y28,X28)) -> 0 | U28: =IF(AND($L$35>=S28,$L$35<S29),T28,0) -> 0 | W28: 800
S29: =W29 -> 1000 | T29: =IF($I$9>=30000,Z29,IF($I$9>=10000,Y29,X29)) -> 0 | U29: =IF(AND($L$35>=S29,$L$35<S30),T29,0) -> 0 | W29: 1000
C30: 15 | D30: 20 | E30: 1.1 | F30: 使用・排出原単位（計算値） | S30: =W30 -> 1200 | T30: =IF($I$9>=30000,Z30,IF($I$9>=10000,Y30,X30)) -> 0 | U30: =IF(AND($L$35>=S30,$L$35<S31),T30,0) -> 0 | W30: 1200
F31: 根拠等 | J31: 一次エネルギー(計画値） | M31: MJ/m2・年 | S31: =W31 -> 1400 | T31: =IF($I$9>=30000,Z31,IF($I$9>=10000,Y31,X31)) -> 0 | U31: =IF(AND($L$35>=S31,$L$35<S32),T31,0) -> 0 | W31: 1400
J32: 二次エネルギー(*) | M32: kWh/m2・年 | S32: =W32 -> 1600 | T32: =IF($I$9>=30000,Z32,IF($I$9>=10000,Y32,X32)) -> 0 | U32: =IF(AND($L$35>=S32,$L$35<S33),T32,0) -> 0 | W32: 1600
J33: GHG排出量(*) | M33: kg-CO2eq/m2・年 | S33: =W33 -> 1800 | T33: =IF($I$9>=30000,Z33,IF($I$9>=10000,Y33,X33)) -> 0 | U33: =IF(AND($L$35>=S33,$L$35<S34),T33,0) -> 0 | W33: 1800
C34: 3 | D34: 5 | E34: 1.2 | F34: 使用・排出原単位（実績値） | S34: =W34 -> 2000 | T34: =IF($I$9>=30000,Z34,IF($I$9>=10000,Y34,X34)) -> 0 | U34: =IF(AND($L$35>=S34,$L$35<S35),T34,0) -> 0 | W34: 2000
F35: 根拠等 | J35: 水道光熱費 | M35: 円/m2・年 | S35: =W35 -> 2200 | T35: =IF($I$9>=30000,Z35,IF($I$9>=10000,Y35,X35)) -> 0 | U35: =IF(AND($L$35>=S35,$L$35<S36),T35,0) -> 0 | W35: 2200
S36: =W36 -> 2400 | T36: =IF($I$9>=30000,Z36,IF($I$9>=10000,Y36,X36)) -> 0 | U36: =IF(AND($L$35>=S36,$L$35<S37),T36,0) -> 0 | W36: 2400
S37: =W37 -> 2600 | T37: =IF($I$9>=30000,Z37,IF($I$9>=10000,Y37,X37)) -> 0 | U37: =IF(AND($L$35>=S37,$L$35<S38),T37,0) -> 0 | W37: 2600
C38: 3 | D38: 5 | E38: 1.3 | F38: 省エネルギー（仕様評価） | I38: 省エネ計算対象外の倉庫エリア等 | S38: =W38 -> 2800 | T38: =IF($I$9>=30000,Z38,IF($I$9>=10000,Y38,X38)) -> 0 | U38: =IF(AND($L$35>=S38,$L$35<S39),T38,0) -> 0 | W38: 2800
F39: 根拠等 | J39: 導入された対策項目数 | M39: 項目 | S39: =W39 -> 3000 | T39: =IF($I$9>=30000,Z39,IF($I$9>=10000,Y39,X39)) -> 0 | U39: =IF(AND($L$35>=S39,$L$35<S40),T39,0) -> 0 | W39: 3000
C40: 3 | D40: 5 | E40: 1.4 | F40: 自然エネルギー（間接利用） | S40: =W40 -> 3200 | T40: =IF($I$9>=30000,Z40,IF($I$9>=10000,Y40,X40)) -> 0 | U40: =IF(AND($L$35>=S40,$L$35<S41),T40,0) -> 0 | W40: 3200
F41: 根拠等 | J41: 利用率 | M41: % | S41: =W41 -> 3400 | T41: =IF($I$9>=30000,Z41,IF($I$9>=10000,Y41,X41)) -> 0 | U41: =IF(AND($L$35>=S41,$L$35<S42),T41,0) -> 0 | W41: 3400
...

Sheet ホテル評価結果
X1: スコア
I2: 【ホテル】 | P2: 建築環境SDGsチェックリスト評価結果 | W2: ゴール3 | X2: =IF(建築環境SDGsチェックリスト!$D$3="ホテル",建築環境SDGsチェックリスト!H116,"0") -> 0
W3: ゴール4 | X3: =IF(建築環境SDGsチェックリスト!$D$3="ホテル",建築環境SDGsチェックリスト!H117,"0") -> 0
W4: ゴール5 | X4: =IF(建築環境SDGsチェックリスト!$D$3="ホテル",建築環境SDGsチェックリスト!H118,"0") -> 0
I5: ■使用評価マニュアル： | J5: =オフィス評価結果!J5 -> CASBEE-不動産 2024年版 | M5: =オフィス評価結果!M5 -> v1.21 | W5: ゴール6 | X5: =IF(建築環境SDGsチェックリスト!$D$3="ホテル",建築環境SDGsチェックリスト!H119,"0") -> 0
C6: 建物概要 | W6: ゴール7 | X6: =IF(建築環境SDGsチェックリスト!$D$3="ホテル",建築環境SDGsチェックリスト!H120,"0") -> 0
C7: 建物名称 | D7: ○○ホテル | H7: 敷地面積 | I7: ○○○ | J7: m2 | K7: 評価の段階 | L7: 運用段階評価 | S7: 項目 | T7: 充足率 | W7: ゴール8 | X7: =IF(建築環境SDGsチェックリスト!$D$3="ホテル",建築環境SDGsチェックリスト!H121,"0") -> 0
C8: 建設地 | D8: ○○県○○市XXXXXX | H8: 建築面積 | I8: ○○○ | J8: m2 | K8: 評価の実施日 | L8: 20XX/XX/XX | S8: =C25 -> １．エネルギー／温暖化ガス | T8: =IF(C42/D42>1,1,C42/D42) -> 0.74285714 | W8: ゴール9 | X8: =IF(建築環境SDGsチェックリスト!$D$3="ホテル",建築環境SDGsチェックリスト!H122,"0") -> 0
C9: 用途地域 | D9: 商業地域、防火地域 | H9: 延床面積（評価対象分） | I9: ○○○ | J9: m2 | K9: 作成者 | L9: ○○○ | S9: =C44 -> ２．水 | T9: =C54/D54 -> 0.6 | W9: ゴール11 | X9: =IF(建築環境SDGsチェックリスト!$D$3="ホテル",建築環境SDGsチェックリスト!H123,"0") -> 0
C10: 建物用途 | D10: ホテル | H10: 階数 | I10: 地上○○F | K10: 不動産評価員番号 | S10: =C56 -> ３．資源利用／安全 | T10: =C82/D82 -> 0.5375 | W10: ゴール12 | X10: =IF(建築環境SDGsチェックリスト!$D$3="ホテル",建築環境SDGsチェックリスト!H124,"0") -> 0
C11: 竣工年月 | D11: 19XX/XX/XX | H11: 構造 | I11: RC造 | K11: 確認日 | L11: 20XX/XX/XX | S11: =C84 -> ４．生物多様性／敷地 | T11: =C100/D100 -> 0.6 | W11: ゴール13 | X11: =IF(建築環境SDGsチェックリスト!$D$3="ホテル",建築環境SDGsチェックリスト!H125,"0") -> 0
C12: 直近の大規模改修実施年月 | F12: 20XX/XX/XX | H12: 常勤者・宿泊者 | I12: XXX, XXX | J12: 人 | K12: 確認者 | L12: ○○○ | S12: =C102 -> ５．屋内環境 | T12: =C128/D128 -> 0.6 | W12: ゴール15 | X12: =IF(建築環境SDGsチェックリスト!$D$3="ホテル",建築環境SDGsチェックリスト!H126,"0") -> 0
C13: 部分評価の場合の特記事項 | F13: 例）建物全体延床面積○○㎡ | H13: 年間使用日数 | I13: XXX | J13: 日/年 | K13: 不動産評価員番号 | W13: ゴール17 | X13: =IF(建築環境SDGsチェックリスト!$D$3="ホテル",建築環境SDGsチェックリスト!H127,"0") -> 0 | Z13: 評価しない
C15: 評価結果 | W15: SDGsRank | X15: =(AVERAGE(X2:X13)-1)*2+1 -> #DIV/0!
S16: 赤星 | T16: 点星 | W16: SDGsRank(Ring) | X16: =IF(X15=1,1,IF(X15<1.5,1,IF(X15<2.5,2,IF(X15<3.5,3,IF(X15<4.5,4,5)))))/5 -> #DIV/0! | Z16: 緑星 | AA16: 点星
C17: =C42+C54+C82+C100+C128 -> 63.75 | D17: /100 | E17: 合計 | I17: ホールライフカーボンの評価 | M17: =IF(Z17=0,Z13,"") -> 評価しない | S17: =IF(C17>=F19,5,IF(C17>=F20,4,IF(C17>=F21,3,IF(C17>=F22,2,0)))) -> 3 | T17: =5-S17 -> 2 | W17: (BlankRing) | X17: =1-X16 -> #DIV/0! | Z17: =C132 -> 0 | AA17: =IF(M17=Z13,0,5-Z17) -> 0
C18: （得点 | D18: / 満点）
C19: S ランク；★★★★★ | E19: ≧ | F19: 78 | S19: 適合
C20: A ランク；★★★★ | E20: ≧ | F20: 66 | S20: 不適合
C21: B+ランク；★★★ | E21: ≧ | F21: 60 | J21: 取組項目数：A1-A5 | K21: =IF(M17=Z13,"",L132) | L21: B1,B3-B5 | M21: =IF(M17=Z13,"",L134)
C22: B ランク；★★ | E22: ≧ | F22: 50 | J22: B6-B7 | K22: =IF(M17=Z13,"",L133) | L22: C1-C4 | M22: =IF(M17=Z13,"",L135)
C23: ポイントは小数点第1位までの表示とする | S23: 延床面積 | T23: =IF($I$9>=30000,Z23,IF($I$9>=10000,Y23,X23)) -> 30,000m2以上 | U23: 評価建物 | W23: 延床面積 | X23: 10,000㎡未満 | Y23: 10,000m2以上30,000m2未満 | Z23: 30,000m2以上
S24: =W24 -> 0 | T24: =IF($I$9>=30000,Z24,IF($I$9>=10000,Y24,X24)) -> 0 | U24: =IF(AND($L$35>=S24,$L$35<S25),T24,0) -> 0 | W24: 0
C25: １．エネルギー／温暖化ガス | S25: =W25 -> 200 | T25: =IF($I$9>=30000,Z25,IF($I$9>=10000,Y25,X25)) -> 0 | U25: =IF(AND($L$35>=S25,$L$35<S26),T25,0) -> 0 | W25: 200
C26: 評価 | D26: 最大加点 | J26: 指標 | K26: (*は参考値) | L26: 評価値 | S26: =W26 -> 400 | T26: =IF($I$9>=30000,Z26,IF($I$9>=10000,Y26,X26)) -> 0 | U26: =IF(AND($L$35>=S26,$L$35<S27),T26,0) -> 0 | W26: 400
E27: 必須項目 | G27: ；省エネルギー基準への適合、目標設定、モニタリング、運用管理体制 | S27: =W27 -> 600 | T27: =IF($I$9>=30000,Z27,IF($I$9>=10000,Y27,X27)) -> 0 | U27: =IF(AND($L$35>=S27,$L$35<S28),T27,0) -> 0 | W27: 600
D28: 加点 1 | F28: 根拠等 | J28: 一次エネルギー(目標値) | M28: MJ/m2・年 | S28: =W28 -> 800 | T28: =IF($I$9>=30000,Z28,IF($I$9>=10000,Y28,X28)) -> 0 | U28: =IF(AND($L$35>=S28,$L$35<S29),T28,0) -> 0 | W28: 800
S29: =W29 -> 1000 | T29: =IF($I$9>=30000,Z29,IF($I$9>=10000,Y29,X29)) -> 0 | U29: =IF(AND($L$35>=S29,$L$35<S30),T29,0) -> 0 | W29: 1000
C30: 20 | D30: 25 | E30: 1.1 | F30: 使用・排出原単位（計算値） | S30: =W30 -> 1200 | T30: =IF($I$9>=30000,Z30,IF($I$9>=10000,Y30,X30)) -> 0 | U30: =IF(AND($L$35>=S30,$L$35<S31),T30,0) -> 0 | W30: 1200
F31: 根拠等 | J31: 一次エネルギー(計画値） | M31: MJ/m2・年 | S31: =W31 -> 1400 | T31: =IF($I$9>=30000,Z31,IF($I$9>=10000,Y31,X31)) -> 0 | U31: =IF(AND($L$35>=S31,$L$35<S32),T31,0) -> 0 | W31: 1400
J32: 二次エネルギー(*) | M32: kWh/m2・年 | S32: =W32 -> 1600 | T32: =IF($I$9>=30000,Z32,IF($I$9>=10000,Y32,X32)) -> 0 | U32: =IF(AND($L$35>=S32,$L$35<S33),T32,0) -> 0 | W32: 1600
J33: GHG排出量(*) | M33: kg-CO2eq/m2・年 | S33: =W33 -> 1800 | T33: =IF($I$9>=30000,Z33,IF($I$9>=10000,Y33,X33)) -> 0 | U33: =IF(AND($L$35>=S33,$L$35<S34),T33,0) -> 0 | W33: 1800
C34: 3 | D34: 5 | E34: 1.2 | F34: 使用・排出原単位（実績値） | S34: =W34 -> 2000 | T34: =IF($I$9>=30000,Z34,IF($I$9>=10000,Y34,X34)) -> 0 | U34: =IF(AND($L$35>=S34,$L$35<S35),T34,0) -> 0 | W34: 2000
F35: 根拠等 | J35: 一次エネルギー(実績値） | M35: MJ/m2・年 | S35: =W35 -> 2200 | T35: =IF($I$9>=30000,Z35,IF($I$9>=10000,Y35,X35)) -> 0 | U35: =IF(AND($L$35>=S35,$L$35<S36),T35,0) -> 0 | W35: 2200
J36: 二次エネルギー(*) | M36: kWh/m2・年 | S36: =W36 -> 2400 | T36: =IF($I$9>=30000,Z36,IF($I$9>=10000,Y36,X36)) -> 0 | U36: =IF(AND($L$35>=S36,$L$35<S37),T36,0) -> 0 | W36: 2400
J37: GHG排出量(*) | M37: kg-CO2eq/m2・年 | S37: =W37 -> 2600 | T37: =IF($I$9>=30000,Z37,IF($I$9>=10000,Y37,X37)) -> 0 | U37: =IF(AND($L$35>=S37,$L$35<S38),T37,0) -> 0 | W37: 2600
D38: 0 | E38: 1.3 | F38: 省エネルギー（仕様評価） | I38: 評価しない | S38: =W38 -> 2800 | T38: =IF($I$9>=30000,Z38,IF($I$9>=10000,Y38,X38)) -> 0 | U38: =IF(AND($L$35>=S38,$L$35<S39),T38,0) -> 0 | W38: 2800
F39: 根拠等 | J39: 導入された対策項目数 | M39: 項目 | S39: =W39 -> 3000 | T39: =IF($I$9>=30000,Z39,IF($I$9>=10000,Y39,X39)) -> 0 | U39: =IF(AND($L$35>=S39,$L$35<S40),T39,0) -> 0 | W39: 3000
C40: 3 | D40: 5 | E40: 1.4 | F40: 自然エネルギー（間接利用） | S40: =W40 -> 3200 | T40: =IF($I$9>=30000,Z40,IF($I$9>=10000,Y40,X40)) -> 0 | U40: =IF(AND($L$35>=S40,$L$35<S41),T40,0) -> 0 | W40: 3200
F41: 根拠等 | J41: 利用率 | M41: % | S41: =W41 -> 3400 | T41: =IF($I$9>=30000,Z41,IF($I$9>=10000,Y41,X41)) -> 0 | U41: =IF(AND($L$35>=S41,$L$35<S42),T41,0) -> 0 | W41: 3400
...

Sheet 集合住宅評価結果
X1: スコア
I2: 【集合住宅】 | W2: ゴール3 | X2: =IF(建築環境SDGsチェックリスト!$D$3="集合住宅",建築環境SDGsチェックリスト!H116,"0") -> 0
W3: ゴール4 | X3: =IF(建築環境SDGsチェックリスト!$D$3="集合住宅",建築環境SDGsチェックリスト!H117,"0") -> 0
W4: ゴール5 | X4: =IF(建築環境SDGsチェックリスト!$D$3="集合住宅",建築環境SDGsチェックリスト!H118,"0") -> 0
I5: ■使用評価マニュアル： | J5: =オフィス評価結果!J5 -> CASBEE-不動産 2024年版 | M5: =オフィス評価結果!M5 -> v1.21 | P5: 建築環境SDGsチェックリスト評価結果 | W5: ゴール6 | X5: =IF(建築環境SDGsチェックリスト!$D$3="集合住宅",建築環境SDGsチェックリスト!H119,"0") -> 0
C6: 建物概要 | W6: ゴール7 | X6: =IF(建築環境SDGsチェックリスト!$D$3="集合住宅",建築環境SDGsチェックリスト!H120,"0") -> 0
C7: 建物名称 | D7: ○○マンション | H7: 敷地面積 | I7: ○○○ | J7: m2 | K7: 評価の段階 | L7: 運用段階評価 | S7: 項目 | T7: 充足率 | W7: ゴール8 | X7: =IF(建築環境SDGsチェックリスト!$D$3="集合住宅",建築環境SDGsチェックリスト!H121,"0") -> 0
C8: 建設地 | D8: ○○県○○市XXXXXX | H8: 建築面積 | I8: ○○○ | J8: m2 | K8: 評価の実施日 | L8: 20XX/XX/XX | S8: =C25 -> １．エネルギー／温暖化ガス | T8: =IF(C42/D42>1,1,C42/D42) -> 0.76666667 | W8: ゴール9 | X8: =IF(建築環境SDGsチェックリスト!$D$3="集合住宅",建築環境SDGsチェックリスト!H122,"0") -> 0
C9: 用途地域 | D9: 商業地域、防火地域 | H9: 延床面積（評価対象分） | I9: ○○○ | J9: m2 | K9: 作成者 | L9: ○○○ | S9: =C44 -> ２．水 | T9: =C54/D54 -> 0.6 | W9: ゴール11 | X9: =IF(建築環境SDGsチェックリスト!$D$3="集合住宅",建築環境SDGsチェックリスト!H123,"0") -> 0
C10: 建物用途 | D10: 共同住宅 | H10: 階数 | I10: 地上○○F | K10: 不動産評価員番号 | S10: =C56 -> ３．資源利用／安全 | T10: =C82/D82 -> 0.5375 | W10: ゴール12 | X10: =IF(建築環境SDGsチェックリスト!$D$3="集合住宅",建築環境SDGsチェックリスト!H124,"0") -> 0
C11: 竣工年月 | D11: 19XX/XX/XX | H11: 構造 | I11: RC造 | K11: 確認日 | L11: 20XX/XX/XX | S11: =C84 -> ４．生物多様性／敷地 | T11: =C100/D100 -> 0.6 | W11: ゴール13 | X11: =IF(建築環境SDGsチェックリスト!$D$3="集合住宅",建築環境SDGsチェックリスト!H125,"0") -> 0
C12: 直近の大規模改修実施年月 | F12: 20XX/XX/XX | H12: 平均居住人員 | I12: XXX | J12: 人 | K12: 確認者 | L12: ○○○ | S12: =C102 -> ５．屋内環境 | T12: =C128/D128 -> 0.48333333 | W12: ゴール15 | X12: =IF(建築環境SDGsチェックリスト!$D$3="集合住宅",建築環境SDGsチェックリスト!H126,"0") -> 0
C13: 部分評価の場合の特記事項 | F13: 例）建物全体延床面積○○㎡ | H13: 年間使用時間 | I13: XXX | J13: 時間/年 | K13: 不動産評価員番号 | W13: ゴール17 | X13: =IF(建築環境SDGsチェックリスト!$D$3="集合住宅",建築環境SDGsチェックリスト!H127,"0") -> 0 | Z13: 評価しない
C15: 評価結果 | W15: SDGsRank | X15: =(AVERAGE(X2:X13)-1)*2+1 -> #DIV/0!
S16: 赤星 | T16: 点星 | W16: SDGsRank(Ring) | X16: =IF(X15=1,1,IF(X15<1.5,1,IF(X15<2.5,2,IF(X15<3.5,3,IF(X15<4.5,4,5)))))/5 -> #DIV/0! | Z16: 緑星 | AA16: 点星
C17: =C42+C54+C82+C100+C128 -> 61.416667 | D17: /100 | E17: 合計 | I17: ホールライフカーボンの評価 | M17: =IF(Z17=0,Z13,"") -> 評価しない | S17: =IF(C17>=F19,5,IF(C17>=F20,4,IF(C17>=F21,3,IF(C17>=F22,2,0)))) -> 3 | T17: =5-S17 -> 2 | W17: (BlankRing) | X17: =1-X16 -> #DIV/0! | Z17: =C132 -> 0 | AA17: =IF(M17=Z13,0,5-Z17) -> 0
C18: （得点 | D18: / 満点） | W18: 表示有無 | X18: =IF(COUNTIF(建築環境SDGsチェックリスト!$D$2, "*実施する*"), "非表示", "表示") -> 表示
C19: S ランク；★★★★★ | E19: ≧ | F19: 78 | S19: 適合
C20: A ランク；★★★★ | E20: ≧ | F20: 66 | S20: 不適合
C21: B+ランク；★★★ | E21: ≧ | F21: 60 | J21: 取組項目数：A1-A5 | K21: =IF(M17=Z13,"",L132) | L21: B1,B3-B5 | M21: =IF(M17=Z13,"",L134)
C22: B ランク；★★ | E22: ≧ | F22: 50 | J22: B6-B7 | K22: =IF(M17=Z13,"",L133) | L22: C1-C4 | M22: =IF(M17=Z13,"",L135)
C23: ポイントは小数点第1位までの表示とする | S23: 延床面積 | T23: =IF($I$9>=30000,Z23,IF($I$9>=10000,Y23,X23)) -> 30,000m2以上 | U23: 評価建物 | W23: 延床面積 | X23: 10,000㎡未満 | Y23: 10,000m2以上30,000m2未満 | Z23: 30,000m2以上
S24: =W24 -> 0 | T24: =IF($I$9>=30000,Z24,IF($I$9>=10000,Y24,X24)) -> 0 | U24: =IF(AND($L$35>=S24,$L$35<S25),T24,0) -> 0 | W24: 0
C25: １．エネルギー／温暖化ガス | S25: =W25 -> 200 | T25: =IF($I$9>=30000,Z25,IF($I$9>=10000,Y25,X25)) -> 0 | U25: =IF(AND($L$35>=S25,$L$35<S26),T25,0) -> 0 | W25: 200
C26: 評価 | D26: 最大加点 | J26: 指標 | K26: (*は参考値) | L26: 評価値 | S26: =W26 -> 400 | T26: =IF($I$9>=30000,Z26,IF($I$9>=10000,Y26,X26)) -> 0 | U26: =IF(AND($L$35>=S26,$L$35<S27),T26,0) -> 0 | W26: 400
E27: 必須項目 | G27: ；省エネルギー基準への適合、目標設定、モニタリング、運用管理体制 | S27: =W27 -> 600 | T27: =IF($I$9>=30000,Z27,IF($I$9>=10000,Y27,X27)) -> 0 | U27: =IF(AND($L$35>=S27,$L$35<S28),T27,0) -> 0 | W27: 600
D28: 加点 1 | F28: 根拠等 | J28: 一次エネルギー(目標値) | M28: MJ/m2・年 | S28: =W28 -> 800 | T28: =IF($I$9>=30000,Z28,IF($I$9>=10000,Y28,X28)) -> 0 | U28: =IF(AND($L$35>=S28,$L$35<S29),T28,0) -> 0 | W28: 800
S29: =W29 -> 1000 | T29: =IF($I$9>=30000,Z29,IF($I$9>=10000,Y29,X29)) -> 0 | U29: =IF(AND($L$35>=S29,$L$35<S30),T29,0) -> 0 | W29: 1000
C30: 15 | D30: 20 / 15 | E30: 1.1 | F30: 使用・排出原単位（計算値） | S30: =W30 -> 1200 | T30: =IF($I$9>=30000,Z30,IF($I$9>=10000,Y30,X30)) -> 0 | U30: =IF(AND($L$35>=S30,$L$35<S31),T30,0) -> 0 | W30: 1200
F31: 根拠等 | J31: 一次エネルギー(計画値） | M31: MJ/m2・年 | S31: =W31 -> 1400 | T31: =IF($I$9>=30000,Z31,IF($I$9>=10000,Y31,X31)) -> 0 | U31: =IF(AND($L$35>=S31,$L$35<S32),T31,0) -> 0 | W31: 1400
J32: 二次エネルギー(*) | M32: kWh/m2・年 | S32: =W32 -> 1600 | T32: =IF($I$9>=30000,Z32,IF($I$9>=10000,Y32,X32)) -> 0 | U32: =IF(AND($L$35>=S32,$L$35<S33),T32,0) -> 0 | W32: 1600
J33: GHG排出量(*) | M33: kg-CO2eq/m2・年 | S33: =W33 -> 1800 | T33: =IF($I$9>=30000,Z33,IF($I$9>=10000,Y33,X33)) -> 0 | U33: =IF(AND($L$35>=S33,$L$35<S34),T33,0) -> 0 | W33: 1800
C34: 5 | D34: 5 | E34: 1.2 | F34: 使用・排出原単位（実績値） | I34: 共用部の評価 | S34: =W34 -> 2000 | T34: =IF($I$9>=30000,Z34,IF($I$9>=10000,Y34,X34)) -> 0 | U34: =IF(AND($L$35>=S34,$L$35<S35),T34,0) -> 0 | W34: 2000
F35: 根拠等 | J35: 一次エネルギー(実績値） | M35: MJ/m2・年 | S35: =W35 -> 2200 | T35: =IF($I$9>=30000,Z35,IF($I$9>=10000,Y35,X35)) -> 0 | U35: =IF(AND($L$35>=S35,$L$35<S36),T35,0) -> 0 | W35: 2200
J36: 二次エネルギー(*) | M36: kWh/m2・年 | S36: =W36 -> 2400 | T36: =IF($I$9>=30000,Z36,IF($I$9>=10000,Y36,X36)) -> 0 | U36: =IF(AND($L$35>=S36,$L$35<S37),T36,0) -> 0 | W36: 2400
J37: GHG排出量(*) | M37: kg-CO2eq/m2・年 | S37: =W37 -> 2600 | T37: =IF($I$9>=30000,Z37,IF($I$9>=10000,Y37,X37)) -> 0 | U37: =IF(AND($L$35>=S37,$L$35<S38),T37,0) -> 0 | W37: 2600
D38: - / 5 | E38: 1.3 | F38: 省エネルギー（仕様評価） | I38: 専有部の省エネ対策 | S38: =W38 -> 2800 | T38: =IF($I$9>=30000,Z38,IF($I$9>=10000,Y38,X38)) -> 0 | U38: =IF(AND($L$35>=S38,$L$35<S39),T38,0) -> 0 | W38: 2800
F39: 根拠等 | J39: 導入された対策項目数 | M39: 項目 | S39: =W39 -> 3000 | T39: =IF($I$9>=30000,Z39,IF($I$9>=10000,Y39,X39)) -> 0 | U39: =IF(AND($L$35>=S39,$L$35<S40),T39,0) -> 0 | W39: 3000
C40: 3 | D40: 5 | E40: 1.4 | F40: 自然エネルギー（間接利用） | S40: =W40 -> 3200 | T40: =IF($I$9>=30000,Z40,IF($I$9>=10000,Y40,X40)) -> 0 | U40: =IF(AND($L$35>=S40,$L$35<S41),T40,0) -> 0 | W40: 3200
F41: 根拠等 | J41: 利用率 | M41: % | S41: =W41 -> 3400 | T41: =IF($I$9>=30000,Z41,IF($I$9>=10000,Y41,X41)) -> 0 | U41: =IF(AND($L$35>=S41,$L$35<S42),T41,0) -> 0 | W41: 3400
...

Sheet オフィス改修評価結果
X1: スコア
I2: 【オフィス(改修)】 | W2: ゴール3 | X2: =IF(建築環境SDGsチェックリスト!$D$3="オフィス改修",建築環境SDGsチェックリスト!H116,"0") -> 0
P3: 建築環境SDGsチェックリスト評価結果 | W3: ゴール4 | X3: =IF(建築環境SDGsチェックリスト!$D$3="オフィス改修",建築環境SDGsチェックリスト!H117,"0") -> 0
W4: ゴール5 | X4: =IF(建築環境SDGsチェックリスト!$D$3="オフィス改修",建築環境SDGsチェックリスト!H118,"0") -> 0
I5: ■使用評価マニュアル： | J5: =オフィス評価結果!J5 -> CASBEE-不動産 2024年版 | M5: =オフィス評価結果!M5 -> v1.21 | W5: ゴール6 | X5: =IF(建築環境SDGsチェックリスト!$D$3="オフィス改修",建築環境SDGsチェックリスト!H119,"0") -> 0
C6: 建物概要 | W6: ゴール7 | X6: =IF(建築環境SDGsチェックリスト!$D$3="オフィス改修",建築環境SDGsチェックリスト!H120,"0") -> 0
C7: 建物名称 | D7: ○○ビル | H7: 敷地面積 | I7: ○○○ | J7: m2 | K7: 評価の段階 | L7: 改修段階評価 | S7: 項目 | T7: 充足率 | W7: ゴール8 | X7: =IF(建築環境SDGsチェックリスト!$D$3="オフィス改修",建築環境SDGsチェックリスト!H121,"0") -> 0
C8: 建設地 | D8: ○○県○○市XXXXXX | H8: 建築面積 | I8: ○○○ | J8: m2 | K8: 評価の実施日 | L8: 20XX/XX/XX | S8: =C25 -> １．エネルギー／温暖化ガス | T8: =IF(C42/D42>1,1,C42/D42) -> 0.6 | W8: ゴール9 | X8: =IF(建築環境SDGsチェックリスト!$D$3="オフィス改修",建築環境SDGsチェックリスト!H122,"0") -> 0
C9: 用途地域 | D9: 商業地域、防火地域 | H9: 延床面積（評価対象分） | I9: ○○○ | J9: m2 | K9: 作成者 | L9: ○○○ | S9: =C44 -> ２．水 | T9: =C54/D54 -> 0.6 | W9: ゴール11 | X9: =IF(建築環境SDGsチェックリスト!$D$3="オフィス改修",建築環境SDGsチェックリスト!H123,"0") -> 0
C10: 建物用途 | D10: 事務所 | H10: 階数 | I10: 地上○○F | K10: 不動産評価員番号 | S10: =C56 -> ３．資源利用／安全 | T10: =C82/D82 -> 0.5375 | W10: ゴール12 | X10: =IF(建築環境SDGsチェックリスト!$D$3="オフィス改修",建築環境SDGsチェックリスト!H124,"0") -> 0
C11: 竣工年月 | D11: 19XX/XX/XX | H11: 構造 | I11: RC造 | K11: 確認日 | L11: 20XX/XX/XX | S11: =C84 -> ４．生物多様性／敷地 | T11: =C100/D100 -> 0.6 | W11: ゴール13 | X11: =IF(建築環境SDGsチェックリスト!$D$3="オフィス改修",建築環境SDGsチェックリスト!H125,"0") -> 0
C12: 直近の大規模改修実施年月 | F12: 20XX/XX/XX | H12: 平均居住人員 | I12: XXX | J12: 人 | K12: 確認者 | L12: ○○○ | S12: =C102 -> ５．屋内環境 | T12: =C128/D128 -> 0.8 | W12: ゴール15 | X12: =IF(建築環境SDGsチェックリスト!$D$3="オフィス改修",建築環境SDGsチェックリスト!H126,"0") -> 0
C13: 部分評価の場合の特記事項 | F13: 例）建物全体延床面積○○㎡ | H13: 年間使用時間 | I13: XXX | J13: 時間/年 | K13: 不動産評価員番号 | W13: ゴール17 | X13: =IF(建築環境SDGsチェックリスト!$D$3="オフィス改修",建築環境SDGsチェックリスト!H127,"0") -> 0 | Z13: 評価しない
C15: 評価結果 | W15: SDGsRank | X15: =(AVERAGE(X2:X13)-1)*2+1 -> #DIV/0!
S16: 赤星 | T16: 点星 | W16: SDGsRank(Ring) | X16: =IF(X15=1,1,IF(X15<1.5,1,IF(X15<2.5,2,IF(X15<3.5,3,IF(X15<4.5,4,5)))))/5 -> #DIV/0! | Z16: 緑星 | AA16: 点星
C17: =C42+C54+C82+C100+C128 -> 61.75 | D17: /100 | E17: 合計 | I17: ホールライフカーボンの評価 | M17: =IF(Z17=0,Z13,"") -> 評価しない | S17: =IF(C17>=F19,5,IF(C17>=F20,4,IF(C17>=F21,3,IF(C17>=F22,2,0)))) -> 3 | T17: =5-S17 -> 2 | W17: (BlankRing) | X17: =1-X16 -> #DIV/0! | Z17: =C132 -> 0 | AA17: =IF(M17=Z13,0,5-Z17) -> 0
C18: （得点 | D18: / 満点）
C19: S ランク；★★★★★ | E19: ≧ | F19: 78 | S19: 適合
C20: A ランク；★★★★ | E20: ≧ | F20: 66 | S20: 不適合
C21: B+ランク；★★★ | E21: ≧ | F21: 60 | J21: 取組項目数：A1-A5 | K21: =IF(M17=Z13,"",L132) | L21: B1,B3-B5 | M21: =IF(M17=Z13,"",L134)
C22: B ランク；★★ | E22: ≧ | F22: 50 | J22: B6-B7 | K22: =IF(M17=Z13,"",L133) | L22: C1-C4 | M22: =IF(M17=Z13,"",L135) | W22: =オフィス評価結果!W22 -> DECC2019年公開データ【最新データ年度のみ】
C23: ポイントは小数点第1位までの表示とする | S23: 延床面積 | T23: =IF($I$9>=30000,Z23,IF($I$9>=10000,Y23,X23)) -> 30,000m2以上 | U23: 評価建物 | W23: 延床面積 | X23: 10,000㎡未満 | Y23: 10,000m2以上30,000m2未満 | Z23: 30,000m2以上
S24: =W24 -> 0 | T24: =IF($I$9>=30000,Z24,IF($I$9>=10000,Y24,X24)) -> 1 | U24: =IF(AND($L$35>=S24,$L$35<S25),T24,0) -> 1 | W24: =オフィス評価結果!W24 -> 0 | X24: =オフィス評価結果!X24 -> 7 | Y24: =オフィス評価結果!Y24 -> 0 | Z24: =オフィス評価結果!Z24 -> 1
C25: １．エネルギー／温暖化ガス | S25: =W25 -> 200 | T25: =IF($I$9>=30000,Z25,IF($I$9>=10000,Y25,X25)) -> 2 | U25: =IF(AND($L$35>=S25,$L$35<S26),T25,0) -> 0 | W25: =オフィス評価結果!W25 -> 200 | X25: =オフィス評価結果!X25 -> 49 | Y25: =オフィス評価結果!Y25 -> 0 | Z25: =オフィス評価結果!Z25 -> 2
C26: 評価 | D26: 最大加点 | J26: 指標 | K26: (*は参考値) | L26: 評価値 | S26: =W26 -> 400 | T26: =IF($I$9>=30000,Z26,IF($I$9>=10000,Y26,X26)) -> 3 | U26: =IF(AND($L$35>=S26,$L$35<S27),T26,0) -> 0 | W26: =オフィス評価結果!W26 -> 400 | X26: =オフィス評価結果!X26 -> 66 | Y26: =オフィス評価結果!Y26 -> 5 | Z26: =オフィス評価結果!Z26 -> 3
E27: 必須項目 | G27: ；省エネルギー基準への適合、目標設定、モニタリング、運用管理体制 | S27: =W27 -> 600 | T27: =IF($I$9>=30000,Z27,IF($I$9>=10000,Y27,X27)) -> 4 | U27: =IF(AND($L$35>=S27,$L$35<S28),T27,0) -> 0 | W27: =オフィス評価結果!W27 -> 600 | X27: =オフィス評価結果!X27 -> 104 | Y27: =オフィス評価結果!Y27 -> 14 | Z27: =オフィス評価結果!Z27 -> 4
D28: 加点 1 | F28: 根拠等 | J28: 一次エネルギー(目標値) | M28: MJ/m2・年 | S28: =W28 -> 800 | T28: =IF($I$9>=30000,Z28,IF($I$9>=10000,Y28,X28)) -> 8 | U28: =IF(AND($L$35>=S28,$L$35<S29),T28,0) -> 0 | W28: =オフィス評価結果!W28 -> 800 | X28: =オフィス評価結果!X28 -> 194 | Y28: =オフィス評価結果!Y28 -> 28 | Z28: =オフィス評価結果!Z28 -> 8
S29: =W29 -> 1000 | T29: =IF($I$9>=30000,Z29,IF($I$9>=10000,Y29,X29)) -> 9 | U29: =IF(AND($L$35>=S29,$L$35<S30),T29,0) -> 0 | W29: =オフィス評価結果!W29 -> 1000 | X29: =オフィス評価結果!X29 -> 255 | Y29: =オフィス評価結果!Y29 -> 61 | Z29: =オフィス評価結果!Z29 -> 9
C30: 15 | D30: 25 | E30: 1.1 | F30: 使用・排出原単位（計算値） | S30: =W30 -> 1200 | T30: =IF($I$9>=30000,Z30,IF($I$9>=10000,Y30,X30)) -> 22 | U30: =IF(AND($L$35>=S30,$L$35<S31),T30,0) -> 0 | W30: =オフィス評価結果!W30 -> 1200 | X30: =オフィス評価結果!X30 -> 245 | Y30: =オフィス評価結果!Y30 -> 82 | Z30: =オフィス評価結果!Z30 -> 22
F31: 根拠等 | J31: 一次エネルギー(計画値） | M31: MJ/m2・年 | S31: =W31 -> 1400 | T31: =IF($I$9>=30000,Z31,IF($I$9>=10000,Y31,X31)) -> 22 | U31: =IF(AND($L$35>=S31,$L$35<S32),T31,0) -> 0 | W31: =オフィス評価結果!W31 -> 1400 | X31: =オフィス評価結果!X31 -> 225 | Y31: =オフィス評価結果!Y31 -> 101 | Z31: =オフィス評価結果!Z31 -> 22
J32: 二次エネルギー(*) | M32: kWh/m2・年 | S32: =W32 -> 1600 | T32: =IF($I$9>=30000,Z32,IF($I$9>=10000,Y32,X32)) -> 34 | U32: =IF(AND($L$35>=S32,$L$35<S33),T32,0) -> 0 | W32: =オフィス評価結果!W32 -> 1600 | X32: =オフィス評価結果!X32 -> 167 | Y32: =オフィス評価結果!Y32 -> 89 | Z32: =オフィス評価結果!Z32 -> 34
J33: GHG排出量(*) | M33: kg-CO2eq/m2・年 | S33: =W33 -> 1800 | T33: =IF($I$9>=30000,Z33,IF($I$9>=10000,Y33,X33)) -> 39 | U33: =IF(AND($L$35>=S33,$L$35<S34),T33,0) -> 0 | W33: =オフィス評価結果!W33 -> 1800 | X33: =オフィス評価結果!X33 -> 117 | Y33: =オフィス評価結果!Y33 -> 70 | Z33: =オフィス評価結果!Z33 -> 39
C34: 3 | D34: 5 | E34: 1.2 | F34: 使用・排出原単位（実績値） | S34: =W34 -> 2000 | T34: =IF($I$9>=30000,Z34,IF($I$9>=10000,Y34,X34)) -> 44 | U34: =IF(AND($L$35>=S34,$L$35<S35),T34,0) -> 0 | W34: =オフィス評価結果!W34 -> 2000 | X34: =オフィス評価結果!X34 -> 78 | Y34: =オフィス評価結果!Y34 -> 58 | Z34: =オフィス評価結果!Z34 -> 44
F35: 根拠等 | J35: 一次エネルギー(実績値） | M35: MJ/m2・年 | S35: =W35 -> 2200 | T35: =IF($I$9>=30000,Z35,IF($I$9>=10000,Y35,X35)) -> 32 | U35: =IF(AND($L$35>=S35,$L$35<S36),T35,0) -> 0 | W35: =オフィス評価結果!W35 -> 2200 | X35: =オフィス評価結果!X35 -> 53 | Y35: =オフィス評価結果!Y35 -> 47 | Z35: =オフィス評価結果!Z35 -> 32
J36: 二次エネルギー(*) | M36: kWh/m2・年 | S36: =W36 -> 2400 | T36: =IF($I$9>=30000,Z36,IF($I$9>=10000,Y36,X36)) -> 23 | U36: =IF(AND($L$35>=S36,$L$35<S37),T36,0) -> 0 | W36: =オフィス評価結果!W36 -> 2400 | X36: =オフィス評価結果!X36 -> 37 | Y36: =オフィス評価結果!Y36 -> 28 | Z36: =オフィス評価結果!Z36 -> 23
J37: GHG排出量(*) | M37: kg-CO2eq/m2・年 | S37: =W37 -> 2600 | T37: =IF($I$9>=30000,Z37,IF($I$9>=10000,Y37,X37)) -> 23 | U37: =IF(AND($L$35>=S37,$L$35<S38),T37,0) -> 0 | W37: =オフィス評価結果!W37 -> 2600 | X37: =オフィス評価結果!X37 -> 25 | Y37: =オフィス評価結果!Y37 -> 17 | Z37: =オフィス評価結果!Z37 -> 23
D38: 0 | E38: 1.3 | F38: 省エネルギー（仕様評価） | I38: 評価しない | S38: =W38 -> 2800 | T38: =IF($I$9>=30000,Z38,IF($I$9>=10000,Y38,X38)) -> 14 | U38: =IF(AND($L$35>=S38,$L$35<S39),T38,0) -> 0 | W38: =オフィス評価結果!W38 -> 2800 | X38: =オフィス評価結果!X38 -> 21 | Y38: =オフィス評価結果!Y38 -> 26 | Z38: =オフィス評価結果!Z38 -> 14
F39: 根拠等 | J39: 導入された対策項目数 | M39: 項目 | S39: =W39 -> 3000 | T39: =IF($I$9>=30000,Z39,IF($I$9>=10000,Y39,X39)) -> 5 | U39: =IF(AND($L$35>=S39,$L$35<S40),T39,0) -> 0 | W39: =オフィス評価結果!W39 -> 3000 | X39: =オフィス評価結果!X39 -> 11 | Y39: =オフィス評価結果!Y39 -> 8 | Z39: =オフィス評価結果!Z39 -> 5
C40: 3 | D40: 5 | E40: 1.4 | F40: 自然エネルギー（間接利用） | S40: =W40 -> 3200 | T40: =IF($I$9>=30000,Z40,IF($I$9>=10000,Y40,X40)) -> 6 | U40: =IF(AND($L$35>=S40,$L$35<S41),T40,0) -> 0 | W40: =オフィス評価結果!W40 -> 3200 | X40: =オフィス評価結果!X40 -> 11 | Y40: =オフィス評価結果!Y40 -> 6 | Z40: =オフィス評価結果!Z40 -> 6
F41: 根拠等 | J41: 利用率 | M41: % | S41: =W41 -> 3400 | T41: =IF($I$9>=30000,Z41,IF($I$9>=10000,Y41,X41)) -> 12 | U41: =IF(AND($L$35>=S41,$L$35<S42),T41,0) -> 0 | W41: =オフィス評価結果!W41 -> 3400 | X41: =オフィス評価結果!X41 -> 8 | Y41: =オフィス評価結果!Y41 -> 7 | Z41: =オフィス評価結果!Z41 -> 12
...

Sheet 店舗改修評価結果
X1: スコア
I2: 【店舗(改修)】 | W2: ゴール3 | X2: =IF(建築環境SDGsチェックリスト!$D$3="店舗改修",建築環境SDGsチェックリスト!H116,"0") -> 0
W3: ゴール4 | X3: =IF(建築環境SDGsチェックリスト!$D$3="店舗改修",建築環境SDGsチェックリスト!H117,"0") -> 0
W4: ゴール5 | X4: =IF(建築環境SDGsチェックリスト!$D$3="店舗改修",建築環境SDGsチェックリスト!H118,"0") -> 0
I5: ■使用評価マニュアル： | J5: =オフィス評価結果!J5 -> CASBEE-不動産 2024年版 | M5: =オフィス評価結果!M5 -> v1.21 | P5: 建築環境SDGsチェックリスト評価結果 | W5: ゴール6 | X5: =IF(建築環境SDGsチェックリスト!$D$3="店舗改修",建築環境SDGsチェックリスト!H119,"0") -> 0
C6: 建物概要 | W6: ゴール7 | X6: =IF(建築環境SDGsチェックリスト!$D$3="店舗改修",建築環境SDGsチェックリスト!H120,"0") -> 0
C7: 建物名称 | D7: ○○ショッピングセンター | H7: 敷地面積 | I7: ○○○ | J7: m2 | K7: 評価の段階 | L7: 改修段階評価 | S7: 項目 | T7: 充足率 | W7: ゴール8 | X7: =IF(建築環境SDGsチェックリスト!$D$3="店舗改修",建築環境SDGsチェックリスト!H121,"0") -> 0
C8: 建設地 | D8: ○○県○○市XXXXXX | H8: 建築面積 | I8: ○○○ | J8: m2 | K8: 評価の実施日 | L8: 20XX/XX/XX | S8: =C25 -> １．エネルギー／温暖化ガス | T8: =IF(C42/D42>1,1,C42/D42) -> 0.6 | W8: ゴール9 | X8: =IF(建築環境SDGsチェックリスト!$D$3="店舗改修",建築環境SDGsチェックリスト!H122,"0") -> 0
C9: 用途地域 | D9: 商業地域、防火地域 | H9: 延床面積（評価対象分） | I9: ○○○ | J9: m2 | K9: 作成者 | L9: ○○○ | S9: =C44 -> ２．水 | T9: =C54/D54 -> 0.7 | W9: ゴール11 | X9: =IF(建築環境SDGsチェックリスト!$D$3="店舗改修",建築環境SDGsチェックリスト!H123,"0") -> 0
C10: 建物用途 | D10: 店舗 | H10: 階数 | I10: 地上○○F | K10: 不動産評価員番号 | S10: =C56 -> ３．資源利用／安全 | T10: =C82/D82 -> 0.55 | W10: ゴール12 | X10: =IF(建築環境SDGsチェックリスト!$D$3="店舗改修",建築環境SDGsチェックリスト!H124,"0") -> 0
C11: 竣工年月 | D11: 19XX/XX/XX | H11: 構造 | I11: RC造 | K11: 確認日 | L11: 20XX/XX/XX | S11: =C84 -> ４．生物多様性／敷地 | T11: =C100/D100 -> 0.6 | W11: ゴール13 | X11: =IF(建築環境SDGsチェックリスト!$D$3="店舗改修",建築環境SDGsチェックリスト!H125,"0") -> 0
C12: 直近の大規模改修実施年月 | F12: なし | H12: 常勤者・来場者 | I12: XXX | J12: 人 | K12: 確認者 | L12: ○○○ | S12: =C102 -> ５．屋内環境 | T12: =C128/D128 -> 1.1 | W12: ゴール15 | X12: =IF(建築環境SDGsチェックリスト!$D$3="店舗改修",建築環境SDGsチェックリスト!H126,"0") -> 0
C13: 部分評価の場合の特記事項 | F13: 例）建物全体延床面積○○㎡ | H13: 年間使用日数 | I13: XXX | J13: 日/年 | K13: 不動産評価員番号 | W13: ゴール17 | X13: =IF(建築環境SDGsチェックリスト!$D$3="店舗改修",建築環境SDGsチェックリスト!H127,"0") -> 0 | Z13: 評価しない
C15: 評価結果 | W15: SDGsRank | X15: =(AVERAGE(X2:X13)-1)*2+1 -> #DIV/0!
S16: 赤星 | T16: 点星 | W16: SDGsRank(Ring) | X16: =IF(X15=1,1,IF(X15<1.5,1,IF(X15<2.5,2,IF(X15<3.5,3,IF(X15<4.5,4,5)))))/5 -> #DIV/0! | Z16: 緑星 | AA16: 点星
C17: =C42+C54+C82+C100+C128 -> 64.75 | D17: /100 | E17: 合計 | I17: ホールライフカーボンの評価 | M17: =IF(Z17=0,Z13,"") -> 評価しない | S17: =IF(C17>=F19,5,IF(C17>=F20,4,IF(C17>=F21,3,IF(C17>=F22,2,0)))) -> 3 | T17: =5-S17 -> 2 | W17: (BlankRing) | X17: =1-X16 -> #DIV/0! | Z17: =C132 -> 0 | AA17: =IF(M17=Z13,0,5-Z17) -> 0
C18: （得点 | D18: / 満点）
C19: S ランク；★★★★★ | E19: ≧ | F19: 78 | S19: 適合
C20: A ランク；★★★★ | E20: ≧ | F20: 66 | S20: 不適合
C21: B+ランク；★★★ | E21: ≧ | F21: 60 | J21: 取組項目数：A1-A5 | K21: =IF(M17=Z13,"",L132) | L21: B1,B3-B5 | M21: =IF(M17=Z13,"",L134)
C22: B ランク；★★ | E22: ≧ | F22: 50 | J22: B6-B7 | K22: =IF(M17=Z13,"",L133) | L22: C1-C4 | M22: =IF(M17=Z13,"",L135)
C23: ポイントは小数点第1位までの表示とする | S23: 延床面積 | T23: =IF($I$9>=30000,Z23,IF($I$9>=10000,Y23,X23)) -> 30,000m2以上 | U23: 評価建物 | W23: 延床面積 | X23: 10,000㎡未満 | Y23: 10,000m2以上30,000m2未満 | Z23: 30,000m2以上
S24: =W24 -> 0 | T24: =IF($I$9>=30000,Z24,IF($I$9>=10000,Y24,X24)) -> 0 | U24: =IF(AND($L$35>=S24,$L$35<S25),T24,0) -> 0 | W24: 0
C25: １．エネルギー／温暖化ガス | S25: =W25 -> 200 | T25: =IF($I$9>=30000,Z25,IF($I$9>=10000,Y25,X25)) -> 0 | U25: =IF(AND($L$35>=S25,$L$35<S26),T25,0) -> 0 | W25: 200
C26: 評価 | D26: 最大加点 | J26: 指標 | K26: (*は参考値) | L26: 評価値 | S26: =W26 -> 400 | T26: =IF($I$9>=30000,Z26,IF($I$9>=10000,Y26,X26)) -> 0 | U26: =IF(AND($L$35>=S26,$L$35<S27),T26,0) -> 0 | W26: 400
E27: 必須項目 | G27: ；省エネルギー基準への適合、目標設定、モニタリング、運用管理体制 | S27: =W27 -> 600 | T27: =IF($I$9>=30000,Z27,IF($I$9>=10000,Y27,X27)) -> 0 | U27: =IF(AND($L$35>=S27,$L$35<S28),T27,0) -> 0 | W27: 600
D28: 加点 1 | F28: 根拠等 | J28: 一次エネルギー(目標値) | M28: MJ/m2・年 | S28: =W28 -> 800 | T28: =IF($I$9>=30000,Z28,IF($I$9>=10000,Y28,X28)) -> 0 | U28: =IF(AND($L$35>=S28,$L$35<S29),T28,0) -> 0 | W28: 800
S29: =W29 -> 1000 | T29: =IF($I$9>=30000,Z29,IF($I$9>=10000,Y29,X29)) -> 0 | U29: =IF(AND($L$35>=S29,$L$35<S30),T29,0) -> 0 | W29: 1000
C30: 15 | D30: 25 | E30: 1.1 | F30: 使用・排出原単位（計算値） | S30: =W30 -> 1200 | T30: =IF($I$9>=30000,Z30,IF($I$9>=10000,Y30,X30)) -> 0 | U30: =IF(AND($L$35>=S30,$L$35<S31),T30,0) -> 0 | W30: 1200
F31: 根拠等 | J31: 一次エネルギー(計画値） | M31: MJ/m2・年 | S31: =W31 -> 1400 | T31: =IF($I$9>=30000,Z31,IF($I$9>=10000,Y31,X31)) -> 0 | U31: =IF(AND($L$35>=S31,$L$35<S32),T31,0) -> 0 | W31: 1400
J32: 二次エネルギー(*) | M32: kWh/m2・年 | S32: =W32 -> 1600 | T32: =IF($I$9>=30000,Z32,IF($I$9>=10000,Y32,X32)) -> 0 | U32: =IF(AND($L$35>=S32,$L$35<S33),T32,0) -> 0 | W32: 1600
J33: GHG排出量(*) | M33: kg-CO2eq/m2・年 | S33: =W33 -> 1800 | T33: =IF($I$9>=30000,Z33,IF($I$9>=10000,Y33,X33)) -> 0 | U33: =IF(AND($L$35>=S33,$L$35<S34),T33,0) -> 0 | W33: 1800
C34: 3 | D34: 5 | E34: 1.2 | F34: 使用・排出原単位（実績値） | S34: =W34 -> 2000 | T34: =IF($I$9>=30000,Z34,IF($I$9>=10000,Y34,X34)) -> 0 | U34: =IF(AND($L$35>=S34,$L$35<S35),T34,0) -> 0 | W34: 2000
F35: 根拠等 | J35: 一次エネルギー(実績値） | M35: MJ/m2・年 | S35: =W35 -> 2200 | T35: =IF($I$9>=30000,Z35,IF($I$9>=10000,Y35,X35)) -> 0 | U35: =IF(AND($L$35>=S35,$L$35<S36),T35,0) -> 0 | W35: 2200
J36: 二次エネルギー(*) | M36: kWh/m2・年 | S36: =W36 -> 2400 | T36: =IF($I$9>=30000,Z36,IF($I$9>=10000,Y36,X36)) -> 0 | U36: =IF(AND($L$35>=S36,$L$35<S37),T36,0) -> 0 | W36: 2400
J37: GHG排出量(*) | M37: kg-CO2eq/m2・年 | S37: =W37 -> 2600 | T37: =IF($I$9>=30000,Z37,IF($I$9>=10000,Y37,X37)) -> 0 | U37: =IF(AND($L$35>=S37,$L$35<S38),T37,0) -> 0 | W37: 2600
D38: 0 | E38: 1.3 | F38: 省エネルギー（仕様評価） | I38: 評価しない | S38: =W38 -> 2800 | T38: =IF($I$9>=30000,Z38,IF($I$9>=10000,Y38,X38)) -> 0 | U38: =IF(AND($L$35>=S38,$L$35<S39),T38,0) -> 0 | W38: 2800
F39: 根拠等 | J39: 導入された対策項目数 | M39: 項目 | S39: =W39 -> 3000 | T39: =IF($I$9>=30000,Z39,IF($I$9>=10000,Y39,X39)) -> 0 | U39: =IF(AND($L$35>=S39,$L$35<S40),T39,0) -> 0 | W39: 3000
C40: 3 | D40: 5 | E40: 1.4 | F40: 自然エネルギー（間接利用） | S40: =W40 -> 3200 | T40: =IF($I$9>=30000,Z40,IF($I$9>=10000,Y40,X40)) -> 0 | U40: =IF(AND($L$35>=S40,$L$35<S41),T40,0) -> 0 | W40: 3200
F41: 根拠等 | J41: 利用率 | M41: % | S41: =W41 -> 3400 | T41: =IF($I$9>=30000,Z41,IF($I$9>=10000,Y41,X41)) -> 0 | U41: =IF(AND($L$35>=S41,$L$35<S42),T41,0) -> 0 | W41: 3400
...

Sheet SDGs結果表示
A1: =IF(建築環境SDGsチェックリスト!$D$2="実施しない","非表示","表示") -> 非表示

Sheet 建築環境SDGsチェックリスト
A1: 建築環境SDGs(不動産)チェックリスト | AH1: 20210413
C2: 本評価の実施有無 | D2: 実施しない | E2: ←SDGs評価を選択しない場合の選択 | AG2: 緑セル：2025062 遠藤修正 | AH2: 吉澤・高井
C3: 本評価で対象とする用途 | E3: ←評価する建物の用途の入力(プルダウンメニュー) | I3: =オフィス評価結果!J5 -> CASBEE-不動産 2024年版 | K3: =オフィス評価結果!M5 -> v1.21 | AE3: チェックリスト項目 | AH3: [ ]：オフィス改修、店舗改修の基準
P4: 得点欄 | AE4: チェックリストに加点チェック等の追加が必要な項目
A5: SDGsの ゴール/ ターゲット | B5: 全体 通し 番号 | C5: ゴール内 通し 番号 | D5: チェック項目 | E5: 取組内容 | F5: 取り組んで いない | G5: 取り組んでいる | H5: 積極的に取り組んでいる | I5: 特筆事項 | J5: 加点 要素 | K5: 得点 | P5: オフィス | Q5: 店舗 | R5: 物流施設 | S5: ホテル | T5: 集合住宅 | U5: オフィス改修 | V5: 店舗改修 | AD5: オフィス | AE5: 店舗 | AF5: 物流施設 | AG5: ホテル | AH5: 集合住宅
P6: =IF($D$3=P5,"〇","") | Q6: =IF($D$3=Q5,"〇","") | R6: =IF($D$3=R5,"〇","") | S6: =IF($D$3=S5,"〇","") | T6: =IF($D$3=T5,"〇","") | U6: =IF($D$3=U5,"〇","") | V6: =IF($D$3=V5,"〇","")
A7: ゴール 1. 貧困を なくそう | B7: ゴール1の内容はゴール12 等に集約されています
A8: ゴール 2. 飢餓をゼロに | B8: ゴール2の内容はゴール12 等に集約されています
A9: ゴール 3. すべての人に健康と福祉を | B9: 1 | C9: 3-1 | D9: 快適な室温を確保する | E9: 建築物衛生管理基準に準拠して室温を管理している | K9: =IF($P$6="〇",P9,IF($Q$6="〇",Q9,IF($R$6="〇",R9,IF($S$6="〇",S9,IF($T$6="〇",T9,IF($U$6="〇",U9,IF($V$6="〇",V9,""))))))) | P9: =IF(オフィス評価結果!$C$104="適合",3,1) -> 1 | Q9: =IF(店舗評価結果!$C$104="適合",3,1) -> 1 | R9: =IF(物流評価結果!$C$104="適合",3,1) -> 1 | S9: =IF(ホテル評価結果!$C$104="適合",3,1) -> 1 | T9: =IF(集合住宅評価結果!$C$104="適合",3,1) -> 1 | U9: =IF(オフィス改修評価結果!$C$104="適合",3,1) -> 1 | V9: =IF(店舗改修評価結果!$C$104="適合",3,1) -> 1 | AD9: 5. 屋内環境(必須項目) ①または②に適合→+2 | AE9: 5. 屋内環境(必須項目) ①または②に適合→+2 | AF9: 5. 屋内環境(必須項目) ①または②に適合→+2 | AG9: =AD9 -> 5. 屋内環境(必須項目) ①または②に適合→+2 | AH9: 5. 屋内環境(必須項目) ①または③に適合→+2
B10: 2 | C10: 3-2 | D10: 適切な換気対策をする | E10: 建築物衛生管理基準に準拠して室内の浮遊粉じん、一酸化炭素、二酸化炭素を管理している | K10: =IF($P$6="〇",P10,IF($Q$6="〇",Q10,IF($R$6="〇",R10,IF($S$6="〇",S10,IF($T$6="〇",T10,IF($U$6="〇",U10,IF($V$6="〇",V10,""))))))) | P10: =IF(オフィス評価結果!$C$104="適合",3,1) -> 1 | Q10: =IF(店舗評価結果!$C$104="適合",3,1) -> 1 | R10: =IF(物流評価結果!$C$104="適合",3,1) -> 1 | S10: =IF(ホテル評価結果!$C$104="適合",3,1) -> 1 | T10: =IF(集合住宅評価結果!$C$113>=3,3,IF(集合住宅評価結果!$C$113>=2,2,1)) -> 1 | U10: =IF(オフィス改修評価結果!$C$104="適合",3,1) -> 1 | V10: =IF(店舗改修評価結果!$C$104="適合",3,1) -> 1 | AD10: 5屋内環境【必須】 ①または②に適合→+2 | AE10: 5屋内環境【必須】 ①または②に適合→+2 | AF10: 5屋内環境【必須】 ①または②に適合→+2 | AG10: =AD10 -> 5屋内環境【必須】 ①または②に適合→+2 | AH10: 5.1.2通風・排熱 レベル2→＋1、レベル3→+2
B11: 3 | C11: 3-3 | D11: 適切な湿度管理をする | E11: 建築物衛生管理基準に準拠して相対湿度を管理している | K11: =IF($P$6="〇",P11,IF($Q$6="〇",Q11,IF($R$6="〇",R11,IF($S$6="〇",S11,IF($T$6="〇",T11,IF($U$6="〇",U11,IF($V$6="〇",V11,""))))))) | P11: =IF(オフィス評価結果!$C$104="適合",3,1) -> 1 | Q11: =IF(店舗評価結果!$C$104="適合",3,1) -> 1 | R11: =IF(物流評価結果!$C$104="適合",3,1) -> 1 | S11: =IF(ホテル評価結果!$C$104="適合",3,1) -> 1 | T11: =IF(集合住宅評価結果!$C$104="適合",3,1) -> 1 | U11: =IF(オフィス改修評価結果!$C$104="適合",3,1) -> 1 | V11: =IF(店舗改修評価結果!$C$104="適合",3,1) -> 1 | AD11: 5屋内環境【必須】 ①または②に適合→+2 | AE11: 5屋内環境【必須】 ①または②に適合→+2 | AF11: 5屋内環境【必須】 ①または②に適合→+2 | AG11: =AD11 -> 5屋内環境【必須】 ①または②に適合→+2 | AH11: 5. 屋内環境(必須項目) ①または③に適合→+2
B12: 4 | C12: 3-4 | D12: 室内の空気質について対策する | E12: 建築物衛生管理基準に準拠してホルムアルデヒドを管理している | K12: =IF($P$6="〇",P12,IF($Q$6="〇",Q12,IF($R$6="〇",R12,IF($S$6="〇",S12,IF($T$6="〇",T12,IF($U$6="〇",U12,IF($V$6="〇",V12,""))))))) | P12: =IF(オフィス評価結果!$C$104="適合",3,1) -> 1 | Q12: =IF(店舗評価結果!$C$104="適合",3,1) -> 1 | R12: =IF(物流評価結果!$C$104="適合",3,1) -> 1 | S12: =IF(ホテル評価結果!$C$104="適合",3,1) -> 1 | T12: =IF(集合住宅評価結果!C122>=2,3,1) -> 1 | U12: =IF(オフィス改修評価結果!$C$104="適合",3,1) -> 1 | V12: =IF(店舗改修評価結果!$C$104="適合",3,1) -> 1 | AD12: 5屋内環境【必須】 ①または②に適合→+2 | AE12: 5屋内環境【必須】 ①または②に適合→+2 | AF12: 5屋内環境【必須】 ①または②に適合→+2 | AG12: =AD12 -> 5屋内環境【必須】 ①または②に適合→+2 | AH12: 5.2.3化学汚染物質対策・適切換気 レベル2→＋2
B13: 5 | C13: 3-5 | D13: 禁煙に関して配慮をする | E13: 禁煙または喫煙ブースの設置等、非喫煙者が煙に曝されないような工夫をしている | I13: （加点する場合には特筆事項を記入） | K13: =IF($P$6="〇",P13,IF($Q$6="〇",Q13,IF($R$6="〇",R13,IF($S$6="〇",S13,IF($T$6="〇",T13,IF($U$6="〇",U13,IF($V$6="〇",V13,""))))))) | M13: 1 | N13: FALSE | O13: =IF(N13=FALSE,IF(M13=1,1,3),IF(M13=1,2,3)) -> 1 | P13: =$O$13 -> 1 | Q13: =$O$13 -> 1 | R13: =$O$13 -> 1 | S13: =$O$13 -> 1 | T13: 対象外 | U13: =$O$13 -> 1 | V13: =$O$13 -> 1 | AD13: チェックリスト項目 | AE13: チェックリスト項目 | AF13: チェックリスト項目 | AG13: =AD13 -> チェックリスト項目 | AH13: （対象外）
B14: 6 | C14: 3-6 | D14: 水回りの衛生を維持する | E14: 水回りの衛生維持に取り組んでいる 〇排水口等の清掃の手順書やマニュアルを用意 〇衛生器具等の汚れ清掃の手順書やマニュアルを用意 | I14: 3.4.3維持管理 I-8)水回りの衛生、又はII-7)水回りの衛生に該当する場合には、加点要素にチェック | K14: =IF($P$6="〇",P14,IF($Q$6="〇",Q14,IF($R$6="〇",R14,IF($S$6="〇",S14,IF($T$6="〇",T14,IF($U$6="〇",U14,IF($V$6="〇",V14,""))))))) | N14: FALSE | P14: =IF(オフィス評価結果!$C$78>=3,1,0)+IF($N$14=TRUE,1,0)+1 -> 1 | Q14: =IF(店舗評価結果!$C$78>=3,1,0)+IF($N$14=TRUE,1,0)+1 -> 1 | R14: =IF(物流評価結果!$C$78>=3,1,0)+IF($N$14=TRUE,1,0)+1 -> 1 | S14: =IF(ホテル評価結果!$C$78>=3,1,0)+IF($N$14=TRUE,1,0)+1 -> 1 | T14: =IF(集合住宅評価結果!$C$78>=3,1,0)+IF($N$14=TRUE,1,0)+1 -> 1 | U14: =IF(オフィス改修評価結果!$C$78>=3,1,0)+IF($N$14=TRUE,1,0)+1 -> 1 | V14: =IF(店舗改修評価結果!$C$78>=3,1,0)+IF($N$14=TRUE,1,0)+1 -> 1 | AD14: 3.4.3維持管理 レベル３以上→＋１ 評価する取組み、施設清掃の取組み点： 水回りの衛生（排水口、衛生器具の清掃）で加点を考慮するように修正、Ⅱ建築物衛生法以外も同様 →取組みがある場合＋1加点 | AE14: 3.4.3維持管理 レベル３以上→＋１ 評価する取組み、施設清掃の取組み点： 水回りの衛生（排水口、衛生器具の清掃）で加点を考慮するように修正、Ⅱ建築物衛生法以外も同様 →取組みがある場合＋1加点 | AF14: 3.4.3維持管理 レベル３以上→＋１ 評価する取組み、施設清掃の取組み点： 水回りの衛生（排水口、衛生器具の清掃）で加点を考慮するように修正、Ⅱ建築物衛生法以外も同様 →取組みがある場合＋1加点 | AG14: =AD14 -> 3.4.3維持管理 レベル３以上→＋１ 評価する取組み、施設清掃の取組み点： 水回りの衛生（排水口、衛生器具の清掃）で加点を考慮するように修正、Ⅱ建築物衛生法以外も同様 →取組みがある場合＋1加点 | AH14: 3.4.3維持管理 レベル３以上→＋１ 評価する取組み、施設清掃の取組み点： 水回りの衛生（排水口、衛生器具の清掃）で加点を考慮するように修正、Ⅱ建築物衛生法以外も同様（集合住宅では共用部のみ評価対象） →取組みがある場合＋1加点
B15: 7 | C15: 3-7 | D15: 室内の明るさを高める | E15: 自然採光の開口部を積極的に計画し、昼光利用設備を備えている。 | K15: =IF($P$6="〇",P15,IF($Q$6="〇",Q15,IF($R$6="〇",R15,IF($S$6="〇",S15,IF($T$6="〇",T15,IF($U$6="〇",U15,IF($V$6="〇",V15,""))))))) | P15: =IF(オフィス評価結果!$C$108>=4,1,0)+IF(オフィス評価結果!$C$110>=4,1,0)+1 -> 1 | Q15: =IF(店舗評価結果!$C$108>=4,1,0)+IF(店舗評価結果!$C$110>=4,1,0)+1 -> 1 | R15: =IF(物流評価結果!$C$108>=4,1,0)+IF(物流評価結果!$C$110>=4,1,0)+1 -> 1 | S15: =IF(ホテル評価結果!$C$108>=4,1,0)+IF(ホテル評価結果!$C$110>=4,1,0)+1 -> 1 | T15: =IF(集合住宅評価結果!$C$109>=2,1,0)+IF(集合住宅評価結果!$C$111>=3,1,0)+1 -> 2 | U15: =IF(オフィス改修評価結果!$C$108>=2,1,0)+IF(オフィス改修評価結果!$C$110>=2,1,0)+1 -> 3 | V15: =IF(店舗改修評価結果!$C$108>=3,1,0)+IF(店舗改修評価結果!$C$110>=3,1,0)+1 -> 3 | AD15: 5.1.1自然採光がレベル4[Lv2]以上→+1 5.1.2昼光利用設備がレベル4[Lv2]以上→+1 | AE15: 5.1.1自然採光がレベル4[Lv3]以上→+1 5.1.2昼光利用設備がレベル4[Lv3]以上→+1 | AF15: 5.1.1自然採光がレベル4以上→+1 5.1.2昼光利用設備がレベル4以上→+1 | AG15: 5.1.1自然採光がレベル4以上→+1 5.1.2昼光利用設備がレベル4以上→+1 | AH15: 5.1.1.1自然採光 レベル2以上→＋1 5.1.1.2昼光利用設備 レベル３→+１
B16: 8 | C16: 3-8 | D16: 遮音性能を確保する | E16: 床に遮音対策を講じ、かつ界壁遮音対策を講じている。 | K16: =IF($P$6="〇",P16,IF($Q$6="〇",Q16,IF($R$6="〇",R16,IF($S$6="〇",S16,IF($T$6="〇",T16,IF($U$6="〇",U16,IF($V$6="〇",V16,""))))))) | P16: 対象外 | Q16: 対象外 | R16: 対象外 | S16: 対象外 | T16: =IF(集合住宅評価結果!C124>=2,3,1) -> 1 | U16: 対象外 | V16: 対象外 | AD16: （対象外） | AE16: （対象外） | AF16: （対象外） | AG16: =AD16 -> （対象外） | AH16: 5.2.4騒音・遮音 レベル2→+2
B17: 9 | C17: 3-9 | D17: 防犯対策を施す | E17: 以下のことを行っている。 ○エントランスにセキュリティシステムを設置 ○ITVカメラ監視 ○日中には常駐監視 ○夜間はセキュリティ会社に警報が配信 | K17: =IF($P$6="〇",P17,IF($Q$6="〇",Q17,IF($R$6="〇",R17,IF($S$6="〇",S17,IF($T$6="〇",T17,IF($U$6="〇",U17,IF($V$6="〇",V17,""))))))) | P17: 対象外 | Q17: 対象外 | R17: 対象外 | S17: 対象外 | T17: =MIN(3,IF(集合住宅評価結果!C126>=3,3,IF(集合住宅評価結果!C126>=2,2,1))) -> 1 | U17: 対象外 | V17: 対象外 | AD17: （対象外） | AE17: （対象外） | AF17: （対象外） | AG17: =AD17 -> （対象外） | AH17: 5.3.3防犯対策（3点満点） レベル2→+1 レベル3→+2
B18: 10 | C18: 3-10 | D18: バリアフリー対策を施す | E18: 建築物移動等円滑化基準を満たした上で、全ての人が不自由なく建築物を利用することができる工夫をしている | K18: =IF($P$6="〇",P18,IF($Q$6="〇",Q18,IF($R$6="〇",R18,IF($S$6="〇",S18,IF($T$6="〇",T18,IF($U$6="〇",U18,IF($V$6="〇",V18,""))))))) | P18: =IF(オフィス評価結果!$C$80>=4,3,IF(オフィス評価結果!$C$80>=2,2,1)) -> 2 | Q18: =IF(店舗評価結果!$C$80>=4,3,IF(店舗評価結果!$C$80>=2,2,1)) -> 2 | R18: =IF(物流評価結果!$C$80>=4,3,IF(物流評価結果!$C$80>=2,2,1)) -> 2 | S18: =IF(ホテル評価結果!$C$80>=4,3,IF(ホテル評価結果!$C$80>=2,2,1)) -> 2 | T18: =IF(集合住宅評価結果!$C$80>=4,3,IF(集合住宅評価結果!$C$80>=2,2,1)) -> 2 | U18: =IF(オフィス改修評価結果!$C$80>=4,3,IF(オフィス改修評価結果!$C$80>=2,2,1)) -> 2 | V18: =IF(店舗改修評価結果!$C$80>=4,3,IF(店舗改修評価結果!$C$80>=2,2,1)) -> 2 | AD18: 3.4.4バリアフリー計画 レベル2,3で→＋１、レベル4,5で→＋2 | AE18: 3.4.4バリアフリー計画 レベル2,3で→＋１、レベル4,5で→＋2 | AF18: 3.4.4バリアフリー計画 レベル2,3で→＋１、レベル4,5で→＋2 | AG18: =AD18 -> 3.4.4バリアフリー計画 レベル2,3で→＋１、レベル4,5で→＋2 | AH18: 3.4.4バリアフリー計画 レベル2,3で→＋１、レベル4,5で→＋2
A19: ゴール 4. 質の高い教育をみんなに | B19: 11 | C19: 4-1 | D19: 家庭の学習スペースを整える | E19: 以下の取組みに取り組んでいない（該当項目なし）、取り組んでいる（該当項目1つ）、積極的に取り組んでいる（該当項目2つ以上） 〇集合住宅の住戸において、独立した学習スペースがある 〇集合住宅の住戸において、共用スペースの中に学習スペース・学習コーナーを配置している 〇集合住宅の住戸において、家族のステージ変化に合わせて活用できる学習スペースの工夫がある 〇集合住宅の共用部に学習スペース・学習コーナーがある | K19: =IF($P$6="〇",P19,IF($Q$6="〇",Q19,IF($R$6="〇",R19,IF($S$6="〇",S19,IF($T$6="〇",T19,IF($U$6="〇",U19,IF($V$6="〇",V19,""))))))) | M19: 1 | P19: 対象外 | Q19: 対象外 | R19: 対象外 | S19: 対象外 | T19: =$M$19 -> 1 | U19: 対象外 | V19: 対象外 | AD19: （対象外） | AE19: （対象外） | AF19: （対象外） | AG19: =AD19 -> （対象外） | AH19: チェックリスト項目
B20: 12 | C20: 4-2 | D20: 快適な室温を確保する | E20: 建築物衛生管理基準に準拠して室温を管理している | K20: =IF($P$6="〇",P20,IF($Q$6="〇",Q20,IF($R$6="〇",R20,IF($S$6="〇",S20,IF($T$6="〇",T20,IF($U$6="〇",U20,IF($V$6="〇",V20,""))))))) | P20: =IF(オフィス評価結果!$C$104="適合",3,1) -> 1 | Q20: =IF(店舗評価結果!$C$104="適合",3,1) -> 1 | R20: =IF(物流評価結果!$C$104="適合",3,1) -> 1 | S20: =IF(ホテル評価結果!$C$104="適合",3,1) -> 1 | T20: =IF(集合住宅評価結果!$C$104="適合",3,1) -> 1 | U20: =IF(オフィス改修評価結果!$C$104="適合",3,1) -> 1 | V20: =IF(店舗改修評価結果!$C$104="適合",3,1) -> 1 | AD20: 5屋内環境【必須】 ①または②に適合→+2 | AE20: 5屋内環境【必須】 ①または②に適合→+2 | AF20: 5屋内環境【必須】 ①または②に適合→+2 | AG20: =AD20 -> 5屋内環境【必須】 ①または②に適合→+2 | AH20: 5. 屋内環境(必須項目) ①または③に適合→+2
B21: 13 | C21: 4-3 | D21: 適切な換気対策をする | E21: 建築物衛生管理基準に準拠して室内の浮遊粉じん、一酸化炭素、二酸化炭素を管理している | K21: =IF($P$6="〇",P21,IF($Q$6="〇",Q21,IF($R$6="〇",R21,IF($S$6="〇",S21,IF($T$6="〇",T21,IF($U$6="〇",U21,IF($V$6="〇",V21,""))))))) | P21: =IF(オフィス評価結果!$C$104="適合",3,1) -> 1 | Q21: =IF(店舗評価結果!$C$104="適合",3,1) -> 1 | R21: =IF(物流評価結果!$C$104="適合",3,1) -> 1 | S21: =IF(ホテル評価結果!$C$104="適合",3,1) -> 1 | T21: =IF(集合住宅評価結果!$C$113>=2,3,1) -> 1 | U21: =IF(オフィス改修評価結果!$C$104="適合",3,1) -> 1 | V21: =IF(店舗改修評価結果!$C$104="適合",3,1) -> 1 | AD21: 5屋内環境【必須】 ①または②に適合→+2 | AE21: 5屋内環境【必須】 ①または②に適合→+2 | AF21: 5屋内環境【必須】 ①または②に適合→+2 | AG21: =AD21 -> 5屋内環境【必須】 ①または②に適合→+2 | AH21: 5.1.2通風・排熱 レベル2以上→＋2
B22: 14 | C22: 4-4 | D22: 室内の空気質について対策する | E22: 建築物衛生管理基準に準拠してホルムアルデヒドを管理している | K22: =IF($P$6="〇",P22,IF($Q$6="〇",Q22,IF($R$6="〇",R22,IF($S$6="〇",S22,IF($T$6="〇",T22,IF($U$6="〇",U22,IF($V$6="〇",V22,""))))))) | P22: =IF(オフィス評価結果!$C$104="適合",3,1) -> 1 | Q22: =IF(店舗評価結果!$C$104="適合",3,1) -> 1 | R22: =IF(物流評価結果!$C$104="適合",3,1) -> 1 | S22: =IF(ホテル評価結果!$C$104="適合",3,1) -> 1 | T22: =IF(集合住宅評価結果!C122>=2,3,1) -> 1 | U22: =IF(オフィス改修評価結果!$C$104="適合",3,1) -> 1 | V22: =IF(店舗改修評価結果!$C$104="適合",3,1) -> 1 | AD22: 5屋内環境【必須】 ①または②に適合→+2 | AE22: 5屋内環境【必須】 ①または②に適合→+2 | AF22: 5屋内環境【必須】 ①または②に適合→+2 | AG22: =AD22 -> 5屋内環境【必須】 ①または②に適合→+2 | AH22: 5.2.3化学汚染物質対策・適切換気 レベル2以上→＋2
B23: 15 | C23: 4-5 | D23: 遮音性能を確保する | E23: 床に遮音対策を講じ、かつ界壁遮音対策を講じている。 | K23: =IF($P$6="〇",P23,IF($Q$6="〇",Q23,IF($R$6="〇",R23,IF($S$6="〇",S23,IF($T$6="〇",T23,IF($U$6="〇",U23,IF($V$6="〇",V23,""))))))) | P23: 対象外 | Q23: 対象外 | R23: 対象外 | S23: 対象外 | T23: =IF(集合住宅評価結果!C124>=2,3,1) -> 1 | U23: 対象外 | V23: 対象外 | AD23: （対象外） | AE23: （対象外） | AF23: （対象外） | AG23: =AD23 -> （対象外） | AH23: 5.2.4騒音・遮音 レベル2→+2
B24: 16 | C24: 4-6 | D24: すべての人が学習を受けられる環境を整える | E24: 以下の取組に取り組んでいる（該当項目2つ）、部分的に取り組んでいる（該当項目1つ）、取り組んでいない（該当項目0） ○入居者への建物の省エネ状況や取組みの通知 ○来館者、入居者への建物の省エネ状況や取組みの表示 | K24: =IF($P$6="〇",P24,IF($Q$6="〇",Q24,IF($R$6="〇",R24,IF($S$6="〇",S24,IF($T$6="〇",T24,IF($U$6="〇",U24,IF($V$6="〇",V24,""))))))) | M24: 1 | P24: =$M$24 -> 1 | Q24: =$M$24 -> 1 | R24: =$M$24 -> 1 | S24: =$M$24 -> 1 | T24: =$M$24 -> 1 | U24: =$M$24 -> 1 | V24: =$M$24 -> 1 | AD24: チェックリスト項目 | AE24: チェックリスト項目 | AF24: チェックリスト項目 | AG24: =AD24 -> チェックリスト項目 | AH24: チェックリスト項目 | AI24: 高井修正
B25: 17 | C25: 4-7 | D25: 維持管理における管理者への教育 | E25: 館内の環境に関する管理者への職業教育を整備をしている | I25: 館内の環境に関する管理者への職業教育を整備している場合には、加点要素にチェック | K25: =IF($P$6="〇",P25,IF($Q$6="〇",Q25,IF($R$6="〇",R25,IF($S$6="〇",S25,IF($T$6="〇",T25,IF($U$6="〇",U25,IF($V$6="〇",V25,""))))))) | N25: FALSE | P25: =IF($N$25=TRUE,3,1) -> 1 | Q25: =IF($N$25=TRUE,3,1) -> 1 | R25: =IF($N$25=TRUE,3,1) -> 1 | S25: =IF($N$25=TRUE,3,1) -> 1 | T25: =IF($N$25=TRUE,3,1) -> 1 | U25: =IF($N$25=TRUE,3,1) -> 1 | V25: =IF($N$25=TRUE,3,1) -> 1 | AD25: 3.4.3維持管理 取組み6)業務員への環境等の教育あり→+2 | AE25: 3.4.3維持管理 取組み6)業務員への環境等の教育あり→+2 | AF25: 3.4.3維持管理 取組み6)業務員への環境等の教育あり→+2 | AG25: =AD25 -> 3.4.3維持管理 取組み6)業務員への環境等の教育あり→+2 | AH25: 3.4.3維持管理 取組み6)業務員への環境等の教育あり→+2
A26: ゴール 5. ジェンダー 平等を実現 しよう | B26: 18 | C26: 5-1 | D26: 家事負担を軽減する 子育て・介護等の負担を軽減する | E26: 以下の取組みに取り組んでいない（該当項目なし）、取り組んでいる（該当項目1つ）、積極的に取り組んでいる（該当項目2つ以上） 1) 家事負担の軽減・キッチン等の複数人で家事を行いやすい空間計画（複数の家事動線、複数人作 業への対応）・洗濯干し導線をコンパクトにする工夫（隣接している、同一フロア等） 2) 子育て負担の軽減・乳幼児の事故・けが等に配慮した建具等・乳幼児に目の届きやすい空間の配慮 3) 介護負担の軽減・介護時の移動の容易性への配慮（トイレ、リビング、お出かけ、庭）（建具の有効幅 3枚引戸 段差処理の工夫、介護対応改修への備え）・介護者が介添えできる空間確保（トイレ、浴室、ベッド回り等） | K26: =IF($P$6="〇",P26,IF($Q$6="〇",Q26,IF($R$6="〇",R26,IF($S$6="〇",S26,IF($T$6="〇",T26,IF($U$6="〇",U26,IF($V$6="〇",V26,""))))))) | M26: 1 | P26: 対象外 | Q26: 対象外 | R26: 対象外 | S26: 対象外 | T26: =$M$26 -> 1 | U26: 対象外 | V26: 対象外 | AD26: （対象外） | AE26: （対象外） | AF26: （対象外） | AG26: =AD26 -> （対象外） | AH26: チェックリスト項目 | AI26: 高井修正
