Workbook
Name SDGsグラフ: INDIRECT(#REF!)
Name SDGsグラフ: INDIRECT(#REF!)
Name シティホテル: INDIRECT([1]SDGs結果表示!$A$1)
Name リゾートホテル: INDIRECT([2]SDGs結果表示!$A$1)
Name 案1: #REF!
Name 案1: #REF!
Name 案2: #REF!
Name 案2: #REF!
Name 案3: #REF!
Name 案3: #REF!
Name 図形: INDIRECT(#REF!)
Name 図形: INDIRECT(SDGs結果表示!$A$1)
Name 非表示: #REF!
Name 非表示: SDGs結果表示!$B$4
Name 表示: #REF!
Name 表示: SDGs結果表示!$C$4

Sheet オフィス評価結果
X1: スコア
I2: 【オフィス】 | P2: 建築環境SDGsチェックリスト評価結果 | W2: ゴール3 | X2: =IF(建築環境SDGsチェックリスト!$D$3="オフィス",建築環境SDGsチェックリスト!H116,"0") -> 0
W3: ゴール4 | X3: =IF(建築環境SDGsチェックリスト!$D$3="オフィス",建築環境SDGsチェックリスト!H117,"0") -> 0
W4: ゴール5 | X4: =IF(建築環境SDGsチェックリスト!$D$3="オフィス",建築環境SDGsチェックリスト!H118,"0") -> 0
I5: ■使用評価マニュアル： | J5: CASBEE-不動産 2024年版 | M5: v1.21 | W5: ゴール6 | X5: =IF(建築環境SDGsチェックリスト!$D$3="オフィス",建築環境SDGsチェックリスト!H119,"0") -> 0
C6: 建物概要 | W6: ゴール7 | X6: =IF(建築環境SDGsチェックリスト!$D$3="オフィス",建築環境SDGsチェックリスト!H120,"0") -> 0
C7: 建物名称 | D7: ○○ビル | H7: 敷地面積 | I7: ○○○ | J7: m2 | K7: 評価の段階 | L7: 運用段階評価 | S7: 項目 | T7: 充足率 | W7: ゴール8 | X7: =IF(建築環境SDGsチェックリスト!$D$3="オフィス",建築環境SDGsチェックリスト!H121,"0") -> 0
C8: 建設地 | D8: ○○県○○市XXXXXX | H8: 建築面積 | I8: ○○○ | J8: m2 | K8: 評価の実施日 | L8: 20XX/XX/XX | S8: =C25 -> １．エネルギー／温暖化ガス | T8: =IF(C42/D42>1,1,C42/D42) -> 0.6 | W8: ゴール9 | X8: =IF(建築環境SDGsチェックリスト!$D$3="オフィス",建築環境SDGsチェックリスト!H122,"0") -> 0
C9: 用途地域 | D9: 商業地域、防火地域 | H9: 延床面積（評価対象分） | I9: ○○○ | J9: m2 | K9: 作成者 | L9: ○○○ | S9: =C44 -> ２．水 | T9: =C54/D54 -> 0.6 | W9: ゴール11 | X9: =IF(建築環境SDGsチェックリスト!$D$3="オフィス",建築環境SDGsチェックリスト!H123,"0") -> 0
C10: 建物用途 | D10: 事務所 | H10: 階数 | I10: 地上○○F | K10: 不動産評価員番号 | S10: =C56 -> ３．資源利用／安全 | T10: =C82/D82 -> 0.5375 | W10: ゴール12 | X10: =IF(建築環境SDGsチェックリスト!$D$3="オフィス",建築環境SDGsチェックリスト!H124,"0") -> 0
C11: 竣工年月 | D11: 19XX/XX/XX | H11: 構造 | I11: RC造 | K11: 確認日 | L11: 20XX/XX/XX | S11: =C84 -> ４．生物多様性／敷地 | T11: =C100/D100 -> 0.6 | W11: ゴール13 | X11: =IF(建築環境SDGsチェックリスト!$D$3="オフィス",建築環境SDGsチェックリスト!H125,"0") -> 0
C12: 直近の大規模改修実施年月 | F12: 20XX/XX/XX | H12: 平均居住人員 | I12: XXX | J12: 人 | K12: 確認者 | L12: ○○○ | S12: =C102 -> ５．屋内環境 | T12: =C128/D128 -> 0.6 | W12: ゴール15 | X12: =IF(建築環境SDGsチェックリスト!$D$3="オフィス",建築環境SDGsチェックリスト!H126,"0") -> 0
C13: 部分評価の場合の特記事項 | F13: 例）建物全体延床面積○○㎡ | H13: 年間使用時間 | I13: XXX | J13: 時間/年 | K13: 不動産評価員番号 | W13: ゴール17 | X13: =IF(建築環境SDGsチェックリスト!$D$3="オフィス",建築環境SDGsチェックリスト!H127,"0") -> 0 | Z13: 評価しない
C15: 評価結果 | W15: SDGsRank | X15: =(AVERAGE(X2:X13)-1)*2+1 -> #DIV/0!
S16: 赤星 | T16: 点星 | W16: SDGsRank(Ring) | X16: =IF(X15=1,1,IF(X15<1.5,1,IF(X15<2.5,2,IF(X15<3.5,3,IF(X15<4.5,4,5)))))/5 -> #DIV/0! | Z16: 緑星 | AA16: 点星
C17: =C42+C54+C82+C100+C128 -> 58.75 | D17: /100 | E17: 合計 | I17: ホールライフカーボンの評価 | M17: =IF(Z17=0,Z13,"") -> 評価しない | S17: =IF(C17>=F19,5,IF(C17>=F20,4,IF(C17>=F21,3,IF(C17>=F22,2,0)))) -> 2 | T17: =5-S17 -> 3 | W17: (BlankRing) | X17: =1-X16 -> #DIV/0! | Z17: =C132 -> 0 | AA17: =IF(M17=Z13,0,5-Z17) -> 0
C18: （得点 | D18: / 満点）
C19: S ランク；★★★★★ | E19: ≧ | F19: 78 | S19: 適合
C20: A ランク；★★★★ | E20: ≧ | F20: 66 | S20: 不適合
C21: B+ランク；★★★ | E21: ≧ | F21: 60 | J21: 取組項目数：A1-A5 | K21: =IF(M17=Z13,"",L132) | L21: B1,B3-B5 | M21: =IF(M17=Z13,"",L134)
C22: B ランク；★★ | E22: ≧ | F22: 50 | J22: B6-B7 | K22: =IF(M17=Z13,"",L133) | L22: C1-C4 | M22: =IF(M17=Z13,"",L135) | W22: DECC2019年公開データ【最新データ年度のみ】
C23: ポイントは小数点第1位までの表示とする | S23: 延床面積 | T23: =IF($I$9>=30000,Z23,IF($I$9>=10000,Y23,X23)) -> 30,000m2以上 | U23: 評価建物 | W23: 延床面積 | X23: 10,000㎡未満 | Y23: 10,000m2以上30,000m2未満 | Z23: 30,000m2以上
S24: =W24 -> 0 | T24: =IF($I$9>=30000,Z24,IF($I$9>=10000,Y24,X24)) -> 1 | U24: =IF(AND($L$35>=S24,$L$35<S25),T24,0) -> 1 | W24: 0 | X24: 7 | Y24: 0 | Z24: 1
C25: １．エネルギー／温暖化ガス | S25: =W25 -> 200 | T25: =IF($I$9>=30000,Z25,IF($I$9>=10000,Y25,X25)) -> 2 | U25: =IF(AND($L$35>=S25,$L$35<S26),T25,0) -> 0 | W25: 200 | X25: 49 | Y25: 0 | Z25: 2
C26: 評価 | D26: 最大加点 | J26: 指標 | K26: (*は参考値) | L26: 評価値 | S26: =W26 -> 400 | T26: =IF($I$9>=30000,Z26,IF($I$9>=10000,Y26,X26)) -> 3 | U26: =IF(AND($L$35>=S26,$L$35<S27),T26,0) -> 0 | W26: 400 | X26: 66 | Y26: 5 | Z26: 3
E27: 必須項目 | G27: ；省エネルギー基準への適合、目標設定、モニタリング、運用管理体制 | S27: =W27 -> 600 | T27: =IF($I$9>=30000,Z27,IF($I$9>=10000,Y27,X27)) -> 4 | U27: =IF(AND($L$35>=S27,$L$35<S28),T27,0) -> 0 | W27: 600 | X27: 104 | Y27: 14 | Z27: 4
D28: 加点 1 | F28: 根拠等 | J28: 一次エネルギー(目標値) | M28: MJ/m2・年 | S28: =W28 -> 800 | T28: =IF($I$9>=30000,Z28,IF($I$9>=10000,Y28,X28)) -> 8 | U28: =IF(AND($L$35>=S28,$L$35<S29),T28,0) -> 0 | W28: 800 | X28: 194 | Y28: 28 | Z28: 8
S29: =W29 -> 1000 | T29: =IF($I$9>=30000,Z29,IF($I$9>=10000,Y29,X29)) -> 9 | U29: =IF(AND($L$35>=S29,$L$35<S30),T29,0) -> 0 | W29: 1000 | X29: 255 | Y29: 61 | Z29: 9
C30: 15 | D30: 25 | E30: 1.1 | F30: 使用・排出原単位（計算値） | S30: =W30 -> 1200 | T30: =IF($I$9>=30000,Z30,IF($I$9>=10000,Y30,X30)) -> 22 | U30: =IF(AND($L$35>=S30,$L$35<S31),T30,0) -> 0 | W30: 1200 | X30: 245 | Y30: 82 | Z30: 22
F31: 根拠等 | J31: 一次エネルギー(計画値） | M31: MJ/m2・年 | S31: =W31 -> 1400 | T31: =IF($I$9>=30000,Z31,IF($I$9>=10000,Y31,X31)) -> 22 | U31: =IF(AND($L$35>=S31,$L$35<S32),T31,0) -> 0 | W31: 1400 | X31: 225 | Y31: 101 | Z31: 22
J32: 二次エネルギー(*) | M32: kWh/m2・年 | S32: =W32 -> 1600 | T32: =IF($I$9>=30000,Z32,IF($I$9>=10000,Y32,X32)) -> 34 | U32: =IF(AND($L$35>=S32,$L$35<S33),T32,0) -> 0 | W32: 1600 | X32: 167 | Y32: 89 | Z32: 34
J33: GHG排出量(*) | M33: kg-CO2eq/m2・年 | S33: =W33 -> 1800 | T33: =IF($I$9>=30000,Z33,IF($I$9>=10000,Y33,X33)) -> 39 | U33: =IF(AND($L$35>=S33,$L$35<S34),T33,0) -> 0 | W33: 1800 | X33: 117 | Y33: 70 | Z33: 39
C34: 3 | D34: 5 | E34: 1.2 | F34: 使用・排出原単位（実績値） | S34: =W34 -> 2000 | T34: =IF($I$9>=30000,Z34,IF($I$9>=10000,Y34,X34)) -> 44 | U34: =IF(AND($L$35>=S34,$L$35<S35),T34,0) -> 0 | W34: 2000 | X34: 78 | Y34: 58 | Z34: 44
F35: 根拠等 | J35: 一次エネルギー(実績値） | M35: MJ/m2・年 | S35: =W35 -> 2200 | T35: =IF($I$9>=30000,Z35,IF($I$9>=10000,Y35,X35)) -> 32 | U35: =IF(AND($L$35>=S35,$L$35<S36),T35,0) -> 0 | W35: 2200 | X35: 53 | Y35: 47 | Z35: 32
J36: 二次エネルギー(*) | M36: kWh/m2・年 | S36: =W36 -> 2400 | T36: =IF($I$9>=30000,Z36,IF($I$9>=10000,Y36,X36)) -> 23 | U36: =IF(AND($L$35>=S36,$L$35<S37),T36,0) -> 0 | W36: 2400 | X36: 37 | Y36: 28 | Z36: 23
J37: GHG排出量(*) | M37: kg-CO2eq/m2・年 | S37: =W37 -> 2600 | T37: =IF($I$9>=30000,Z37,IF($I$9>=10000,Y37,X37)) -> 23 | U37: =IF(AND($L$35>=S37,$L$35<S38),T37,0) -> 0 | W37: 2600 | X37: 25 | Y37: 17 | Z37: 23
D38: 0 | E38: 1.3 | F38: 省エネルギー（仕様評価） | I38: 評価しない | S38: =W38 -> 2800 | T38: =IF($I$9>=30000,Z38,IF($I$9>=10000,Y38,X38)) -> 14 | U38: =IF(AND($L$35>=S38,$L$35<S39),T38,0) -> 0 | W38: 2800 | X38: 21 | Y38: 26 | Z38: 14
F39: 根拠等 | J39: 導入された対策項目数 | M39: 項目 | S39: =W39 -> 3000 | T39: =IF($I$9>=30000,Z39,IF($I$9>=10000,Y39,X39)) -> 5 | U39: =IF(AND($L$35>=S39,$L$35<S40),T39,0) -> 0 | W39: 3000 | X39: 11 | Y39: 8 | Z39: 5
C40: 3 | D40: 5 | E40: 1.4 | F40: 自然エネルギー（間接利用） | S40: =W40 -> 3200 | T40: =IF($I$9>=30000,Z40,IF($I$9>=10000,Y40,X40)) -> 6 | U40: =IF(AND($L$35>=S40,$L$35<S41),T40,0) -> 0 | W40: 3200 | X40: 11 | Y40: 6 | Z40: 6
F41: 根拠等 | J41: 利用率 | M41: % | S41: =W41 -> 3400 | T41: =IF($I$9>=30000,Z41,IF($I$9>=10000,Y41,X41)) -> 12 | U41: =IF(AND($L$35>=S41,$L$35<S42),T41,0) -> 0 | W41: 3400 | X41: 8 | Y41: 7 | Z41: 12
C42: =C28+C30+C34+C38+C40 -> 21 | D42: =D30+D34+D38+D40 -> 35 | E42: 合計 | S42: =W42 -> 3600 | T42: =IF($I$9>=30000,Z42,IF($I$9>=10000,Y42,X42)) -> 3 | U42: =IF(AND($L$35>=S42,$L$35<S43),T42,0) -> 0 | W42: 3600 | X42: 9 | Y42: 4 | Z42: 3
S43: =W43 -> 3800 | T43: =IF($I$9>=30000,Z43,IF($I$9>=10000,Y43,X43)) -> 5 | U43: =IF(AND($L$35>=S43,$L$35<S44),T43,0) -> 0 | W43: 3800 | X43: 5 | Y43: 5 | Z43: 5
C44: ２．水 | S44: =W44 -> 4000 | T44: =IF($I$9>=30000,Z44,IF($I$9>=10000,Y44,X44)) -> 4 | U44: =IF(AND($L$35>=S44,$L$35<S45),T44,0) -> 0 | W44: 4000 | X44: 6 | Y44: 5 | Z44: 4
C45: 評価 | D45: 最大加点 | J45: 指標 | L45: 評価値 | S45: =W45 -> 4200 | T45: =IF($I$9>=30000,Z45,IF($I$9>=10000,Y45,X45)) -> 1 | U45: =IF(AND($L$35>=S45,$L$35<S46),T45,0) -> 0 | W45: 4200 | X45: 4 | Y45: 6 | Z45: 1
E46: 必須項目 | G46: ；目標設定、モニタリング、運用管理体制 | S46: =W46 -> 4400 | T46: =IF($I$9>=30000,Z46,IF($I$9>=10000,Y46,X46)) -> 2 | U46: =IF(AND($L$35>=S46,$L$35<S47),T46,0) -> 0 | W46: 4400 | X46: 4 | Y46: 3 | Z46: 2
F47: 根拠等 | J47: 水使用量（目標値） | M47: L/m2・年 | S47: =W47 -> 4600 | T47: =IF($I$9>=30000,Z47,IF($I$9>=10000,Y47,X47)) -> 3 | U47: =IF(AND($L$35>=S47,$L$35<S48),T47,0) -> 0 | W47: 4600 | X47: 1 | Y47: 0 | Z47: 3
C48: 3 | D48: 5 | E48: 2.1 | F48: 水使用量（計算値） | S48: =W48 -> 4800 | T48: =IF($I$9>=30000,Z48,IF($I$9>=10000,Y48,X48)) -> 0 | U48: =IF(AND($L$35>=S48,$L$35<S49),T48,0) -> 0 | W48: 4800 | X48: 2 | Y48: 0 | Z48: 0
F49: 根拠等 | J49: 水使用量（計画値） | M49: L/m2・年 | S49: =W49 -> 5000 | T49: =IF($I$9>=30000,Z49,IF($I$9>=10000,Y49,X49)) -> 0 | U49: =IF(AND($L$35>=S49,$L$35<S50),T49,0) -> 0 | W49: 5000
D50: 0 | E50: 2.2 | F50: 水使用量（仕様評価） | I50: 評価しない | S50: =W50 -> 5200 | T50: =IF($I$9>=30000,Z50,IF($I$9>=10000,Y50,X50)) -> 0 | U50: =IF(AND($L$35>=S50,$L$35<S51),T50,0) -> 0 | W50: 5200
F51: 根拠等 | J51: 水使用量（計画値） | M51: L/m2・年 | S51: =W51 -> 5400 | T51: =IF($I$9>=30000,Z51,IF($I$9>=10000,Y51,X51)) -> 0 | U51: =IF(AND($L$35>=S51,$L$35<S52),T51,0) -> 0 | W51: 5400
C52: 3 | D52: 5 | E52: 2.3 | F52: 水使用量（実績値）
F53: 根拠等 | J53: 水使用量（実績値） | M53: L/m2・年 | S53: 水消費（２０２１年版グラフ用見当値）
C54: =C48+C50+C52 -> 6 | D54: =D48+D50+D52 -> 10 | E54: 合計 | S54: 延床面積 | T54: 水消費量[実績値](L/㎡・年) | U54: 評価建物
S55: 0 | U55: =IF(AND($L$53>=S55,$L$53<S56),T55,0) -> 0
C56: ３．資源利用／安全 | S56: 100 | U56: =IF(AND($L$53>=S56,$L$53<S57),T56,0) -> 0
C57: 評価 | D57: 最大加点 | J57: 指標 | L57: 評価値 | S57: 200 | U57: =IF(AND($L$53>=S57,$L$53<S58),T57,0) -> 0
E58: 必須項目 | G58: ；新耐震基準への適合またはIs値、If値 | S58: 300 | T58: 90 | U58: =IF(AND($L$53>=S58,$L$53<S59),T58,0) -> 0
F59: 根拠等 | J59: なし | S59: 400 | T59: 183 | U59: =IF(AND($L$53>=S59,$L$53<S60),T59,0) -> 0
C60: =MAX(C61,C63) -> 3 | D60: 5 | E60: 3.1 | F60: 高耐震・免震等 | I60: 3.1.1と3.1.2の点数の高い方で評価 | S60: 500 | T60: 234 | U60: =IF(AND($L$53>=S60,$L$53<S61),T60,0) -> 0
C61: 3 | E61: 3.1.1 | F61: 耐震性 | S61: 600 | T61: 230 | U61: =IF(AND($L$53>=S61,$L$53<S62),T61,0) -> 0
F62: 根拠等 | S62: 700 | T62: 236 | U62: =IF(AND($L$53>=S62,$L$53<S63),T62,0) -> 0
C63: 3 | E63: 3.1.2 | F63: 免震・制震・制振性能 | S63: 800 | T63: 198 | U63: =IF(AND($L$53>=S63,$L$53<S64),T63,0) -> 0
F64: 根拠等 | S64: 900 | T64: 165 | U64: =IF(AND($L$53>=S64,$L$53<S65),T64,0) -> 0
C65: =(C67+C68)/2+C69 -> 2 | D65: 5 | E65: 3.2 | F65: 再生材利用率・廃棄物処理負荷抑制 | S65: 1000 | T65: 139 | U65: =IF(AND($L$53>=S65,$L$53<S66),T65,0) -> 0
E66: 3.2.1 | F66: 再生材利用率 ・地域材・木材利用 | I66: ①と②の平均で評価する | S66: 1100 | T66: 131 | U66: =IF(AND($L$53>=S66,$L$53<S67),T66,0) -> 0
C67: 3 | E67: ① | F67: 躯体材料 | S67: 1200 | T67: 77 | U67: =IF(AND($L$53>=S67,$L$53<S68),T67,0) -> 0
C68: 1 | E68: ② | F68: 非構造材料 | J68: リサイクル材品目数(非構造材) | M68: 品目 | S68: 1300 | T68: 46 | U68: =IF(AND($L$53>=S68,$L$53<S69),T68,0) -> 0
E69: 3.2.2 | F69: 廃棄物処理負荷抑制 | I69: 評価しない | S69: 1400 | T69: 48 | U69: =IF(AND($L$53>=S69,$L$53<S70),T69,0) -> 0
F70: 根拠等 | J70: 取組数 | M70: ポイント | S70: 1500 | T70: 26 | U70: =IF(AND($L$53>=S70,$L$53<S71),T70,0) -> 0
C71: 3 | D71: 5 | E71: 3.3 | F71: 躯体材料の耐用年数 | S71: 1600 | T71: 26 | U71: =IF(AND($L$53>=S71,$L$53<S72),T71,0) -> 0
F72: 根拠等 | J72: 経過年数＋今後の想定耐用年数 | M72: 年 | S72: 1700 | T72: 24 | U72: =IF(AND($L$53>=S72,$L$53<S73),T72,0) -> 0
C73: =AVERAGE(C74:C80) -> 2.75 | D73: 5 | E73: 3.4 | F73: 主要設備機器の更新必要間隔／設備の自給率向上／維持管理／バリアフリー | K73: 3.4.1,3.4.2,3.4.3,3.4.4の平均 | S73: 1800 | T73: 15 | U73: =IF(AND($L$53>=S73,$L$53<S74),T73,0) -> 0
C74: 3 | E74: 3.4.1 | F74: 主要設備機器の更新必要間隔 | S74: 1900 | T74: 14 | U74: =IF(AND($L$53>=S74,$L$53<S75),T74,0) -> 0
F75: 根拠等 | J75: 更新年数の平均値 | M75: 年 | S75: 2000 | T75: 6 | U75: =IF(AND($L$53>=S75,$L$53<S76),T75,0) -> 0
C76: 3 | E76: 3.4.2 | F76: 設備（電力等）の自給率向上 | S76: 2100 | T76: 13 | U76: =IF(AND($L$53>=S76,$L$53<S77),T76,0) -> 0
F77: 根拠等 | J77: 自給率向上の取組数 | M77: 項目 | S77: 2200 | T77: 4 | U77: =IF(AND($L$53>=S77,$L$53<S78),T77,0) -> 0
C78: 2 | E78: 3.4.3 | F78: 維持管理 | S78: 2300 | T78: 11 | U78: =IF(AND($L$53>=S78,$L$53<S79),T78,0) -> 0
F79: 根拠等 | J79: 維持管理に関する取組数 | M79: ポイント | S79: 2400 | T79: 3 | U79: =IF(AND($L$53>=S79,$L$53<S80),T79,0) -> 0
C80: 3 | E80: 3.4.4 | F80: バリアフリー計画 | S80: 2500 | U80: =IF(AND($L$53>=S80,$L$53<S81),T80,0) -> 0
F81: 根拠等 | S81: 2600 | U81: =IF(AND($L$53>=S81,$L$53<S82),T81,0) -> 0
C82: =C60+C65+C71+C73 -> 10.75 | D82: =D60+D65+D71+D73 -> 20 | E82: 合計 | S82: 2700 | U82: =IF(AND($L$53>=S82,$L$53<S83),T82,0) -> 0
S83: 2800 | U83: =IF(AND($L$53>=S83,$L$53<S84),T83,0) -> 0
C84: ４．生物多様性／敷地
C85: 評価 | D85: 最大加点 | J85: 指標 | L85: 評価値
E86: 必須項目 | G86: ；特定外来生物・未判定外来生物・生態系被害防止外来種を使用しない
F87: 根拠等 | J87: なし
C88: 3 | D88: =IF(AND(C90<>"",C90=0),10,5) -> 5 | E88: 4.1 | F88: 生物多様性の向上
D89: [4.2対象外の時は点数を倍] | F89: 根拠等 | J89: ②取組表による場合のポイント数 | M89: ポイント
C90: 3 | D90: =IF(AND(C90<>"",C90=0),0,5) -> 5 | E90: 4.2 | F90: 土壌環境品質・ブラウンフィールド再生
D91: [対策不要は対象外] | F91: 根拠等 | J91: なし
C92: =AVERAGE(C93:C95) -> 3 | D92: 5 | E92: 4.3 | F92: 公共交通機関の接近性
C93: 3 | E93: 4.3.1 | F93: 公共交通機関の接近性
F94: 根拠等 | J94: 鉄道駅またはバス停からの距離 | M94: 分圏内
E95: 4.3.2 | F95: 交通結節点への接近性、敷地周辺への配慮 | I95: 評価しない
F96: 根拠等 | J96: 取組数 | M96: 項目
C97: 3 | D97: 5 | E97: 4.4 | F97: 自然災害リスク対策
F98: 根拠等 | J98: リスクの合計数 | M98: 種類
C100: =C88+C90+C92+C97 -> 12 | D100: =D88+D90+D92+D97 -> 20 | E100: 合計
C102: ５．屋内環境 | P102: 環境性能の特徴
C103: 評価 | D103: 最大加点 | J103: 指標 | L103: 評価値
...

Sheet 店舗評価結果
X1: スコア
I2: 【店舗】 | W2: ゴール3 | X2: =IF(建築環境SDGsチェックリスト!$D$3="店舗",建築環境SDGsチェックリスト!H116,"0") -> 0
W3: ゴール4 | X3: =IF(建築環境SDGsチェックリスト!$D$3="店舗",建築環境SDGsチェックリスト!H117,"0") -> 0
W4: ゴール5 | X4: =IF(建築環境SDGsチェックリスト!$D$3="店舗",建築環境SDGsチェックリスト!H118,"0") -> 0
I5: ■使用評価マニュアル： | J5: =オフィス評価結果!J5 -> CASBEE-不動産 2024年版 | M5: =オフィス評価結果!M5 -> v1.21 | P5: 建築環境SDGsチェックリスト評価結果 | W5: ゴール6 | X5: =IF(建築環境SDGsチェックリスト!$D$3="店舗",建築環境SDGsチェックリスト!H119,"0") -> 0
C6: 建物概要 | W6: ゴール7 | X6: =IF(建築環境SDGsチェックリスト!$D$3="店舗",建築環境SDGsチェックリスト!H120,"0") -> 0
C7: 建物名称 | D7: ○○ショッピングセンター | H7: 敷地面積 | I7: ○○○ | J7: m2 | K7: 評価の段階 | L7: 運用段階評価 | S7: 項目 | T7: 充足率 | W7: ゴール8 | X7: =IF(建築環境SDGsチェックリスト!$D$3="店舗",建築環境SDGsチェックリスト!H121,"0") -> 0
C8: 建設地 | D8: ○○県○○市XXXXXX | H8: 建築面積 | I8: ○○○ | J8: m2 | K8: 評価の実施日 | L8: 20XX/XX/XX | S8: =C25 -> １．エネルギー／温暖化ガス | T8: =IF(C42/D42>1,1,C42/D42) -> 0.6 | W8: ゴール9 | X8: =IF(建築環境SDGsチェックリスト!$D$3="店舗",建築環境SDGsチェックリスト!H122,"0") -> 0
C9: 用途地域 | D9: 商業地域、防火地域 | H9: 延床面積（評価対象分） | I9: ○○○ | J9: m2 | K9: 作成者 | L9: ○○○ | S9: =C44 -> ２．水 | T9: =C54/D54 -> 0.6 | W9: ゴール11 | X9: =IF(建築環境SDGsチェックリスト!$D$3="店舗",建築環境SDGsチェックリスト!H123,"0") -> 0
C10: 建物用途 | D10: 店舗 | H10: 階数 | I10: 地上○○F | K10: 不動産評価員番号 | S10: =C56 -> ３．資源利用／安全 | T10: =C82/D82 -> 0.55 | W10: ゴール12 | X10: =IF(建築環境SDGsチェックリスト!$D$3="店舗",建築環境SDGsチェックリスト!H124,"0") -> 0
C11: 竣工年月 | D11: 19XX/XX/XX | H11: 構造 | I11: RC造 | K11: 確認日 | L11: 20XX/XX/XX | S11: =C84 -> ４．生物多様性／敷地 | T11: =C100/D100 -> 0.6 | W11: ゴール13 | X11: =IF(建築環境SDGsチェックリスト!$D$3="店舗",建築環境SDGsチェックリスト!H125,"0") -> 0
C12: 直近の大規模改修実施年月 | F12: なし | H12: 常勤者・来場者 | I12: XXX, XXX | J12: 人 | K12: 確認者 | L12: ○○○ | S12: =C102 -> ５．屋内環境 | T12: =C128/D128 -> 0.9 | W12: ゴール15 | X12: =IF(建築環境SDGsチェックリスト!$D$3="店舗",建築環境SDGsチェックリスト!H126,"0") -> 0
C13: 部分評価の場合の特記事項 | F13: 例）建物全体延床面積○○㎡ | H13: 年間使用日数 | I13: XXX | J13: 日/年 | K13: 不動産評価員番号 | W13: ゴール17 | X13: =IF(建築環境SDGsチェックリスト!$D$3="店舗",建築環境SDGsチェックリスト!H127,"0") -> 0 | Z13: 評価しない
C15: 評価結果 | W15: SDGsRank | X15: =(AVERAGE(X2:X13)-1)*2+1 -> #DIV/0!
S16: 赤星 | T16: 点星 | W16: SDGsRank(Ring) | X16: =IF(X15=1,1,IF(X15<1.5,1,IF(X15<2.5,2,IF(X15<3.5,3,IF(X15<4.5,4,5)))))/5 -> #DIV/0! | Z16: 緑星 | AA16: 点星
C17: =C42+C54+C82+C100+C128 -> 61.75 | D17: /100 | E17: 合計 | I17: ホールライフカーボンの評価 | M17: =IF(Z17=0,Z13,"") -> 評価しない | S17: =IF(C17>=F19,5,IF(C17>=F20,4,IF(C17>=F21,3,IF(C17>=F22,2,0)))) -> 3 | T17: =5-S17 -> 2 | W17: (BlankRing) | X17: =1-X16 -> #DIV/0! | Z17: =C132 -> 0 | AA17: =IF(M17=Z13,0,5-Z17) -> 0
C18: （得点 | D18: / 満点）
C19: S ランク；★★★★★ | E19: ≧ | F19: 78 | S19: 適合
C20: A ランク；★★★★ | E20: ≧ | F20: 66 | S20: 不適合
C21: B+ランク；★★★ | E21: ≧ | F21: 60 | J21: 取組項目数：A1-A5 | K21: =IF(M17=Z13,"",L132) | L21: B1,B3-B5 | M21: =IF(M17=Z13,"",L134)
C22: B ランク；★★ | E22: ≧ | F22: 50 | J22: B6-B7 | K22: =IF(M17=Z13,"",L133) | L22: C1-C4 | M22: =IF(M17=Z13,"",L135)
C23: ポイントは小数点第1位までの表示とする | S23: 延床面積 | T23: =IF($I$9>=30000,Z23,IF($I$9>=10000,Y23,X23)) -> 30,000m2以上 | U23: 評価建物 | W23: 延床面積 | X23: 10,000㎡未満 | Y23: 10,000m2以上30,000m2未満 | Z23: 30,000m2以上
S24: =W24 -> 0 | T24: =IF($I$9>=30000,Z24,IF($I$9>=10000,Y24,X24)) -> 0 | U24: =IF(AND($L$35>=S24,$L$35<S25),T24,0) -> 0 | W24: 0
C25: １．エネルギー／温暖化ガス | S25: =W25 -> 200 | T25: =IF($I$9>=30000,Z25,IF($I$9>=10000,Y25,X25)) -> 0 | U25: =IF(AND($L$35>=S25,$L$35<S26),T25,0) -> 0 | W25: 200
C26: 評価 | D26: 最大加点 | J26: 指標 | K26: (*は参考値) | L26: 評価値 | S26: =W26 -> 400 | T26: =IF($I$9>=30000,Z26,IF($I$9>=10000,Y26,X26)) -> 0 | U26: =IF(AND($L$35>=S26,$L$35<S27),T26,0) -> 0 | W26: 400
E27: 必須項目 | G27: ；省エネルギー基準への適合、目標設定、モニタリング、運用管理体制 | S27: =W27 -> 600 | T27: =IF($I$9>=30000,Z27,IF($I$9>=10000,Y27,X27)) -> 0 | U27: =IF(AND($L$35>=S27,$L$35<S28),T27,0) -> 0 | W27: 600
D28: 加点 1 | F28: 根拠等 | J28: 一次エネルギー(目標値) | M28: MJ/m2・年 | S28: =W28 -> 800 | T28: =IF($I$9>=30000,Z28,IF($I$9>=10000,Y28,X28)) -> 0 | U28: =IF(AND($L$35>=S28,$L$35<S29),T28,0) -> 0 | W28: 800
S29: =W29 -> 1000 | T29: =IF($I$9>=30000,Z29,IF($I$9>=10000,Y29,X29)) -> 0 | U29: =IF(AND($L$35>=S29,$L$35<S30),T29,0) -> 0 | W29: 1000
C30: 15 | D30: 25 | E30: 1.1 | F30: 使用・排出原単位（計算値） | S30: =W30 -> 1200 | T30: =IF($I$9>=30000,Z30,IF($I$9>=10000,Y30,X30)) -> 0 | U30: =IF(AND($L$35>=S30,$L$35<S31),T30,0) -> 0 | W30: 1200
F31: 根拠等 | J31: 一次エネルギー(計画値） | M31: MJ/m2・年 | S31: =W31 -> 1400 | T31: =IF($I$9>=30000,Z31,IF($I$9>=10000,Y31,X31)) -> 0 | U31: =IF(AND($L$35>=S31,$L$35<S32),T31,0) -> 0 | W31: 1400
J32: 二次エネルギー(*) | M32: kWh/m2・年 | S32: =W32 -> 1600 | T32: =IF($I$9>=30000,Z32,IF($I$9>=10000,Y32,X32)) -> 0 | U32: =IF(AND($L$35>=S32,$L$35<S33),T32,0) -> 0 | W32: 1600
J33: GHG排出量(*) | M33: kg-CO2eq/m2・年 | S33: =W33 -> 1800 | T33: =IF($I$9>=30000,Z33,IF($I$9>=10000,Y33,X33)) -> 0 | U33: =IF(AND($L$35>=S33,$L$35<S34),T33,0) -> 0 | W33: 1800
C34: 3 | D34: 5 | E34: 1.2 | F34: 使用・排出原単位（実績値） | S34: =W34 -> 2000 | T34: =IF($I$9>=30000,Z34,IF($I$9>=10000,Y34,X34)) -> 0 | U34: =IF(AND($L$35>=S34,$L$35<S35),T34,0) -> 0 | W34: 2000
F35: 根拠等 | J35: 一次エネルギー(実績値） | M35: MJ/m2・年 | S35: =W35 -> 2200 | T35: =IF($I$9>=30000,Z35,IF($I$9>=10000,Y35,X35)) -> 0 | U35: =IF(AND($L$35>=S35,$L$35<S36),T35,0) -> 0 | W35: 2200
J36: 二次エネルギー(*) | M36: kWh/m2・年 | S36: =W36 -> 2400 | T36: =IF($I$9>=30000,Z36,IF($I$9>=10000,Y36,X36)) -> 0 | U36: =IF(AND($L$35>=S36,$L$35<S37),T36,0) -> 0 | W36: 2400
J37: GHG排出量(*) | M37: kg-CO2eq/m2・年 | S37: =W37 -> 2600 | T37: =IF($I$9>=30000,Z37,IF($I$9>=10000,Y37,X37)) -> 0 | U37: =IF(AND($L$35>=S37,$L$35<S38),T37,0) -> 0 | W37: 2600
D38: 0 | E38: 1.3 | F38: 省エネルギー（仕様評価） | I38: 評価しない | S38: =W38 -> 2800 | T38: =IF($I$9>=30000,Z38,IF($I$9>=10000,Y38,X38)) -> 0 | U38: =IF(AND($L$35>=S38,$L$35<S39),T38,0) -> 0 | W38: 2800
F39: 根拠等 | J39: 導入された対策項目数 | M39: 項目 | S39: =W39 -> 3000 | T39: =IF($I$9>=30000,Z39,IF($I$9>=10000,Y39,X39)) -> 0 | U39: =IF(AND($L$35>=S39,$L$35<S40),T39,0) -> 0 | W39: 3000
C40: 3 | D40: 5 | E40: 1.4 | F40: 自然エネルギー（間接利用） | S40: =W40 -> 3200 | T40: =IF($I$9>=30000,Z40,IF($I$9>=10000,Y40,X40)) -> 0 | U40: =IF(AND($L$35>=S40,$L$35<S41),T40,0) -> 0 | W40: 3200
F41: 根拠等 | J41: 利用率 | M41: % | S41: =W41 -> 3400 | T41: =IF($I$9>=30000,Z41,IF($I$9>=10000,Y41,X41)) -> 0 | U41: =IF(AND($L$35>=S41,$L$35<S42),T41,0) -> 0 | W41: 3400
C42: =C28+C30+C34+C38+C40 -> 21 | D42: =D30+D34+D38+D40 -> 35 | E42: 合計 | S42: =W42 -> 3600 | T42: =IF($I$9>=30000,Z42,IF($I$9>=10000,Y42,X42)) -> 0 | U42: =IF(AND($L$35>=S42,$L$35<S43),T42,0) -> 0 | W42: 3600
S43: =W43 -> 3800 | T43: =IF($I$9>=30000,Z43,IF($I$9>=10000,Y43,X43)) -> 0 | U43: =IF(AND($L$35>=S43,$L$35<S44),T43,0) -> 0 | W43: 3800
C44: ２．水 | S44: =W44 -> 4000 | T44: =IF($I$9>=30000,Z44,IF($I$9>=10000,Y44,X44)) -> 0 | U44: =IF(AND($L$35>=S44,$L$35<S45),T44,0) -> 0 | W44: 4000
C45: 評価 | D45: 最大加点 | J45: 指標 | L45: 評価値 | S45: =W45 -> 4200 | T45: =IF($I$9>=30000,Z45,IF($I$9>=10000,Y45,X45)) -> 0 | U45: =IF(AND($L$35>=S45,$L$35<S46),T45,0) -> 0 | W45: 4200
E46: 必須項目 | G46: ；目標設定、モニタリング、運用管理体制 | S46: =W46 -> 4400 | T46: =IF($I$9>=30000,Z46,IF($I$9>=10000,Y46,X46)) -> 0 | U46: =IF(AND($L$35>=S46,$L$35<S47),T46,0) -> 0 | W46: 4400
F47: 根拠等 | J47: 水使用量（目標値） | M47: L/m2・年 | S47: =W47 -> 4600 | T47: =IF($I$9>=30000,Z47,IF($I$9>=10000,Y47,X47)) -> 0 | U47: =IF(AND($L$35>=S47,$L$35<S48),T47,0) -> 0 | W47: 4600
C48: 3 | D48: 5 | E48: 2.1 | F48: 水使用量（計算値） | S48: =W48 -> 4800 | T48: =IF($I$9>=30000,Z48,IF($I$9>=10000,Y48,X48)) -> 0 | U48: =IF(AND($L$35>=S48,$L$35<S49),T48,0) -> 0 | W48: 4800
F49: 根拠等 | J49: 水使用量（計画値） | M49: L/m2・年 | S49: =W49 -> 5000 | T49: =IF($I$9>=30000,Z49,IF($I$9>=10000,Y49,X49)) -> 0 | U49: =IF(AND($L$35>=S49,$L$35<S50),T49,0) -> 0 | W49: 5000
D50: 0 | E50: 2.2 | F50: 水使用量（仕様評価） | I50: 評価しない | S50: =W50 -> 5200 | T50: =IF($I$9>=30000,Z50,IF($I$9>=10000,Y50,X50)) -> 0 | U50: =IF(AND($L$35>=S50,$L$35<S51),T50,0) -> 0 | W50: 5200
F51: 根拠等 | J51: 水使用量（計画値） | M51: L/m2・年 | S51: =W51 -> 5400 | T51: =IF($I$9>=30000,Z51,IF($I$9>=10000,Y51,X51)) -> 0 | U51: =IF(AND($L$35>=S51,$L$35<S52),T51,0) -> 0 | W51: 5400
C52: 3 | D52: 5 | E52: 2.3 | F52: 水使用量（実績値）
F53: 根拠等 | J53: 水使用量（実績値） | M53: L/m2・年
C54: =C48+C50+C52 -> 6 | D54: =D48+D50+D52 -> 10 | E54: 合計 | S54: 延床面積 | T54: 水消費量[実績値](L/㎡・年) | U54: 評価建物
S55: 0
C56: ３．資源利用／安全 | S56: 100
C57: 評価 | D57: 最大加点 | J57: 指標 | L57: 評価値 | S57: 200
E58: 必須項目 | G58: ；新耐震基準への適合またはIs値、If値 | S58: 300
F59: 根拠等 | J59: なし | S59: 400
C60: =MAX(C61,C63) -> 3 | D60: 5 | E60: 3.1 | F60: 高耐震・免震等 | I60: 3.1.1と3.1.2の点数の高い方で評価 | S60: 500
C61: 3 | E61: 3.1.1 | F61: 耐震性 | S61: 600
F62: 根拠等 | S62: 700
C63: 3 | E63: 3.1.2 | F63: 免震・制震・制振性能 | S63: 800
F64: 根拠等 | S64: 900
C65: =(C67+C68)/2+C69 -> 5 | D65: 10 | E65: 3.2 | F65: 再生材利用率・廃棄物処理負荷抑制 | S65: 1000
E66: 3.2.1 | F66: 再生材利用率 ・地域材・木材利用 | I66: ①と②の平均で評価する | S66: 1100
C67: 3 | E67: ① | F67: 躯体材料 | S67: 1200
C68: 1 | E68: ② | F68: 非構造材料 | J68: リサイクル材品目数(非構造材) | M68: 品目 | S68: 1300
C69: 3 | E69: 3.2.2 | F69: 廃棄物処理負荷抑制 | S69: 1400
F70: 根拠等 | G70: 店舗から排出されるゴミの計量、再資源化など | J70: 取組数 | M70: ポイント | S70: 1500
C71: 3 | D71: 5 | E71: 3.3 | F71: 躯体材料の耐用年数 | S71: 1600
F72: 根拠等 | J72: 経過年数＋今後の想定耐用年数 | M72: 年 | S72: 1700
C73: =AVERAGE(C74:C80) -> 2.75 | D73: 5 | E73: 3.4 | F73: 主要設備機器の更新必要間隔／設備の自給率向上／維持管理／バリアフリー | K73: 3.4.1,3.4.2,3.4.3,3.4.4の平均 | S73: 1800
C74: 3 | E74: 3.4.1 | F74: 主要設備機器の更新必要間隔 | S74: 1900
F75: 根拠等 | J75: 更新年数の平均値 | M75: 年 | S75: 2000
C76: 3 | E76: 3.4.2 | F76: 設備（電力等）の自給率向上 | S76: 2100
F77: 根拠等 | J77: 自給率向上の取組数 | M77: 項目
C78: 2 | E78: 3.4.3 | F78: 維持管理
F79: 根拠等 | J79: 維持管理に関する取組数 | M79: ポイント | S79: 2200
C80: 3 | E80: 3.4.4 | F80: バリアフリー計画 | S80: 2300
F81: 根拠等 | S81: 2400
C82: =C60+C65+C71+C73 -> 13.75 | D82: =D60+D65+D71+D73 -> 25 | E82: 合計 | S82: 2500
S83: 2600
C84: ４．生物多様性／敷地 | P84: 環境性能の特徴
C85: 評価 | D85: 最大加点 | J85: 指標 | L85: 評価値
E86: 必須項目 | G86: ；特定外来生物・未判定外来生物・生態系被害防止外来種を使用しない
F87: 根拠等 | J87: なし
C88: 3 | D88: =IF(AND(C90<>"",C90=0),10,5) -> 5 | E88: 4.1 | F88: 生物多様性の向上
D89: [4.2対象外の時は点数を倍] | F89: 根拠等 | J89: ②取組表による場合のポイント数 | M89: ポイント
C90: 3 | D90: =IF(AND(C90<>"",C90=0),0,5) -> 5 | E90: 4.2 | F90: 土壌環境品質・ブラウンフィールド再生
D91: [対策不要は対象外] | F91: 根拠等 | J91: なし
C92: =AVERAGE(C93:C95) -> 3 | D92: 5 | E92: 4.3 | F92: 公共交通機関の接近性
C93: 3 | E93: 4.3.1 | F93: 公共交通機関の接近性
F94: 根拠等 | J94: 鉄道駅またはバス停からの距離 | M94: 分圏内
E95: 4.3.2 | F95: 交通結節点への接近性、敷地周辺への配慮 | I95: 評価しない
F96: 根拠等 | J96: 取組数 | M96: 項目
C97: 3 | D97: 5 | E97: 4.4 | F97: 自然災害リスク対策
F98: 根拠等 | J98: リスクの合計数 | M98: 種類
C100: =C88+C90+C92+C97 -> 12 | D100: =D88+D90+D92+D97 -> 20 | E100: 合計
C102: ５．屋内環境
C103: 評価 | D103: 最大加点 | J103: 指標 | L103: 評価値
...

Sheet 物流評価結果
X1: スコア
I2: 【物流施設】 | W2: ゴール3 | X2: =IF(建築環境SDGsチェックリスト!$D$3="物流施設",建築環境SDGsチェックリスト!H116,"0") -> 0
W3: ゴール4 | X3: =IF(建築環境SDGsチェックリスト!$D$3="物流施設",建築環境SDGsチェックリスト!H117,"0") -> 0
W4: ゴール5 | X4: =IF(建築環境SDGsチェックリスト!$D$3="物流施設",建築環境SDGsチェックリスト!H118,"0") -> 0
I5: ■使用評価マニュアル： | J5: =オフィス評価結果!J5 -> CASBEE-不動産 2024年版 | M5: =オフィス評価結果!M5 -> v1.21 | P5: 建築環境SDGsチェックリスト評価結果 | W5: ゴール6 | X5: =IF(建築環境SDGsチェックリスト!$D$3="物流施設",建築環境SDGsチェックリスト!H119,"0") -> 0
C6: 建物概要 | W6: ゴール7 | X6: =IF(建築環境SDGsチェックリスト!$D$3="物流施設",建築環境SDGsチェックリスト!H120,"0") -> 0
C7: 建物名称 | D7: ○○配送センター | H7: 敷地面積 | I7: ○○○ | J7: m2 | K7: 評価の段階 | L7: 運用段階評価 | S7: 項目 | T7: 充足率 | W7: ゴール8 | X7: =IF(建築環境SDGsチェックリスト!$D$3="物流施設",建築環境SDGsチェックリスト!H121,"0") -> 0
C8: 建設地 | D8: ○○県○○市XXXXXX | H8: 建築面積 | I8: ○○○ | J8: m2 | K8: 評価の実施日 | L8: 20XX/XX/XX | S8: =C25 -> １．エネルギー／温暖化ガス | T8: =IF(C42/D42>1,1,C42/D42) -> 0.68571429 | W8: ゴール9 | X8: =IF(建築環境SDGsチェックリスト!$D$3="物流施設",建築環境SDGsチェックリスト!H122,"0") -> 0
C9: 用途地域 | D9: 商業地域、防火地域 | H9: 延床面積（評価対象分） | I9: ○○○ | J9: m2 | K9: 作成者 | L9: ○○○ | S9: =C44 -> ２．水 | T9: =C54/D54 -> 0.6 | W9: ゴール11 | X9: =IF(建築環境SDGsチェックリスト!$D$3="物流施設",建築環境SDGsチェックリスト!H123,"0") -> 0
C10: 建物用途 | D10: 物流施設 | H10: 階数 | I10: 地上○○F | K10: 不動産評価員番号 | S10: =C56 -> ３．資源利用／安全 | T10: =C82/D82 -> 0.5375 | W10: ゴール12 | X10: =IF(建築環境SDGsチェックリスト!$D$3="物流施設",建築環境SDGsチェックリスト!H124,"0") -> 0
C11: 竣工年月 | D11: 19XX/XX/XX | H11: 構造 | I11: RC造 | K11: 確認日 | L11: 20XX/XX/XX | S11: =C84 -> ４．生物多様性／敷地 | T11: =C100/D100 -> 0.6 | W11: ゴール13 | X11: =IF(建築環境SDGsチェックリスト!$D$3="物流施設",建築環境SDGsチェックリスト!H125,"0") -> 0
C12: 直近の大規模改修実施年月 | F12: 20XX/XX/XX | H12: 平均居住人員 | I12: XXX | J12: 人 | K12: 確認者 | L12: ○○○ | S12: =C102 -> ５．屋内環境 | T12: =C128/D128 -> 0.6 | W12: ゴール15 | X12: =IF(建築環境SDGsチェックリスト!$D$3="物流施設",建築環境SDGsチェックリスト!H126,"0") -> 0
C13: 部分評価の場合の特記事項 | F13: 例）建物全体延床面積○○㎡ | H13: 年間使用時間 | I13: XXX | J13: 時間/年 | K13: 不動産評価員番号 | W13: ゴール17 | X13: =IF(建築環境SDGsチェックリスト!$D$3="物流施設",建築環境SDGsチェックリスト!H127,"0") -> 0 | Z13: 評価しない
C15: 評価結果 | W15: SDGsRank | X15: =(AVERAGE(X2:X13)-1)*2+1 -> #DIV/0!
S16: 赤星 | T16: 点星 | W16: SDGsRank(Ring) | X16: =IF(X15=1,1,IF(X15<1.5,1,IF(X15<2.5,2,IF(X15<3.5,3,IF(X15<4.5,4,5)))))/5 -> #DIV/0! | Z16: 緑星 | AA16: 点星
C17: =C42+C54+C82+C100+C128 -> 61.75 | D17: /100 | E17: 合計 | I17: ホールライフカーボンの評価 | M17: =IF(Z17=0,Z13,"") -> 評価しない | S17: =IF(C17>=F19,5,IF(C17>=F20,4,IF(C17>=F21,3,IF(C17>=F22,2,0)))) -> 3 | T17: =5-S17 -> 2 | W17: (BlankRing) | X17: =1-X16 -> #DIV/0! | Z17: =C132 -> 0 | AA17: =IF(M17=Z13,0,5-Z17) -> 0
C18: （得点 | D18: / 満点）
C19: S ランク；★★★★★ | E19: ≧ | F19: 78 | S19: 適合
C20: A ランク；★★★★ | E20: ≧ | F20: 66 | S20: 不適合
C21: B+ランク；★★★ | E21: ≧ | F21: 60 | J21: 取組項目数：A1-A5 | K21: =IF(M17=Z13,"",L132) | L21: B1,B3-B5 | M21: =IF(M17=Z13,"",L134)
C22: B ランク；★★ | E22: ≧ | F22: 50 | J22: B6-B7 | K22: =IF(M17=Z13,"",L133) | L22: C1-C4 | M22: =IF(M17=Z13,"",L135)
C23: ポイントは小数点第1位までの表示とする | S23: 延床面積 | T23: =IF($I$9>=30000,Z23,IF($I$9>=10000,Y23,X23)) -> 30,000m2以上 | U23: 評価建物 | W23: 延床面積 | X23: 10,000㎡未満 | Y23: 10,000m2以上30,000m2未満 | Z23: 30,000m2以上
S24: =W24 -> 0 | T24: =IF($I$9>=30000,Z24,IF($I$9>=10000,Y24,X24)) -> 0 | U24: =IF(AND($L$35>=S24,$L$35<S25),T24,0) -> 0 | W24: 0
C25: １．エネルギー／温暖化ガス | S25: =W25 -> 200 | T25: =IF($I$9>=30000,Z25,IF($I$9>=10000,Y25,X25)) -> 0 | U25: =IF(AND($L$35>=S25,$L$35<S26),T25,0) -> 0 | W25: 200
C26: 評価 | D26: 最大加点 | J26: 指標 | K26: (*は参考値) | L26: 評価値 | S26: =W26 -> 400 | T26: =IF($I$9>=30000,Z26,IF($I$9>=10000,Y26,X26)) -> 0 | U26: =IF(AND($L$35>=S26,$L$35<S27),T26,0) -> 0 | W26: 400
E27: 必須項目 | G27: ；省エネルギー基準への適合、目標設定、モニタリング、運用管理体制 | S27: =W27 -> 600 | T27: =IF($I$9>=30000,Z27,IF($I$9>=10000,Y27,X27)) -> 0 | U27: =IF(AND($L$35>=S27,$L$35<S28),T27,0) -> 0 | W27: 600
D28: 加点 1 | F28: 根拠等 | J28: 一次エネルギー(目標値) | M28: MJ/m2・年 | S28: =W28 -> 800 | T28: =IF($I$9>=30000,Z28,IF($I$9>=10000,Y28,X28)) -> 0 | U28: =IF(AND($L$35>=S28,$L$35<S29),T28,0) -> 0 | W28: 800
S29: =W29 -> 1000 | T29: =IF($I$9>=30000,Z29,IF($I$9>=10000,Y29,X29)) -> 0 | U29: =IF(AND($L$35>=S29,$L$35<S30),T29,0) -> 0 | W29: 1000
C30: 15 | D30: 20 | E30: 1.1 | F30: 使用・排出原単位（計算値） | S30: =W30 -> 1200 | T30: =IF($I$9>=30000,Z30,IF($I$9>=10000,Y30,X30)) -> 0 | U30: =IF(AND($L$35>=S30,$L$35<S31),T30,0) -> 0 | W30: 1200
F31: 根拠等 | J31: 一次エネルギー(計画値） | M31: MJ/m2・年 | S31: =W31 -> 1400 | T31: =IF($I$9>=30000,Z31,IF($I$9>=10000,Y31,X31)) -> 0 | U31: =IF(AND($L$35>=S31,$L$35<S32),T31,0) -> 0 | W31: 1400
J32: 二次エネルギー(*) | M32: kWh/m2・年 | S32: =W32 -> 1600 | T32: =IF($I$9>=30000,Z32,IF($I$9>=10000,Y32,X32)) -> 0 | U32: =IF(AND($L$35>=S32,$L$35<S33),T32,0) -> 0 | W32: 1600
J33: GHG排出量(*) | M33: kg-CO2eq/m2・年 | S33: =W33 -> 1800 | T33: =IF($I$9>=30000,Z33,IF($I$9>=10000,Y33,X33)) -> 0 | U33: =IF(AND($L$35>=S33,$L$35<S34),T33,0) -> 0 | W33: 1800
C34: 3 | D34: 5 | E34: 1.2 | F34: 使用・排出原単位（実績値） | S34: =W34 -> 2000 | T34: =IF($I$9>=30000,Z34,IF($I$9>=10000,Y34,X34)) -> 0 | U34: =IF(AND($L$35>=S34,$L$35<S35),T34,0) -> 0 | W34: 2000
F35: 根拠等 | J35: 水道光熱費 | M35: 円/m2・年 | S35: =W35 -> 2200 | T35: =IF($I$9>=30000,Z35,IF($I$9>=10000,Y35,X35)) -> 0 | U35: =IF(AND($L$35>=S35,$L$35<S36),T35,0) -> 0 | W35: 2200
S36: =W36 -> 2400 | T36: =IF($I$9>=30000,Z36,IF($I$9>=10000,Y36,X36)) -> 0 | U36: =IF(AND($L$35>=S36,$L$35<S37),T36,0) -> 0 | W36: 2400
S37: =W37 -> 2600 | T37: =IF($I$9>=30000,Z37,IF($I$9>=10000,Y37,X37)) -> 0 | U37: =IF(AND($L$35>=S37,$L$35<S38),T37,0) -> 0 | W37: 2600
C38: 3 | D38: 5 | E38: 1.3 | F38: 省エネルギー（仕様評価） | I38: 省エネ計算対象外の倉庫エリア等 | S38: =W38 -> 2800 | T38: =IF($I$9>=30000,Z38,IF($I$9>=10000,Y38,X38)) -> 0 | U38: =IF(AND($L$35>=S38,$L$35<S39),T38,0) -> 0 | W38: 2800
F39: 根拠等 | J39: 導入された対策項目数 | M39: 項目 | S39: =W39 -> 3000 | T39: =IF($I$9>=30000,Z39,IF($I$9>=10000,Y39,X39)) -> 0 | U39: =IF(AND($L$35>=S39,$L$35<S40),T39,0) -> 0 | W39: 3000
C40: 3 | D40: 5 | E40: 1.4 | F40: 自然エネルギー（間接利用） | S40: =W40 -> 3200 | T40: =IF($I$9>=30000,Z40,IF($I$9>=10000,Y40,X40)) -> 0 | U40: =IF(AND($L$35>=S40,$L$35<S41),T40,0) -> 0 | W40: 3200
F41: 根拠等 | J41: 利用率 | M41: % | S41: =W41 -> 3400 | T41: =IF($I$9>=30000,Z41,IF($I$9>=10000,Y41,X41)) -> 0 | U41: =IF(AND($L$35>=S41,$L$35<S42),T41,0) -> 0 | W41: 3400
C42: =C28+C30+C34+C38+C40 -> 24 | D42: =D30+D34+D38+D40 -> 35 | E42: 合計 | S42: =W42 -> 3600 | T42: =IF($I$9>=30000,Z42,IF($I$9>=10000,Y42,X42)) -> 0 | U42: =IF(AND($L$35>=S42,$L$35<S43),T42,0) -> 0 | W42: 3600
S43: =W43 -> 3800 | T43: =IF($I$9>=30000,Z43,IF($I$9>=10000,Y43,X43)) -> 0 | U43: =IF(AND($L$35>=S43,$L$35<S44),T43,0) -> 0 | W43: 3800
C44: ２．水 | S44: =W44 -> 4000 | T44: =IF($I$9>=30000,Z44,IF($I$9>=10000,Y44,X44)) -> 0 | U44: =IF(AND($L$35>=S44,$L$35<S45),T44,0) -> 0 | W44: 4000
C45: 評価 | D45: 最大加点 | J45: 指標 | L45: 評価値 | S45: =W45 -> 4200 | T45: =IF($I$9>=30000,Z45,IF($I$9>=10000,Y45,X45)) -> 0 | U45: =IF(AND($L$35>=S45,$L$35<S46),T45,0) -> 0 | W45: 4200
E46: 必須項目 | G46: ；目標設定、モニタリング、運用管理体制 | S46: =W46 -> 4400 | T46: =IF($I$9>=30000,Z46,IF($I$9>=10000,Y46,X46)) -> 0 | U46: =IF(AND($L$35>=S46,$L$35<S47),T46,0) -> 0 | W46: 4400
F47: 根拠等 | J47: 水使用量（目標値） | M47: L/m2・年 | S47: =W47 -> 4600 | T47: =IF($I$9>=30000,Z47,IF($I$9>=10000,Y47,X47)) -> 0 | U47: =IF(AND($L$35>=S47,$L$35<S48),T47,0) -> 0 | W47: 4600
D48: 0 | E48: 2.1 | F48: 水使用量（計算値） | I48: 評価しない | S48: =W48 -> 4800 | T48: =IF($I$9>=30000,Z48,IF($I$9>=10000,Y48,X48)) -> 0 | U48: =IF(AND($L$35>=S48,$L$35<S49),T48,0) -> 0 | W48: 4800
F49: 根拠等 | J49: 水使用量（計画値） | M49: L/m2・年 | S49: =W49 -> 5000 | T49: =IF($I$9>=30000,Z49,IF($I$9>=10000,Y49,X49)) -> 0 | U49: =IF(AND($L$35>=S49,$L$35<S50),T49,0) -> 0 | W49: 5000
C50: 6 | D50: 10 | E50: 2.2 | F50: 水使用量（仕様評価） | S50: =W50 -> 5200 | T50: =IF($I$9>=30000,Z50,IF($I$9>=10000,Y50,X50)) -> 0 | U50: =IF(AND($L$35>=S50,$L$35<S51),T50,0) -> 0 | W50: 5200
F51: 根拠等 | G51: 節水型水栓、節水型便器、雨水利用 | J51: 取組数 | M51: 項目 | S51: =W51 -> 5400 | T51: =IF($I$9>=30000,Z51,IF($I$9>=10000,Y51,X51)) -> 0 | U51: =IF(AND($L$35>=S51,$L$35<S52),T51,0) -> 0 | W51: 5400
D52: 0 | E52: 2.3 | F52: 水使用量（実績値） | I52: 評価しない
F53: 根拠等 | J53: 水使用量（実績値） | M53: L/m2・年
C54: =C48+C50+C52 -> 6 | D54: =D48+D50+D52 -> 10 | E54: 合計 | S54: 延床面積 | T54: 水消費量[実績値](L/㎡・年) | U54: 評価建物
S55: 0
C56: ３．資源利用／安全 | S56: 100
C57: 評価 | D57: 最大加点 | J57: 指標 | L57: 評価値 | S57: 200
E58: 必須項目 | G58: ；新耐震基準への適合またはIs値、If値 | S58: 300
F59: 根拠等 | J59: なし | S59: 400
C60: =MAX(C61,C63) -> 3 | D60: 5 | E60: 3.1 | F60: 高耐震・免震等 | I60: 3.1.1と3.1.2の点数の高い方で評価 | S60: 500
C61: 3 | E61: 3.1.1 | F61: 耐震性 | S61: 600
F62: 根拠等 | S62: 700
C63: 3 | E63: 3.1.2 | F63: 免震・制震・制振性能 | S63: 800
F64: 根拠等 | S64: 900
C65: =(C67+C68)/2+C69 -> 2 | D65: 5 | E65: 3.2 | F65: 再生材利用率・廃棄物処理負荷抑制 | S65: 1000
E66: 3.2.1 | F66: 再生材利用率 ・地域材・木材利用 | I66: ①と②の平均で評価する | S66: 1100
C67: 3 | E67: ① | F67: 躯体材料 | S67: 1200
C68: 1 | E68: ② | F68: 非構造材料 | J68: リサイクル材品目数(非構造材) | M68: 品目 | S68: 1300
E69: 3.2.2 | F69: 廃棄物処理負荷抑制 | I69: 評価しない | S69: 1400
F70: 根拠等 | J70: 取組数 | M70: ポイント | S70: 1500
C71: 3 | D71: 5 | E71: 3.3 | F71: 躯体材料の耐用年数 | S71: 1600
F72: 根拠等 | J72: 経過年数＋今後の想定耐用年数 | M72: 年 | S72: 1700
C73: =AVERAGE(C74:C80) -> 2.75 | D73: 5 | E73: 3.4 | F73: 主要設備機器の更新必要間隔／設備の自給率向上／維持管理／バリアフリー | K73: 3.4.1,3.4.2,3.4.3,3.4.4の平均 | S73: 1800
C74: 3 | E74: 3.4.1 | F74: 主要設備機器の更新必要間隔 | S74: 1900
F75: 根拠等 | J75: 更新年数の平均値 | M75: 年 | S75: 2000
C76: 3 | E76: 3.4.2 | F76: 設備（電力等）の自給率向上 | S76: 2100
F77: 根拠等 | J77: 自給率向上の取組数 | M77: 項目
C78: 2 | E78: 3.4.3 | F78: 維持管理
F79: 根拠等 | J79: 維持管理に関する取組数 | M79: ポイント | S79: 2200
C80: 3 | E80: 3.4.4 | F80: バリアフリー計画 | S80: 2300
F81: 根拠等 | S81: 2400
C82: =C60+C65+C71+C73 -> 10.75 | D82: =D60+D65+D71+D73 -> 20 | E82: 合計 | S82: 2500
S83: 2600
C84: ４．生物多様性／敷地 | P84: 環境性能の特徴
C85: 評価 | D85: 最大加点 | J85: 指標 | L85: 評価値
E86: 必須項目 | G86: ；特定外来生物・未判定外来生物・生態系被害防止外来種を使用しない
F87: 根拠等 | J87: なし
C88: 3 | D88: =IF(AND(C90<>"",C90=0),10,5) -> 5 | E88: 4.1 | F88: 生物多様性の向上
D89: [4.2対象外の時は点数を倍] | F89: 根拠等 | J89: ②取組表による場合のポイント数 | M89: ポイント
C90: 3 | D90: =IF(AND(C90<>"",C90=0),0,5) -> 5 | E90: 4.2 | F90: 土壌環境品質・ブラウンフィールド再生
D91: [対策不要は対象外] | F91: 根拠等 | J91: なし
C92: =AVERAGE(C93:C95) -> 3 | D92: 5 | E92: 4.3 | F92: 公共交通機関の接近性
C93: 3 | E93: 4.3.1 | F93: 公共交通機関の接近性
F94: 根拠等 | J94: 鉄道駅またはバス停からの距離 | M94: 分圏内
C95: 3 | E95: 4.3.2 | F95: 交通結節点への接近性、敷地周辺への配慮
F96: 根拠等 | J96: 取組数 | M96: 項目
C97: 3 | D97: 5 | E97: 4.4 | F97: 自然災害リスク対策
F98: 根拠等 | J98: リスクの合計数 | M98: 種類
C100: =C88+C90+C92+C97 -> 12 | D100: =D88+D90+D92+D97 -> 20 | E100: 合計
C102: ５．屋内環境
C103: 評価 | D103: 最大加点 | J103: 指標 | L103: 評価値
...

Sheet ホテル評価結果
X1: スコア
I2: 【ホテル】 | P2: 建築環境SDGsチェックリスト評価結果 | W2: ゴール3 | X2: =IF(建築環境SDGsチェックリスト!$D$3="ホテル",建築環境SDGsチェックリスト!H116,"0") -> 0
W3: ゴール4 | X3: =IF(建築環境SDGsチェックリスト!$D$3="ホテル",建築環境SDGsチェックリスト!H117,"0") -> 0
W4: ゴール5 | X4: =IF(建築環境SDGsチェックリスト!$D$3="ホテル",建築環境SDGsチェックリスト!H118,"0") -> 0
I5: ■使用評価マニュアル： | J5: =オフィス評価結果!J5 -> CASBEE-不動産 2024年版 | M5: =オフィス評価結果!M5 -> v1.21 | W5: ゴール6 | X5: =IF(建築環境SDGsチェックリスト!$D$3="ホテル",建築環境SDGsチェックリスト!H119,"0") -> 0
C6: 建物概要 | W6: ゴール7 | X6: =IF(建築環境SDGsチェックリスト!$D$3="ホテル",建築環境SDGsチェックリスト!H120,"0") -> 0
C7: 建物名称 | D7: ○○ホテル | H7: 敷地面積 | I7: ○○○ | J7: m2 | K7: 評価の段階 | L7: 運用段階評価 | S7: 項目 | T7: 充足率 | W7: ゴール8 | X7: =IF(建築環境SDGsチェックリスト!$D$3="ホテル",建築環境SDGsチェックリスト!H121,"0") -> 0
C8: 建設地 | D8: ○○県○○市XXXXXX | H8: 建築面積 | I8: ○○○ | J8: m2 | K8: 評価の実施日 | L8: 20XX/XX/XX | S8: =C25 -> １．エネルギー／温暖化ガス | T8: =IF(C42/D42>1,1,C42/D42) -> 0.74285714 | W8: ゴール9 | X8: =IF(建築環境SDGsチェックリスト!$D$3="ホテル",建築環境SDGsチェックリスト!H122,"0") -> 0
C9: 用途地域 | D9: 商業地域、防火地域 | H9: 延床面積（評価対象分） | I9: ○○○ | J9: m2 | K9: 作成者 | L9: ○○○ | S9: =C44 -> ２．水 | T9: =C54/D54 -> 0.6 | W9: ゴール11 | X9: =IF(建築環境SDGsチェックリスト!$D$3="ホテル",建築環境SDGsチェックリスト!H123,"0") -> 0
C10: 建物用途 | D10: ホテル | H10: 階数 | I10: 地上○○F | K10: 不動産評価員番号 | S10: =C56 -> ３．資源利用／安全 | T10: =C82/D82 -> 0.5375 | W10: ゴール12 | X10: =IF(建築環境SDGsチェックリスト!$D$3="ホテル",建築環境SDGsチェックリスト!H124,"0") -> 0
C11: 竣工年月 | D11: 19XX/XX/XX | H11: 構造 | I11: RC造 | K11: 確認日 | L11: 20XX/XX/XX | S11: =C84 -> ４．生物多様性／敷地 | T11: =C100/D100 -> 0.6 | W11: ゴール13 | X11: =IF(建築環境SDGsチェックリスト!$D$3="ホテル",建築環境SDGsチェックリスト!H125,"0") -> 0
C12: 直近の大規模改修実施年月 | F12: 20XX/XX/XX | H12: 常勤者・宿泊者 | I12: XXX, XXX | J12: 人 | K12: 確認者 | L12: ○○○ | S12: =C102 -> ５．屋内環境 | T12: =C128/D128 -> 0.6 | W12: ゴール15 | X12: =IF(建築環境SDGsチェックリスト!$D$3="ホテル",建築環境SDGsチェックリスト!H126,"0") -> 0
C13: 部分評価の場合の特記事項 | F13: 例）建物全体延床面積○○㎡ | H13: 年間使用日数 | I13: XXX | J13: 日/年 | K13: 不動産評価員番号 | W13: ゴール17 | X13: =IF(建築環境SDGsチェックリスト!$D$3="ホテル",建築環境SDGsチェックリスト!H127,"0") -> 0 | Z13: 評価しない
C15: 評価結果 | W15: SDGsRank | X15: =(AVERAGE(X2:X13)-1)*2+1 -> #DIV/0!
S16: 赤星 | T16: 点星 | W16: SDGsRank(Ring) | X16: =IF(X15=1,1,IF(X15<1.5,1,IF(X15<2.5,2,IF(X15<3.5,3,IF(X15<4.5,4,5)))))/5 -> #DIV/0! | Z16: 緑星 | AA16: 点星
C17: =C42+C54+C82+C100+C128 -> 63.75 | D17: /100 | E17: 合計 | I17: ホールライフカーボンの評価 | M17: =IF(Z17=0,Z13,"") -> 評価しない | S17: =IF(C17>=F19,5,IF(C17>=F20,4,IF(C17>=F21,3,IF(C17>=F22,2,0)))) -> 3 | T17: =5-S17 -> 2 | W17: (BlankRing) | X17: =1-X16 -> #DIV/0! | Z17: =C132 -> 0 | AA17: =IF(M17=Z13,0,5-Z17) -> 0
C18: （得点 | D18: / 満点）
C19: S ランク；★★★★★ | E19: ≧ | F19: 78 | S19: 適合
C20: A ランク；★★★★ | E20: ≧ | F20: 66 | S20: 不適合
C21: B+ランク；★★★ | E21: ≧ | F21: 60 | J21: 取組項目数：A1-A5 | K21: =IF(M17=Z13,"",L132) | L21: B1,B3-B5 | M21: =IF(M17=Z13,"",L134)
C22: B ランク；★★ | E22: ≧ | F22: 50 | J22: B6-B7 | K22: =IF(M17=Z13,"",L133) | L22: C1-C4 | M22: =IF(M17=Z13,"",L135)
C23: ポイントは小数点第1位までの表示とする | S23: 延床面積 | T23: =IF($I$9>=30000,Z23,IF($I$9>=10000,Y23,X23)) -> 30,000m2以上 | U23: 評価建物 | W23: 延床面積 | X23: 10,000㎡未満 | Y23: 10,000m2以上30,000m2未満 | Z23: 30,000m2以上
S24: =W24 -> 0 | T24: =IF($I$9>=30000,Z24,IF($I$9>=10000,Y24,X24)) -> 0 | U24: =IF(AND($L$35>=S24,$L$35<S25),T24,0) -> 0 | W24: 0
C25: １．エネルギー／温暖化ガス | S25: =W25 -> 200 | T25: =IF($I$9>=30000,Z25,IF($I$9>=10000,Y25,X25)) -> 0 | U25: =IF(AND($L$35>=S25,$L$35<S26),T25,0) -> 0 | W25: 200
C26: 評価 | D26: 最大加点 | J26: 指標 | K26: (*は参考値) | L26: 評価値 | S26: =W26 -> 400 | T26: =IF($I$9>=30000,Z26,IF($I$9>=10000,Y26,X26)) -> 0 | U26: =IF(AND($L$35>=S26,$L$35<S27),T26,0) -> 0 | W26: 400
E27: 必須項目 | G27: ；省エネルギー基準への適合、目標設定、モニタリング、運用管理体制 | S27: =W27 -> 600 | T27: =IF($I$9>=30000,Z27,IF($I$9>=10000,Y27,X27)) -> 0 | U27: =IF(AND($L$35>=S27,$L$35<S28),T27,0) -> 0 | W27: 600
D28: 加点 1 | F28: 根拠等 | J28: 一次エネルギー(目標値) | M28: MJ/m2・年 | S28: =W28 -> 800 | T28: =IF($I$9>=30000,Z28,IF($I$9>=10000,Y28,X28)) -> 0 | U28: =IF(AND($L$35>=S28,$L$35<S29),T28,0) -> 0 | W28: 800
S29: =W29 -> 1000 | T29: =IF($I$9>=30000,Z29,IF($I$9>=10000,Y29,X29)) -> 0 | U29: =IF(AND($L$35>=S29,$L$35<S30),T29,0) -> 0 | W29: 1000
C30: 20 | D30: 25 | E30: 1.1 | F30: 使用・排出原単位（計算値） | S30: =W30 -> 1200 | T30: =IF($I$9>=30000,Z30,IF($I$9>=10000,Y30,X30)) -> 0 | U30: =IF(AND($L$35>=S30,$L$35<S31),T30,0) -> 0 | W30: 1200
F31: 根拠等 | J31: 一次エネルギー(計画値） | M31: MJ/m2・年 | S31: =W31 -> 1400 | T31: =IF($I$9>=30000,Z31,IF($I$9>=10000,Y31,X31)) -> 0 | U31: =IF(AND($L$35>=S31,$L$35<S32),T31,0) -> 0 | W31: 1400
J32: 二次エネルギー(*) | M32: kWh/m2・年 | S32: =W32 -> 1600 | T32: =IF($I$9>=30000,Z32,IF($I$9>=10000,Y32,X32)) -> 0 | U32: =IF(AND($L$35>=S32,$L$35<S33),T32,0) -> 0 | W32: 1600
J33: GHG排出量(*) | M33: kg-CO2eq/m2・年 | S33: =W33 -> 1800 | T33: =IF($I$9>=30000,Z33,IF($I$9>=10000,Y33,X33)) -> 0 | U33: =IF(AND($L$35>=S33,$L$35<S34),T33,0) -> 0 | W33: 1800
C34: 3 | D34: 5 | E34: 1.2 | F34: 使用・排出原単位（実績値） | S34: =W34 -> 2000 | T34: =IF($I$9>=30000,Z34,IF($I$9>=10000,Y34,X34)) -> 0 | U34: =IF(AND($L$35>=S34,$L$35<S35),T34,0) -> 0 | W34: 2000
F35: 根拠等 | J35: 一次エネルギー(実績値） | M35: MJ/m2・年 | S35: =W35 -> 2200 | T35: =IF($I$9>=30000,Z35,IF($I$9>=10000,Y35,X35)) -> 0 | U35: =IF(AND($L$35>=S35,$L$35<S36),T35,0) -> 0 | W35: 2200
J36: 二次エネルギー(*) | M36: kWh/m2・年 | S36: =W36 -> 2400 | T36: =IF($I$9>=30000,Z36,IF($I$9>=10000,Y36,X36)) -> 0 | U36: =IF(AND($L$35>=S36,$L$35<S37),T36,0) -> 0 | W36: 2400
J37: GHG排出量(*) | M37: kg-CO2eq/m2・年 | S37: =W37 -> 2600 | T37: =IF($I$9>=30000,Z37,IF($I$9>=10000,Y37,X37)) -> 0 | U37: =IF(AND($L$35>=S37,$L$35<S38),T37,0) -> 0 | W37: 2600
D38: 0 | E38: 1.3 | F38: 省エネルギー（仕様評価） | I38: 評価しない | S38: =W38 -> 2800 | T38: =IF($I$9>=30000,Z38,IF($I$9>=10000,Y38,X38)) -> 0 | U38: =IF(AND($L$35>=S38,$L$35<S39),T38,0) -> 0 | W38: 2800
F39: 根拠等 | J39: 導入された対策項目数 | M39: 項目 | S39: =W39 -> 3000 | T39: =IF($I$9>=30000,Z39,IF($I$9>=10000,Y39,X39)) -> 0 | U39: =IF(AND($L$35>=S39,$L$35<S40),T39,0) -> 0 | W39: 3000
C40: 3 | D40: 5 | E40: 1.4 | F40: 自然エネルギー（間接利用） | S40: =W40 -> 3200 | T40: =IF($I$9>=30000,Z40,IF($I$9>=10000,Y40,X40)) -> 0 | U40: =IF(AND($L$35>=S40,$L$35<S41),T40,0) -> 0 | W40: 3200
F41: 根拠等 | J41: 利用率 | M41: % | S41: =W41 -> 3400 | T41: =IF($I$9>=30000,Z41,IF($I$9>=10000,Y41,X41)) -> 0 | U41: =IF(AND($L$35>=S41,$L$35<S42),T41,0) -> 0 | W41: 3400
C42: =C28+C30+C34+C38+C40 -> 26 | D42: =D30+D34+D38+D40 -> 35 | E42: 合計 | S42: =W42 -> 3600 | T42: =IF($I$9>=30000,Z42,IF($I$9>=10000,Y42,X42)) -> 0 | U42: =IF(AND($L$35>=S42,$L$35<S43),T42,0) -> 0 | W42: 3600
S43: =W43 -> 3800 | T43: =IF($I$9>=30000,Z43,IF($I$9>=10000,Y43,X43)) -> 0 | U43: =IF(AND($L$35>=S43,$L$35<S44),T43,0) -> 0 | W43: 3800
C44: ２．水 | S44: =W44 -> 4000 | T44: =IF($I$9>=30000,Z44,IF($I$9>=10000,Y44,X44)) -> 0 | U44: =IF(AND($L$35>=S44,$L$35<S45),T44,0) -> 0 | W44: 4000
C45: 評価 | D45: 最大加点 | J45: 指標 | L45: 評価値 | S45: =W45 -> 4200 | T45: =IF($I$9>=30000,Z45,IF($I$9>=10000,Y45,X45)) -> 0 | U45: =IF(AND($L$35>=S45,$L$35<S46),T45,0) -> 0 | W45: 4200
E46: 必須項目 | G46: ；目標設定、モニタリング、運用管理体制 | S46: =W46 -> 4400 | T46: =IF($I$9>=30000,Z46,IF($I$9>=10000,Y46,X46)) -> 0 | U46: =IF(AND($L$35>=S46,$L$35<S47),T46,0) -> 0 | W46: 4400
F47: 根拠等 | J47: 水使用量（目標値） | M47: L/m2・年 | S47: =W47 -> 4600 | T47: =IF($I$9>=30000,Z47,IF($I$9>=10000,Y47,X47)) -> 0 | U47: =IF(AND($L$35>=S47,$L$35<S48),T47,0) -> 0 | W47: 4600
C48: 3 | D48: 5 | E48: 2.1 | F48: 水使用量（計算値） | S48: =W48 -> 4800 | T48: =IF($I$9>=30000,Z48,IF($I$9>=10000,Y48,X48)) -> 0 | U48: =IF(AND($L$35>=S48,$L$35<S49),T48,0) -> 0 | W48: 4800
F49: 根拠等 | J49: 水使用量（計画値） | M49: L/m2・年 | S49: =W49 -> 5000 | T49: =IF($I$9>=30000,Z49,IF($I$9>=10000,Y49,X49)) -> 0 | U49: =IF(AND($L$35>=S49,$L$35<S50),T49,0) -> 0 | W49: 5000
D50: 0 | E50: 2.2 | F50: 水使用量（仕様評価） | I50: 評価しない | S50: =W50 -> 5200 | T50: =IF($I$9>=30000,Z50,IF($I$9>=10000,Y50,X50)) -> 0 | U50: =IF(AND($L$35>=S50,$L$35<S51),T50,0) -> 0 | W50: 5200
F51: 根拠等 | J51: 水使用量（計画値） | M51: L/m2・年 | S51: =W51 -> 5400 | T51: =IF($I$9>=30000,Z51,IF($I$9>=10000,Y51,X51)) -> 0 | U51: =IF(AND($L$35>=S51,$L$35<S52),T51,0) -> 0 | W51: 5400
C52: 3 | D52: 5 | E52: 2.3 | F52: 水使用量（実績値）
F53: 根拠等 | J53: 水使用量（実績値） | M53: L/m2・年
C54: =C48+C50+C52 -> 6 | D54: =D48+D50+D52 -> 10 | E54: 合計 | S54: 延床面積 | T54: 水消費量[実績値](L/㎡・年) | U54: 評価建物
S55: 0
C56: ３．資源利用／安全 | S56: 100
C57: 評価 | D57: 最大加点 | J57: 指標 | L57: 評価値 | S57: 200
E58: 必須項目 | G58: ；新耐震基準への適合またはIs値、If値 | S58: 300
F59: 根拠等 | J59: なし | S59: 400
C60: =MAX(C61,C63) -> 3 | D60: 5 | E60: 3.1 | F60: 高耐震・免震等 | I60: 3.1.1と3.1.2の点数の高い方で評価 | S60: 500
C61: 3 | E61: 3.1.1 | F61: 耐震性 | S61: 600
F62: 根拠等 | S62: 700
C63: 3 | E63: 3.1.2 | F63: 免震・制震・制振性能 | S63: 800
F64: 根拠等 | S64: 900
C65: =(C67+C68)/2+C69 -> 2 | D65: 5 | E65: 3.2 | F65: 再生材利用率・廃棄物処理負荷抑制 | S65: 1000
E66: 3.2.1 | F66: 再生材利用率 ・地域材・木材利用 | I66: ①と②の平均で評価する | S66: 1100
C67: 3 | E67: ① | F67: 躯体材料 | S67: 1200
C68: 1 | E68: ② | F68: 非構造材料 | J68: リサイクル材品目数(非構造材) | M68: 品目 | S68: 1300
E69: 3.2.2 | F69: 廃棄物処理負荷抑制 | I69: 評価しない | S69: 1400
F70: 根拠等 | J70: 取組数 | M70: ポイント | S70: 1500
C71: 3 | D71: 5 | E71: 3.3 | F71: 躯体材料の耐用年数 | S71: 1600
F72: 根拠等 | J72: 経過年数＋今後の想定耐用年数 | M72: 年 | S72: 1700
C73: =AVERAGE(C74:C80) -> 2.75 | D73: 5 | E73: 3.4 | F73: 主要設備機器の更新必要間隔／設備の自給率向上／維持管理／バリアフリー | K73: 3.4.1,3.4.2,3.4.3,3.4.4の平均 | S73: 1800
C74: 3 | E74: 3.4.1 | F74: 主要設備機器の更新必要間隔 | S74: 1900
F75: 根拠等 | J75: 更新年数の平均値 | M75: 年 | S75: 2000
C76: 3 | E76: 3.4.2 | F76: 設備（電力等）の自給率向上 | S76: 2100
F77: 根拠等 | J77: 自給率向上の取組数 | M77: 項目
C78: 2 | E78: 3.4.3 | F78: 維持管理
F79: 根拠等 | J79: 維持管理に関する取組数 | M79: ポイント | S79: 2200
C80: 3 | E80: 3.4.4 | F80: バリアフリー計画 | S80: 2300
F81: 根拠等 | S81: 2400
C82: =C60+C65+C71+C73 -> 10.75 | D82: =D60+D65+D71+D73 -> 20 | E82: 合計 | S82: 2500
S83: 2600
C84: ４．生物多様性／敷地 | P84: 環境性能の特徴
C85: 評価 | D85: 最大加点 | J85: 指標 | L85: 評価値
E86: 必須項目 | G86: ；特定外来生物・未判定外来生物・生態系被害防止外来種を使用しない
F87: 根拠等 | J87: なし
C88: 3 | D88: =IF(AND(C90<>"",C90=0),10,5) -> 5 | E88: 4.1 | F88: 生物多様性の向上
D89: [4.2対象外の時は点数を倍] | F89: 根拠等 | J89: ②取組表による場合のポイント数 | M89: ポイント
C90: 3 | D90: =IF(AND(C90<>"",C90=0),0,5) -> 5 | E90: 4.2 | F90: 土壌環境品質・ブラウンフィールド再生
D91: [対策不要は対象外] | F91: 根拠等 | J91: なし
C92: =AVERAGE(C93:C95) -> 3 | D92: 5 | E92: 4.3 | F92: 公共交通機関の接近性
C93: 3 | E93: 4.3.1 | F93: 公共交通機関の接近性
F94: 根拠等 | J94: 鉄道駅またはバス停からの距離 | M94: 分圏内
E95: 4.3.2 | F95: 交通結節点への接近性、敷地周辺への配慮 | I95: 評価しない
F96: 根拠等 | J96: 取組数 | M96: 項目
C97: 3 | D97: 5 | E97: 4.4 | F97: 自然災害リスク対策
F98: 根拠等 | J98: リスクの合計数 | M98: 種類
C100: =C88+C90+C92+C97 -> 12 | D100: =D88+D90+D92+D97 -> 20 | E100: 合計
C102: ５．屋内環境
C103: 評価 | D103: 最大加点 | J103: 指標 | L103: 評価値
...

Sheet 集合住宅評価結果
X1: スコア
I2: 【集合住宅】 | W2: ゴール3 | X2: =IF(建築環境SDGsチェックリスト!$D$3="集合住宅",建築環境SDGsチェックリスト!H116,"0") -> 0
W3: ゴール4 | X3: =IF(建築環境SDGsチェックリスト!$D$3="集合住宅",建築環境SDGsチェックリスト!H117,"0") -> 0
W4: ゴール5 | X4: =IF(建築環境SDGsチェックリスト!$D$3="集合住宅",建築環境SDGsチェックリスト!H118,"0") -> 0
I5: ■使用評価マニュアル： | J5: =オフィス評価結果!J5 -> CASBEE-不動産 2024年版 | M5: =オフィス評価結果!M5 -> v1.21 | P5: 建築環境SDGsチェックリスト評価結果 | W5: ゴール6 | X5: =IF(建築環境SDGsチェックリスト!$D$3="集合住宅",建築環境SDGsチェックリスト!H119,"0") -> 0
C6: 建物概要 | W6: ゴール7 | X6: =IF(建築環境SDGsチェックリスト!$D$3="集合住宅",建築環境SDGsチェックリスト!H120,"0") -> 0
C7: 建物名称 | D7: ○○マンション | H7: 敷地面積 | I7: ○○○ | J7: m2 | K7: 評価の段階 | L7: 運用段階評価 | S7: 項目 | T7: 充足率 | W7: ゴール8 | X7: =IF(建築環境SDGsチェックリスト!$D$3="集合住宅",建築環境SDGsチェックリスト!H121,"0") -> 0
C8: 建設地 | D8: ○○県○○市XXXXXX | H8: 建築面積 | I8: ○○○ | J8: m2 | K8: 評価の実施日 | L8: 20XX/XX/XX | S8: =C25 -> １．エネルギー／温暖化ガス | T8: =IF(C42/D42>1,1,C42/D42) -> 0.76666667 | W8: ゴール9 | X8: =IF(建築環境SDGsチェックリスト!$D$3="集合住宅",建築環境SDGsチェックリスト!H122,"0") -> 0
C9: 用途地域 | D9: 商業地域、防火地域 | H9: 延床面積（評価対象分） | I9: ○○○ | J9: m2 | K9: 作成者 | L9: ○○○ | S9: =C44 -> ２．水 | T9: =C54/D54 -> 0.6 | W9: ゴール11 | X9: =IF(建築環境SDGsチェックリスト!$D$3="集合住宅",建築環境SDGsチェックリスト!H123,"0") -> 0
C10: 建物用途 | D10: 共同住宅 | H10: 階数 | I10: 地上○○F | K10: 不動産評価員番号 | S10: =C56 -> ３．資源利用／安全 | T10: =C82/D82 -> 0.5375 | W10: ゴール12 | X10: =IF(建築環境SDGsチェックリスト!$D$3="集合住宅",建築環境SDGsチェックリスト!H124,"0") -> 0
C11: 竣工年月 | D11: 19XX/XX/XX | H11: 構造 | I11: RC造 | K11: 確認日 | L11: 20XX/XX/XX | S11: =C84 -> ４．生物多様性／敷地 | T11: =C100/D100 -> 0.6 | W11: ゴール13 | X11: =IF(建築環境SDGsチェックリスト!$D$3="集合住宅",建築環境SDGsチェックリスト!H125,"0") -> 0
C12: 直近の大規模改修実施年月 | F12: 20XX/XX/XX | H12: 平均居住人員 | I12: XXX | J12: 人 | K12: 確認者 | L12: ○○○ | S12: =C102 -> ５．屋内環境 | T12: =C128/D128 -> 0.48333333 | W12: ゴール15 | X12: =IF(建築環境SDGsチェックリスト!$D$3="集合住宅",建築環境SDGsチェックリスト!H126,"0") -> 0
C13: 部分評価の場合の特記事項 | F13: 例）建物全体延床面積○○㎡ | H13: 年間使用時間 | I13: XXX | J13: 時間/年 | K13: 不動産評価員番号 | W13: ゴール17 | X13: =IF(建築環境SDGsチェックリスト!$D$3="集合住宅",建築環境SDGsチェックリスト!H127,"0") -> 0 | Z13: 評価しない
C15: 評価結果 | W15: SDGsRank | X15: =(AVERAGE(X2:X13)-1)*2+1 -> #DIV/0!
S16: 赤星 | T16: 点星 | W16: SDGsRank(Ring) | X16: =IF(X15=1,1,IF(X15<1.5,1,IF(X15<2.5,2,IF(X15<3.5,3,IF(X15<4.5,4,5)))))/5 -> #DIV/0! | Z16: 緑星 | AA16: 点星
C17: =C42+C54+C82+C100+C128 -> 61.416667 | D17: /100 | E17: 合計 | I17: ホールライフカーボンの評価 | M17: =IF(Z17=0,Z13,"") -> 評価しない | S17: =IF(C17>=F19,5,IF(C17>=F20,4,IF(C17>=F21,3,IF(C17>=F22,2,0)))) -> 3 | T17: =5-S17 -> 2 | W17: (BlankRing) | X17: =1-X16 -> #DIV/0! | Z17: =C132 -> 0 | AA17: =IF(M17=Z13,0,5-Z17) -> 0
C18: （得点 | D18: / 満点） | W18: 表示有無 | X18: =IF(COUNTIF(建築環境SDGsチェックリスト!$D$2, "*実施する*"), "非表示", "表示") -> 表示
C19: S ランク；★★★★★ | E19: ≧ | F19: 78 | S19: 適合
C20: A ランク；★★★★ | E20: ≧ | F20: 66 | S20: 不適合
C21: B+ランク；★★★ | E21: ≧ | F21: 60 | J21: 取組項目数：A1-A5 | K21: =IF(M17=Z13,"",L132) | L21: B1,B3-B5 | M21: =IF(M17=Z13,"",L134)
C22: B ランク；★★ | E22: ≧ | F22: 50 | J22: B6-B7 | K22: =IF(M17=Z13,"",L133) | L22: C1-C4 | M22: =IF(M17=Z13,"",L135)
C23: ポイントは小数点第1位までの表示とする | S23: 延床面積 | T23: =IF($I$9>=30000,Z23,IF($I$9>=10000,Y23,X23)) -> 30,000m2以上 | U23: 評価建物 | W23: 延床面積 | X23: 10,000㎡未満 | Y23: 10,000m2以上30,000m2未満 | Z23: 30,000m2以上
S24: =W24 -> 0 | T24: =IF($I$9>=30000,Z24,IF($I$9>=10000,Y24,X24)) -> 0 | U24: =IF(AND($L$35>=S24,$L$35<S25),T24,0) -> 0 | W24: 0
C25: １．エネルギー／温暖化ガス | S25: =W25 -> 200 | T25: =IF($I$9>=30000,Z25,IF($I$9>=10000,Y25,X25)) -> 0 | U25: =IF(AND($L$35>=S25,$L$35<S26),T25,0) -> 0 | W25: 200
C26: 評価 | D26: 最大加点 | J26: 指標 | K26: (*は参考値) | L26: 評価値 | S26: =W26 -> 400 | T26: =IF($I$9>=30000,Z26,IF($I$9>=10000,Y26,X26)) -> 0 | U26: =IF(AND($L$35>=S26,$L$35<S27),T26,0) -> 0 | W26: 400
E27: 必須項目 | G27: ；省エネルギー基準への適合、目標設定、モニタリング、運用管理体制 | S27: =W27 -> 600 | T27: =IF($I$9>=30000,Z27,IF($I$9>=10000,Y27,X27)) -> 0 | U27: =IF(AND($L$35>=S27,$L$35<S28),T27,0) -> 0 | W27: 600
D28: 加点 1 | F28: 根拠等 | J28: 一次エネルギー(目標値) | M28: MJ/m2・年 | S28: =W28 -> 800 | T28: =IF($I$9>=30000,Z28,IF($I$9>=10000,Y28,X28)) -> 0 | U28: =IF(AND($L$35>=S28,$L$35<S29),T28,0) -> 0 | W28: 800
S29: =W29 -> 1000 | T29: =IF($I$9>=30000,Z29,IF($I$9>=10000,Y29,X29)) -> 0 | U29: =IF(AND($L$35>=S29,$L$35<S30),T29,0) -> 0 | W29: 1000
C30: 15 | D30: 20 / 15 | E30: 1.1 | F30: 使用・排出原単位（計算値） | S30: =W30 -> 1200 | T30: =IF($I$9>=30000,Z30,IF($I$9>=10000,Y30,X30)) -> 0 | U30: =IF(AND($L$35>=S30,$L$35<S31),T30,0) -> 0 | W30: 1200
F31: 根拠等 | J31: 一次エネルギー(計画値） | M31: MJ/m2・年 | S31: =W31 -> 1400 | T31: =IF($I$9>=30000,Z31,IF($I$9>=10000,Y31,X31)) -> 0 | U31: =IF(AND($L$35>=S31,$L$35<S32),T31,0) -> 0 | W31: 1400
J32: 二次エネルギー(*) | M32: kWh/m2・年 | S32: =W32 -> 1600 | T32: =IF($I$9>=30000,Z32,IF($I$9>=10000,Y32,X32)) -> 0 | U32: =IF(AND($L$35>=S32,$L$35<S33),T32,0) -> 0 | W32: 1600
J33: GHG排出量(*) | M33: kg-CO2eq/m2・年 | S33: =W33 -> 1800 | T33: =IF($I$9>=30000,Z33,IF($I$9>=10000,Y33,X33)) -> 0 | U33: =IF(AND($L$35>=S33,$L$35<S34),T33,0) -> 0 | W33: 1800
C34: 5 | D34: 5 | E34: 1.2 | F34: 使用・排出原単位（実績値） | I34: 共用部の評価 | S34: =W34 -> 2000 | T34: =IF($I$9>=30000,Z34,IF($I$9>=10000,Y34,X34)) -> 0 | U34: =IF(AND($L$35>=S34,$L$35<S35),T34,0) -> 0 | W34: 2000
F35: 根拠等 | J35: 一次エネルギー(実績値） | M35: MJ/m2・年 | S35: =W35 -> 2200 | T35: =IF($I$9>=30000,Z35,IF($I$9>=10000,Y35,X35)) -> 0 | U35: =IF(AND($L$35>=S35,$L$35<S36),T35,0) -> 0 | W35: 2200
J36: 二次エネルギー(*) | M36: kWh/m2・年 | S36: =W36 -> 2400 | T36: =IF($I$9>=30000,Z36,IF($I$9>=10000,Y36,X36)) -> 0 | U36: =IF(AND($L$35>=S36,$L$35<S37),T36,0) -> 0 | W36: 2400
J37: GHG排出量(*) | M37: kg-CO2eq/m2・年 | S37: =W37 -> 2600 | T37: =IF($I$9>=30000,Z37,IF($I$9>=10000,Y37,X37)) -> 0 | U37: =IF(AND($L$35>=S37,$L$35<S38),T37,0) -> 0 | W37: 2600
D38: - / 5 | E38: 1.3 | F38: 省エネルギー（仕様評価） | I38: 専有部の省エネ対策 | S38: =W38 -> 2800 | T38: =IF($I$9>=30000,Z38,IF($I$9>=10000,Y38,X38)) -> 0 | U38: =IF(AND($L$35>=S38,$L$35<S39),T38,0) -> 0 | W38: 2800
F39: 根拠等 | J39: 導入された対策項目数 | M39: 項目 | S39: =W39 -> 3000 | T39: =IF($I$9>=30000,Z39,IF($I$9>=10000,Y39,X39)) -> 0 | U39: =IF(AND($L$35>=S39,$L$35<S40),T39,0) -> 0 | W39: 3000
C40: 3 | D40: 5 | E40: 1.4 | F40: 自然エネルギー（間接利用） | S40: =W40 -> 3200 | T40: =IF($I$9>=30000,Z40,IF($I$9>=10000,Y40,X40)) -> 0 | U40: =IF(AND($L$35>=S40,$L$35<S41),T40,0) -> 0 | W40: 3200
F41: 根拠等 | J41: 利用率 | M41: % | S41: =W41 -> 3400 | T41: =IF($I$9>=30000,Z41,IF($I$9>=10000,Y41,X41)) -> 0 | U41: =IF(AND($L$35>=S41,$L$35<S42),T41,0) -> 0 | W41: 3400
C42: =C28+C30+C34+C38+C40 -> 23 | D42: 30 | E42: 合計 | S42: =W42 -> 3600 | T42: =IF($I$9>=30000,Z42,IF($I$9>=10000,Y42,X42)) -> 0 | U42: =IF(AND($L$35>=S42,$L$35<S43),T42,0) -> 0 | W42: 3600
S43: =W43 -> 3800 | T43: =IF($I$9>=30000,Z43,IF($I$9>=10000,Y43,X43)) -> 0 | U43: =IF(AND($L$35>=S43,$L$35<S44),T43,0) -> 0 | W43: 3800
C44: ２．水 | S44: =W44 -> 4000 | T44: =IF($I$9>=30000,Z44,IF($I$9>=10000,Y44,X44)) -> 0 | U44: =IF(AND($L$35>=S44,$L$35<S45),T44,0) -> 0 | W44: 4000
C45: 評価 | D45: 最大加点 | J45: 指標 | L45: 評価値 | S45: =W45 -> 4200 | T45: =IF($I$9>=30000,Z45,IF($I$9>=10000,Y45,X45)) -> 0 | U45: =IF(AND($L$35>=S45,$L$35<S46),T45,0) -> 0 | W45: 4200
E46: 必須項目 | G46: ；目標設定、モニタリング、運用管理体制 | S46: =W46 -> 4400 | T46: =IF($I$9>=30000,Z46,IF($I$9>=10000,Y46,X46)) -> 0 | U46: =IF(AND($L$35>=S46,$L$35<S47),T46,0) -> 0 | W46: 4400
F47: 根拠等 | J47: 水使用量（目標値） | M47: L/m2・年 | S47: =W47 -> 4600 | T47: =IF($I$9>=30000,Z47,IF($I$9>=10000,Y47,X47)) -> 0 | U47: =IF(AND($L$35>=S47,$L$35<S48),T47,0) -> 0 | W47: 4600
D48: 0 | E48: 2.1 | F48: 水使用量（計算値） | I48: 評価しない | S48: =W48 -> 4800 | T48: =IF($I$9>=30000,Z48,IF($I$9>=10000,Y48,X48)) -> 0 | U48: =IF(AND($L$35>=S48,$L$35<S49),T48,0) -> 0 | W48: 4800
F49: 根拠等 | J49: 水使用量（計画値） | M49: L/m2・年 | S49: =W49 -> 5000 | T49: =IF($I$9>=30000,Z49,IF($I$9>=10000,Y49,X49)) -> 0 | U49: =IF(AND($L$35>=S49,$L$35<S50),T49,0) -> 0 | W49: 5000
C50: 3 | D50: 5 | E50: 2.2 | F50: 水使用量（仕様評価） | S50: =W50 -> 5200 | T50: =IF($I$9>=30000,Z50,IF($I$9>=10000,Y50,X50)) -> 0 | U50: =IF(AND($L$35>=S50,$L$35<S51),T50,0) -> 0 | W50: 5200
F51: 根拠等 | J51: 取組数 | M51: 項目 | S51: =W51 -> 5400 | T51: =IF($I$9>=30000,Z51,IF($I$9>=10000,Y51,X51)) -> 0 | U51: =IF(AND($L$35>=S51,$L$35<S52),T51,0) -> 0 | W51: 5400
C52: 3 | D52: 5 | E52: 2.3 | F52: 水使用量（実績値）
F53: 根拠等 | J53: 水使用量（実績値） | M53: L/m2・年
C54: =C48+C50+C52 -> 6 | D54: =D48+D50+D52 -> 10 | E54: 合計 | S54: 延床面積 | T54: 水消費量[実績値](L/㎡・年) | U54: 評価建物
S55: 0
C56: ３．資源利用／安全 | S56: 100
C57: 評価 | D57: 最大加点 | J57: 指標 | L57: 評価値 | S57: 200
E58: 必須項目 | G58: ；新耐震基準への適合またはIs値、If値 | S58: 300
F59: 根拠等 | J59: なし | S59: 400
C60: =MAX(C61,C63) -> 3 | D60: 5 | E60: 3.1 | F60: 高耐震・免震等 | I60: 3.1.1と3.1.2の点数の高い方で評価 | S60: 500
C61: 3 | E61: 3.1.1 | F61: 耐震性 | S61: 600
F62: 根拠等 | S62: 700
C63: 3 | E63: 3.1.2 | F63: 免震・制震・制振性能 | S63: 800
F64: 根拠等 | S64: 900
C65: =(((C67+C68)/2)+C69)/2+C70 -> 2.5 | D65: 5 | E65: 3.2 | F65: 再生材利用率・廃棄物処理負荷抑制 | I65: 3.2.1と3.2.2の平均で評価する | S65: 1000
E66: 3.2.1 | F66: 再生材利用率 ・地域材・木材利用 | I66: ①と②の平均で評価する | S66: 1100
C67: 3 | E67: ① | F67: 躯体材料 | S67: 1200
C68: 1 | E68: ② | F68: 非構造材料 | J68: リサイクル材品目数(非構造材) | M68: 品目 | S68: 1300
C69: 3 | E69: 3.2.2 | F69: 廃棄物処理負荷抑制 | S69: 1400
D70: 加点 1 | F70: 根拠等 | J70: 取組数 | M70: ポイント | S70: 1500
C71: 3 | D71: 5 | E71: 3.3 | F71: 躯体材料の耐用年数 | S71: 1600
F72: 根拠等 | J72: 経過年数＋今後の想定耐用年数 | M72: 年 | S72: 1700
C73: =AVERAGE(C74:C80) -> 2.25 | D73: 5 | E73: 3.4 | F73: 主要設備機器の更新必要間隔／設備の自給率向上／維持管理／バリアフリー | K73: 3.4.1,3.4.2,3.4.3,3.4.4の平均 | S73: 1800
C74: 3 | E74: 3.4.1 | F74: 主要設備機器の更新必要間隔 | S74: 1900
F75: 根拠等 | J75: 更新年数の平均値 | M75: 年 | S75: 2000
C76: 1 | E76: 3.4.2 | F76: 設備（電力等）の自給率向上 | S76: 2100
F77: 根拠等 | J77: 自給率向上の取組数 | M77: 項目
C78: 2 | E78: 3.4.3 | F78: 維持管理
F79: 根拠等 | J79: 維持管理に関する取組数 | M79: ポイント | S79: 2200
C80: 3 | E80: 3.4.4 | F80: バリアフリー計画 | S80: 2300
F81: 根拠等 | S81: 2400
C82: =C60+C65+C71+C73 -> 10.75 | D82: 20 | E82: 合計 | S82: 2500
S83: 2600
C84: ４．生物多様性／敷地 | P84: 環境性能の特徴
C85: 評価 | D85: 最大加点 | J85: 指標 | L85: 評価値
E86: 必須項目 | G86: ；特定外来生物・未判定外来生物・生態系被害防止外来種を使用しない
F87: 根拠等 | J87: なし
C88: 3 | D88: =IF(AND(C90<>"",C90=0),10,5) -> 5 | E88: 4.1 | F88: 生物多様性の向上
D89: [4.2対象外の時は点数を倍] | F89: 根拠等 | J89: ②取組表による場合のポイント数 | M89: ポイント
C90: 3 | D90: =IF(AND(C90<>"",C90=0),0,5) -> 5 | E90: 4.2 | F90: 土壌環境品質・ブラウンフィールド再生
D91: [対策不要は対象外] | F91: 根拠等 | J91: なし
C92: =AVERAGE(C93:C95) -> 3 | D92: 5 | E92: 4.3 | F92: 公共交通機関の接近性
C93: 3 | E93: 4.3.1 | F93: 公共交通機関の接近性
F94: 根拠等 | J94: 鉄道駅またはバス停からの距離 | M94: 分圏内
E95: 4.3.2 | F95: 交通結節点への接近性、敷地周辺への配慮 | I95: 評価しない
F96: 根拠等 | J96: 取組数 | M96: 項目
C97: 3 | D97: 5 | E97: 4.4 | F97: 自然災害リスク対策
F98: 根拠等 | J98: リスクの合計数 | M98: 種類
C100: =C88+C90+C92+C97 -> 12 | D100: =D88+D90+D92+D97 -> 20 | E100: 合計
C102: ５．屋内環境
C103: 評価 | D103: 最大加点 | J103: 指標 | L103: 評価値
...

Sheet オフィス改修評価結果
X1: スコア
I2: 【オフィス(改修)】 | W2: ゴール3 | X2: =IF(建築環境SDGsチェックリスト!$D$3="オフィス改修",建築環境SDGsチェックリスト!H116,"0") -> 0
P3: 建築環境SDGsチェックリスト評価結果 | W3: ゴール4 | X3: =IF(建築環境SDGsチェックリスト!$D$3="オフィス改修",建築環境SDGsチェックリスト!H117,"0") -> 0
W4: ゴール5 | X4: =IF(建築環境SDGsチェックリスト!$D$3="オフィス改修",建築環境SDGsチェックリスト!H118,"0") -> 0
I5: ■使用評価マニュアル： | J5: =オフィス評価結果!J5 -> CASBEE-不動産 2024年版 | M5: =オフィス評価結果!M5 -> v1.21 | W5: ゴール6 | X5: =IF(建築環境SDGsチェックリスト!$D$3="オフィス改修",建築環境SDGsチェックリスト!H119,"0") -> 0
C6: 建物概要 | W6: ゴール7 | X6: =IF(建築環境SDGsチェックリスト!$D$3="オフィス改修",建築環境SDGsチェックリスト!H120,"0") -> 0
C7: 建物名称 | D7: ○○ビル | H7: 敷地面積 | I7: ○○○ | J7: m2 | K7: 評価の段階 | L7: 改修段階評価 | S7: 項目 | T7: 充足率 | W7: ゴール8 | X7: =IF(建築環境SDGsチェックリスト!$D$3="オフィス改修",建築環境SDGsチェックリスト!H121,"0") -> 0
C8: 建設地 | D8: ○○県○○市XXXXXX | H8: 建築面積 | I8: ○○○ | J8: m2 | K8: 評価の実施日 | L8: 20XX/XX/XX | S8: =C25 -> １．エネルギー／温暖化ガス | T8: =IF(C42/D42>1,1,C42/D42) -> 0.6 | W8: ゴール9 | X8: =IF(建築環境SDGsチェックリスト!$D$3="オフィス改修",建築環境SDGsチェックリスト!H122,"0") -> 0
C9: 用途地域 | D9: 商業地域、防火地域 | H9: 延床面積（評価対象分） | I9: ○○○ | J9: m2 | K9: 作成者 | L9: ○○○ | S9: =C44 -> ２．水 | T9: =C54/D54 -> 0.6 | W9: ゴール11 | X9: =IF(建築環境SDGsチェックリスト!$D$3="オフィス改修",建築環境SDGsチェックリスト!H123,"0") -> 0
C10: 建物用途 | D10: 事務所 | H10: 階数 | I10: 地上○○F | K10: 不動産評価員番号 | S10: =C56 -> ３．資源利用／安全 | T10: =C82/D82 -> 0.5375 | W10: ゴール12 | X10: =IF(建築環境SDGsチェックリスト!$D$3="オフィス改修",建築環境SDGsチェックリスト!H124,"0") -> 0
C11: 竣工年月 | D11: 19XX/XX/XX | H11: 構造 | I11: RC造 | K11: 確認日 | L11: 20XX/XX/XX | S11: =C84 -> ４．生物多様性／敷地 | T11: =C100/D100 -> 0.6 | W11: ゴール13 | X11: =IF(建築環境SDGsチェックリスト!$D$3="オフィス改修",建築環境SDGsチェックリスト!H125,"0") -> 0
C12: 直近の大規模改修実施年月 | F12: 20XX/XX/XX | H12: 平均居住人員 | I12: XXX | J12: 人 | K12: 確認者 | L12: ○○○ | S12: =C102 -> ５．屋内環境 | T12: =C128/D128 -> 0.8 | W12: ゴール15 | X12: =IF(建築環境SDGsチェックリスト!$D$3="オフィス改修",建築環境SDGsチェックリスト!H126,"0") -> 0
C13: 部分評価の場合の特記事項 | F13: 例）建物全体延床面積○○㎡ | H13: 年間使用時間 | I13: XXX | J13: 時間/年 | K13: 不動産評価員番号 | W13: ゴール17 | X13: =IF(建築環境SDGsチェックリスト!$D$3="オフィス改修",建築環境SDGsチェックリスト!H127,"0") -> 0 | Z13: 評価しない
C15: 評価結果 | W15: SDGsRank | X15: =(AVERAGE(X2:X13)-1)*2+1 -> #DIV/0!
S16: 赤星 | T16: 点星 | W16: SDGsRank(Ring) | X16: =IF(X15=1,1,IF(X15<1.5,1,IF(X15<2.5,2,IF(X15<3.5,3,IF(X15<4.5,4,5)))))/5 -> #DIV/0! | Z16: 緑星 | AA16: 点星
C17: =C42+C54+C82+C100+C128 -> 61.75 | D17: /100 | E17: 合計 | I17: ホールライフカーボンの評価 | M17: =IF(Z17=0,Z13,"") -> 評価しない | S17: =IF(C17>=F19,5,IF(C17>=F20,4,IF(C17>=F21,3,IF(C17>=F22,2,0)))) -> 3 | T17: =5-S17 -> 2 | W17: (BlankRing) | X17: =1-X16 -> #DIV/0! | Z17: =C132 -> 0 | AA17: =IF(M17=Z13,0,5-Z17) -> 0
C18: （得点 | D18: / 満点）
C19: S ランク；★★★★★ | E19: ≧ | F19: 78 | S19: 適合
C20: A ランク；★★★★ | E20: ≧ | F20: 66 | S20: 不適合
C21: B+ランク；★★★ | E21: ≧ | F21: 60 | J21: 取組項目数：A1-A5 | K21: =IF(M17=Z13,"",L132) | L21: B1,B3-B5 | M21: =IF(M17=Z13,"",L134)
C22: B ランク；★★ | E22: ≧ | F22: 50 | J22: B6-B7 | K22: =IF(M17=Z13,"",L133) | L22: C1-C4 | M22: =IF(M17=Z13,"",L135) | W22: =オフィス評価結果!W22 -> DECC2019年公開データ【最新データ年度のみ】
C23: ポイントは小数点第1位までの表示とする | S23: 延床面積 | T23: =IF($I$9>=30000,Z23,IF($I$9>=10000,Y23,X23)) -> 30,000m2以上 | U23: 評価建物 | W23: 延床面積 | X23: 10,000㎡未満 | Y23: 10,000m2以上30,000m2未満 | Z23: 30,000m2以上
S24: =W24 -> 0 | T24: =IF($I$9>=30000,Z24,IF($I$9>=10000,Y24,X24)) -> 1 | U24: =IF(AND($L$35>=S24,$L$35<S25),T24,0) -> 1 | W24: =オフィス評価結果!W24 -> 0 | X24: =オフィス評価結果!X24 -> 7 | Y24: =オフィス評価結果!Y24 -> 0 | Z24: =オフィス評価結果!Z24 -> 1
C25: １．エネルギー／温暖化ガス | S25: =W25 -> 200 | T25: =IF($I$9>=30000,Z25,IF($I$9>=10000,Y25,X25)) -> 2 | U25: =IF(AND($L$35>=S25,$L$35<S26),T25,0) -> 0 | W25: =オフィス評価結果!W25 -> 200 | X25: =オフィス評価結果!X25 -> 49 | Y25: =オフィス評価結果!Y25 -> 0 | Z25: =オフィス評価結果!Z25 -> 2
C26: 評価 | D26: 最大加点 | J26: 指標 | K26: (*は参考値) | L26: 評価値 | S26: =W26 -> 400 | T26: =IF($I$9>=30000,Z26,IF($I$9>=10000,Y26,X26)) -> 3 | U26: =IF(AND($L$35>=S26,$L$35<S27),T26,0) -> 0 | W26: =オフィス評価結果!W26 -> 400 | X26: =オフィス評価結果!X26 -> 66 | Y26: =オフィス評価結果!Y26 -> 5 | Z26: =オフィス評価結果!Z26 -> 3
E27: 必須項目 | G27: ；省エネルギー基準への適合、目標設定、モニタリング、運用管理体制 | S27: =W27 -> 600 | T27: =IF($I$9>=30000,Z27,IF($I$9>=10000,Y27,X27)) -> 4 | U27: =IF(AND($L$35>=S27,$L$35<S28),T27,0) -> 0 | W27: =オフィス評価結果!W27 -> 600 | X27: =オフィス評価結果!X27 -> 104 | Y27: =オフィス評価結果!Y27 -> 14 | Z27: =オフィス評価結果!Z27 -> 4
D28: 加点 1 | F28: 根拠等 | J28: 一次エネルギー(目標値) | M28: MJ/m2・年 | S28: =W28 -> 800 | T28: =IF($I$9>=30000,Z28,IF($I$9>=10000,Y28,X28)) -> 8 | U28: =IF(AND($L$35>=S28,$L$35<S29),T28,0) -> 0 | W28: =オフィス評価結果!W28 -> 800 | X28: =オフィス評価結果!X28 -> 194 | Y28: =オフィス評価結果!Y28 -> 28 | Z28: =オフィス評価結果!Z28 -> 8
S29: =W29 -> 1000 | T29: =IF($I$9>=30000,Z29,IF($I$9>=10000,Y29,X29)) -> 9 | U29: =IF(AND($L$35>=S29,$L$35<S30),T29,0) -> 0 | W29: =オフィス評価結果!W29 -> 1000 | X29: =オフィス評価結果!X29 -> 255 | Y29: =オフィス評価結果!Y29 -> 61 | Z29: =オフィス評価結果!Z29 -> 9
C30: 15 | D30: 25 | E30: 1.1 | F30: 使用・排出原単位（計算値） | S30: =W30 -> 1200 | T30: =IF($I$9>=30000,Z30,IF($I$9>=10000,Y30,X30)) -> 22 | U30: =IF(AND($L$35>=S30,$L$35<S31),T30,0) -> 0 | W30: =オフィス評価結果!W30 -> 1200 | X30: =オフィス評価結果!X30 -> 245 | Y30: =オフィス評価結果!Y30 -> 82 | Z30: =オフィス評価結果!Z30 -> 22
F31: 根拠等 | J31: 一次エネルギー(計画値） | M31: MJ/m2・年 | S31: =W31 -> 1400 | T31: =IF($I$9>=30000,Z31,IF($I$9>=10000,Y31,X31)) -> 22 | U31: =IF(AND($L$35>=S31,$L$35<S32),T31,0) -> 0 | W31: =オフィス評価結果!W31 -> 1400 | X31: =オフィス評価結果!X31 -> 225 | Y31: =オフィス評価結果!Y31 -> 101 | Z31: =オフィス評価結果!Z31 -> 22
J32: 二次エネルギー(*) | M32: kWh/m2・年 | S32: =W32 -> 1600 | T32: =IF($I$9>=30000,Z32,IF($I$9>=10000,Y32,X32)) -> 34 | U32: =IF(AND($L$35>=S32,$L$35<S33),T32,0) -> 0 | W32: =オフィス評価結果!W32 -> 1600 | X32: =オフィス評価結果!X32 -> 167 | Y32: =オフィス評価結果!Y32 -> 89 | Z32: =オフィス評価結果!Z32 -> 34
J33: GHG排出量(*) | M33: kg-CO2eq/m2・年 | S33: =W33 -> 1800 | T33: =IF($I$9>=30000,Z33,IF($I$9>=10000,Y33,X33)) -> 39 | U33: =IF(AND($L$35>=S33,$L$35<S34),T33,0) -> 0 | W33: =オフィス評価結果!W33 -> 1800 | X33: =オフィス評価結果!X33 -> 117 | Y33: =オフィス評価結果!Y33 -> 70 | Z33: =オフィス評価結果!Z33 -> 39
C34: 3 | D34: 5 | E34: 1.2 | F34: 使用・排出原単位（実績値） | S34: =W34 -> 2000 | T34: =IF($I$9>=30000,Z34,IF($I$9>=10000,Y34,X34)) -> 44 | U34: =IF(AND($L$35>=S34,$L$35<S35),T34,0) -> 0 | W34: =オフィス評価結果!W34 -> 2000 | X34: =オフィス評価結果!X34 -> 78 | Y34: =オフィス評価結果!Y34 -> 58 | Z34: =オフィス評価結果!Z34 -> 44
F35: 根拠等 | J35: 一次エネルギー(実績値） | M35: MJ/m2・年 | S35: =W35 -> 2200 | T35: =IF($I$9>=30000,Z35,IF($I$9>=10000,Y35,X35)) -> 32 | U35: =IF(AND($L$35>=S35,$L$35<S36),T35,0) -> 0 | W35: =オフィス評価結果!W35 -> 2200 | X35: =オフィス評価結果!X35 -> 53 | Y35: =オフィス評価結果!Y35 -> 47 | Z35: =オフィス評価結果!Z35 -> 32
J36: 二次エネルギー(*) | M36: kWh/m2・年 | S36: =W36 -> 2400 | T36: =IF($I$9>=30000,Z36,IF($I$9>=10000,Y36,X36)) -> 23 | U36: =IF(AND($L$35>=S36,$L$35<S37),T36,0) -> 0 | W36: =オフィス評価結果!W36 -> 2400 | X36: =オフィス評価結果!X36 -> 37 | Y36: =オフィス評価結果!Y36 -> 28 | Z36: =オフィス評価結果!Z36 -> 23
J37: GHG排出量(*) | M37: kg-CO2eq/m2・年 | S37: =W37 -> 2600 | T37: =IF($I$9>=30000,Z37,IF($I$9>=10000,Y37,X37)) -> 23 | U37: =IF(AND($L$35>=S37,$L$35<S38),T37,0) -> 0 | W37: =オフィス評価結果!W37 -> 2600 | X37: =オフィス評価結果!X37 -> 25 | Y37: =オフィス評価結果!Y37 -> 17 | Z37: =オフィス評価結果!Z37 -> 23
D38: 0 | E38: 1.3 | F38: 省エネルギー（仕様評価） | I38: 評価しない | S38: =W38 -> 2800 | T38: =IF($I$9>=30000,Z38,IF($I$9>=10000,Y38,X38)) -> 14 | U38: =IF(AND($L$35>=S38,$L$35<S39),T38,0) -> 0 | W38: =オフィス評価結果!W38 -> 2800 | X38: =オフィス評価結果!X38 -> 21 | Y38: =オフィス評価結果!Y38 -> 26 | Z38: =オフィス評価結果!Z38 -> 14
F39: 根拠等 | J39: 導入された対策項目数 | M39: 項目 | S39: =W39 -> 3000 | T39: =IF($I$9>=30000,Z39,IF($I$9>=10000,Y39,X39)) -> 5 | U39: =IF(AND($L$35>=S39,$L$35<S40),T39,0) -> 0 | W39: =オフィス評価結果!W39 -> 3000 | X39: =オフィス評価結果!X39 -> 11 | Y39: =オフィス評価結果!Y39 -> 8 | Z39: =オフィス評価結果!Z39 -> 5
C40: 3 | D40: 5 | E40: 1.4 | F40: 自然エネルギー（間接利用） | S40: =W40 -> 3200 | T40: =IF($I$9>=30000,Z40,IF($I$9>=10000,Y40,X40)) -> 6 | U40: =IF(AND($L$35>=S40,$L$35<S41),T40,0) -> 0 | W40: =オフィス評価結果!W40 -> 3200 | X40: =オフィス評価結果!X40 -> 11 | Y40: =オフィス評価結果!Y40 -> 6 | Z40: =オフィス評価結果!Z40 -> 6
F41: 根拠等 | J41: 利用率 | M41: % | S41: =W41 -> 3400 | T41: =IF($I$9>=30000,Z41,IF($I$9>=10000,Y41,X41)) -> 12 | U41: =IF(AND($L$35>=S41,$L$35<S42),T41,0) -> 0 | W41: =オフィス評価結果!W41 -> 3400 | X41: =オフィス評価結果!X41 -> 8 | Y41: =オフィス評価結果!Y41 -> 7 | Z41: =オフィス評価結果!Z41 -> 12
C42: =C28+C30+C34+C38+C40 -> 21 | D42: =D30+D34+D38+D40 -> 35 | E42: 合計 | S42: =W42 -> 3600 | T42: =IF($I$9>=30000,Z42,IF($I$9>=10000,Y42,X42)) -> 3 | U42: =IF(AND($L$35>=S42,$L$35<S43),T42,0) -> 0 | W42: =オフィス評価結果!W42 -> 3600 | X42: =オフィス評価結果!X42 -> 9 | Y42: =オフィス評価結果!Y42 -> 4 | Z42: =オフィス評価結果!Z42 -> 3
S43: =W43 -> 3800 | T43: =IF($I$9>=30000,Z43,IF($I$9>=10000,Y43,X43)) -> 5 | U43: =IF(AND($L$35>=S43,$L$35<S44),T43,0) -> 0 | W43: =オフィス評価結果!W43 -> 3800 | X43: =オフィス評価結果!X43 -> 5 | Y43: =オフィス評価結果!Y43 -> 5 | Z43: =オフィス評価結果!Z43 -> 5
C44: ２．水 | S44: =W44 -> 4000 | T44: =IF($I$9>=30000,Z44,IF($I$9>=10000,Y44,X44)) -> 4 | U44: =IF(AND($L$35>=S44,$L$35<S45),T44,0) -> 0 | W44: =オフィス評価結果!W44 -> 4000 | X44: =オフィス評価結果!X44 -> 6 | Y44: =オフィス評価結果!Y44 -> 5 | Z44: =オフィス評価結果!Z44 -> 4
C45: 評価 | D45: 最大加点 | J45: 指標 | L45: 評価値 | S45: =W45 -> 4200 | T45: =IF($I$9>=30000,Z45,IF($I$9>=10000,Y45,X45)) -> 1 | U45: =IF(AND($L$35>=S45,$L$35<S46),T45,0) -> 0 | W45: =オフィス評価結果!W45 -> 4200 | X45: =オフィス評価結果!X45 -> 4 | Y45: =オフィス評価結果!Y45 -> 6 | Z45: =オフィス評価結果!Z45 -> 1
E46: 必須項目 | G46: ；目標設定、モニタリング、運用管理体制 | S46: =W46 -> 4400 | T46: =IF($I$9>=30000,Z46,IF($I$9>=10000,Y46,X46)) -> 2 | U46: =IF(AND($L$35>=S46,$L$35<S47),T46,0) -> 0 | W46: =オフィス評価結果!W46 -> 4400 | X46: =オフィス評価結果!X46 -> 4 | Y46: =オフィス評価結果!Y46 -> 3 | Z46: =オフィス評価結果!Z46 -> 2
F47: 根拠等 | J47: 水使用量（目標値） | M47: L/m2・年 | S47: =W47 -> 4600 | T47: =IF($I$9>=30000,Z47,IF($I$9>=10000,Y47,X47)) -> 3 | U47: =IF(AND($L$35>=S47,$L$35<S48),T47,0) -> 0 | W47: =オフィス評価結果!W47 -> 4600 | X47: =オフィス評価結果!X47 -> 1 | Y47: =オフィス評価結果!Y47 -> 0 | Z47: =オフィス評価結果!Z47 -> 3
C48: 3 | D48: 5 | E48: 2.1 | F48: 水使用量（計算値） | S48: =W48 -> 4800 | T48: =IF($I$9>=30000,Z48,IF($I$9>=10000,Y48,X48)) -> 0 | U48: =IF(AND($L$35>=S48,$L$35<S49),T48,0) -> 0 | W48: =オフィス評価結果!W48 -> 4800 | X48: =オフィス評価結果!X48 -> 2 | Y48: =オフィス評価結果!Y48 -> 0 | Z48: =オフィス評価結果!Z48 -> 0
F49: 根拠等 | J49: 水使用量（計画値） | M49: L/m2・年 | S49: =W49 -> 5000 | T49: =IF($I$9>=30000,Z49,IF($I$9>=10000,Y49,X49)) -> 0 | U49: =IF(AND($L$35>=S49,$L$35<S50),T49,0) -> 0 | W49: =オフィス評価結果!W49 -> 5000 | X49: =オフィス評価結果!X49 -> 0 | Y49: =オフィス評価結果!Y49 -> 0 | Z49: =オフィス評価結果!Z49 -> 0
D50: 0 | E50: 2.2 | F50: 水使用量（仕様評価） | I50: 評価しない | S50: =W50 -> 5200 | T50: =IF($I$9>=30000,Z50,IF($I$9>=10000,Y50,X50)) -> 0 | U50: =IF(AND($L$35>=S50,$L$35<S51),T50,0) -> 0 | W50: =オフィス評価結果!W50 -> 5200 | X50: =オフィス評価結果!X50 -> 0 | Y50: =オフィス評価結果!Y50 -> 0 | Z50: =オフィス評価結果!Z50 -> 0
F51: 根拠等 | J51: 水使用量（計画値） | M51: L/m2・年 | S51: =W51 -> 5400 | T51: =IF($I$9>=30000,Z51,IF($I$9>=10000,Y51,X51)) -> 0 | U51: =IF(AND($L$35>=S51,$L$35<S52),T51,0) -> 0 | W51: =オフィス評価結果!W51 -> 5400 | X51: =オフィス評価結果!X51 -> 0 | Y51: =オフィス評価結果!Y51 -> 0 | Z51: =オフィス評価結果!Z51 -> 0
C52: 3 | D52: 5 | E52: 2.3 | F52: 水使用量（実績値）
F53: 根拠等 | J53: 水使用量（実績値） | M53: L/m2・年
C54: =C48+C50+C52 -> 6 | D54: =D48+D50+D52 -> 10 | E54: 合計 | S54: =オフィス評価結果!S54 -> 延床面積 | T54: =オフィス評価結果!T54 -> 水消費量[実績値](L/㎡・年) | U54: 評価建物
S55: =オフィス評価結果!S55 -> 0 | T55: =オフィス評価結果!T55 -> 0 | U55: =IF(AND($L$53>=S55,$L$53<S56),T55,0) -> 0
C56: ３．資源利用／安全 | S56: =オフィス評価結果!S56 -> 100 | T56: =オフィス評価結果!T56 -> 0 | U56: =IF(AND($L$53>=S56,$L$53<S57),T56,0) -> 0
C57: 評価 | D57: 最大加点 | J57: 指標 | L57: 評価値 | S57: =オフィス評価結果!S57 -> 200 | T57: =オフィス評価結果!T57 -> 0 | U57: =IF(AND($L$53>=S57,$L$53<S58),T57,0) -> 0
E58: 必須項目 | G58: ；新耐震基準への適合またはIs値、If値 | S58: =オフィス評価結果!S58 -> 300 | T58: =オフィス評価結果!T58 -> 90 | U58: =IF(AND($L$53>=S58,$L$53<S59),T58,0) -> 0
F59: 根拠等 | J59: なし | S59: =オフィス評価結果!S59 -> 400 | T59: =オフィス評価結果!T59 -> 183 | U59: =IF(AND($L$53>=S59,$L$53<S60),T59,0) -> 0
C60: =MAX(C61,C63) -> 3 | D60: 5 | E60: 3.1 | F60: 高耐震・免震等 | I60: 3.1.1と3.1.2の点数の高い方で評価 | S60: =オフィス評価結果!S60 -> 500 | T60: =オフィス評価結果!T60 -> 234 | U60: =IF(AND($L$53>=S60,$L$53<S61),T60,0) -> 0
C61: 3 | E61: 3.1.1 | F61: 耐震性 | S61: =オフィス評価結果!S61 -> 600 | T61: =オフィス評価結果!T61 -> 230 | U61: =IF(AND($L$53>=S61,$L$53<S62),T61,0) -> 0
F62: 根拠等 | S62: =オフィス評価結果!S62 -> 700 | T62: =オフィス評価結果!T62 -> 236 | U62: =IF(AND($L$53>=S62,$L$53<S63),T62,0) -> 0
C63: 3 | E63: 3.1.2 | F63: 免震・制震・制振性能 | S63: =オフィス評価結果!S63 -> 800 | T63: =オフィス評価結果!T63 -> 198 | U63: =IF(AND($L$53>=S63,$L$53<S64),T63,0) -> 0
F64: 根拠等 | S64: =オフィス評価結果!S64 -> 900 | T64: =オフィス評価結果!T64 -> 165 | U64: =IF(AND($L$53>=S64,$L$53<S65),T64,0) -> 0
C65: =(C67+C68)/2+C69 -> 2 | D65: 5 | E65: 3.2 | F65: 再生材利用率・廃棄物処理負荷抑制 | S65: =オフィス評価結果!S65 -> 1000 | T65: =オフィス評価結果!T65 -> 139 | U65: =IF(AND($L$53>=S65,$L$53<S66),T65,0) -> 0
E66: 3.2.1 | F66: 再生材利用率 ・地域材・木材利用 | I66: ①と②の平均で評価する | S66: =オフィス評価結果!S66 -> 1100 | T66: =オフィス評価結果!T66 -> 131 | U66: =IF(AND($L$53>=S66,$L$53<S67),T66,0) -> 0
C67: 3 | E67: ① | F67: 躯体材料 | S67: =オフィス評価結果!S67 -> 1200 | T67: =オフィス評価結果!T67 -> 77 | U67: =IF(AND($L$53>=S67,$L$53<S68),T67,0) -> 0
C68: 1 | E68: ② | F68: 非構造材料 | J68: リサイクル材品目数(非構造材) | M68: 品目 | S68: =オフィス評価結果!S68 -> 1300 | T68: =オフィス評価結果!T68 -> 46 | U68: =IF(AND($L$53>=S68,$L$53<S69),T68,0) -> 0
E69: 3.2.2 | F69: 廃棄物処理負荷抑制 | I69: 評価しない | S69: =オフィス評価結果!S69 -> 1400 | T69: =オフィス評価結果!T69 -> 48 | U69: =IF(AND($L$53>=S69,$L$53<S70),T69,0) -> 0
F70: 根拠等 | J70: 取組数 | M70: ポイント | S70: =オフィス評価結果!S70 -> 1500 | T70: =オフィス評価結果!T70 -> 26 | U70: =IF(AND($L$53>=S70,$L$53<S71),T70,0) -> 0
C71: 3 | D71: 5 | E71: 3.3 | F71: 躯体材料の耐用年数 | S71: =オフィス評価結果!S71 -> 1600 | T71: =オフィス評価結果!T71 -> 26 | U71: =IF(AND($L$53>=S71,$L$53<S72),T71,0) -> 0
F72: 根拠等 | J72: 経過年数＋今後の想定耐用年数 | M72: 年 | S72: =オフィス評価結果!S72 -> 1700 | T72: =オフィス評価結果!T72 -> 24 | U72: =IF(AND($L$53>=S72,$L$53<S73),T72,0) -> 0
C73: =AVERAGE(C74:C80) -> 2.75 | D73: 5 | E73: 3.4 | F73: 主要設備機器の更新必要間隔／設備の自給率向上／維持管理／バリアフリー | K73: 3.4.1,3.4.2,3.4.3,3.4.4の平均 | S73: =オフィス評価結果!S73 -> 1800 | T73: =オフィス評価結果!T73 -> 15 | U73: =IF(AND($L$53>=S73,$L$53<S74),T73,0) -> 0
C74: 3 | E74: 3.4.1 | F74: 主要設備機器の更新必要間隔 | S74: =オフィス評価結果!S74 -> 1900 | T74: =オフィス評価結果!T74 -> 14 | U74: =IF(AND($L$53>=S74,$L$53<S75),T74,0) -> 0
F75: 根拠等 | J75: 更新年数の平均値 | M75: 年 | S75: =オフィス評価結果!S75 -> 2000 | T75: =オフィス評価結果!T75 -> 6 | U75: =IF(AND($L$53>=S75,$L$53<S76),T75,0) -> 0
C76: 3 | E76: 3.4.2 | F76: 設備（電力等）の自給率向上 | S76: =オフィス評価結果!S76 -> 2100 | T76: =オフィス評価結果!T76 -> 13 | U76: =IF(AND($L$53>=S76,$L$53<S77),T76,0) -> 0
F77: 根拠等 | J77: 自給率向上の取組数 | M77: 項目 | S77: =オフィス評価結果!S77 -> 2200 | T77: =オフィス評価結果!T77 -> 4 | U77: =IF(AND($L$53>=S77,$L$53<S78),T77,0) -> 0
C78: 2 | E78: 3.4.3 | F78: 維持管理 | S78: =オフィス評価結果!S78 -> 2300 | T78: =オフィス評価結果!T78 -> 11 | U78: =IF(AND($L$53>=S78,$L$53<S79),T78,0) -> 0
F79: 根拠等 | J79: 維持管理に関する取組数 | M79: ポイント | S79: =オフィス評価結果!S79 -> 2400 | T79: =オフィス評価結果!T79 -> 3 | U79: =IF(AND($L$53>=S79,$L$53<S80),T79,0) -> 0
C80: 3 | E80: 3.4.4 | F80: バリアフリー計画 | S80: =オフィス評価結果!S80 -> 2500 | T80: =オフィス評価結果!T80 -> 0 | U80: =IF(AND($L$53>=S80,$L$53<S81),T80,0) -> 0
F81: 根拠等 | S81: =オフィス評価結果!S81 -> 2600 | T81: =オフィス評価結果!T81 -> 0 | U81: =IF(AND($L$53>=S81,$L$53<S82),T81,0) -> 0
C82: =C60+C65+C71+C73 -> 10.75 | D82: =D60+D65+D71+D73 -> 20 | E82: 合計 | S82: =オフィス評価結果!S82 -> 2700 | T82: =オフィス評価結果!T82 -> 0 | U82: =IF(AND($L$53>=S82,$L$53<S83),T82,0) -> 0
S83: =オフィス評価結果!S83 -> 2800 | T83: =オフィス評価結果!T83 -> 0 | U83: =IF(AND($L$53>=S83,$L$53<S84),T83,0) -> 0
C84: ４．生物多様性／敷地
C85: 評価 | D85: 最大加点 | J85: 指標 | L85: 評価値
E86: 必須項目 | G86: ；特定外来生物・未判定外来生物・生態系被害防止外来種を使用しない
F87: 根拠等 | J87: なし
C88: 3 | D88: =IF(AND(C90<>"",C90=0),10,5) -> 5 | E88: 4.1 | F88: 生物多様性の向上
D89: [4.2対象外の時は点数を倍] | F89: 根拠等 | J89: ②取組表による場合のポイント数 | M89: ポイント
C90: 3 | D90: =IF(AND(C90<>"",C90=0),0,5) -> 5 | E90: 4.2 | F90: 土壌環境品質・ブラウンフィールド再生
D91: [対策不要は対象外] | F91: 根拠等 | J91: なし
C92: =AVERAGE(C93:C95) -> 3 | D92: 5 | E92: 4.3 | F92: 公共交通機関の接近性
C93: 3 | E93: 4.3.1 | F93: 公共交通機関の接近性
F94: 根拠等 | J94: 鉄道駅またはバス停からの距離 | M94: 分圏内
E95: 4.3.2 | F95: 交通結節点への接近性、敷地周辺への配慮 | I95: 評価しない
F96: 根拠等 | J96: 取組数 | M96: 項目
C97: 3 | D97: 5 | E97: 4.4 | F97: 自然災害リスク対策
F98: 根拠等 | J98: リスクの合計数 | M98: 種類
C100: =C88+C90+C92+C97 -> 12 | D100: =D88+D90+D92+D97 -> 20 | E100: 合計
C102: ５．屋内環境 | P102: 環境性能の特徴
C103: 評価 | D103: 最大加点 | J103: 指標 | L103: 評価値
...

Sheet 店舗改修評価結果
X1: スコア
I2: 【店舗(改修)】 | W2: ゴール3 | X2: =IF(建築環境SDGsチェックリスト!$D$3="店舗改修",建築環境SDGsチェックリスト!H116,"0") -> 0
W3: ゴール4 | X3: =IF(建築環境SDGsチェックリスト!$D$3="店舗改修",建築環境SDGsチェックリスト!H117,"0") -> 0
W4: ゴール5 | X4: =IF(建築環境SDGsチェックリスト!$D$3="店舗改修",建築環境SDGsチェックリスト!H118,"0") -> 0
I5: ■使用評価マニュアル： | J5: =オフィス評価結果!J5 -> CASBEE-不動産 2024年版 | M5: =オフィス評価結果!M5 -> v1.21 | P5: 建築環境SDGsチェックリスト評価結果 | W5: ゴール6 | X5: =IF(建築環境SDGsチェックリスト!$D$3="店舗改修",建築環境SDGsチェックリスト!H119,"0") -> 0
C6: 建物概要 | W6: ゴール7 | X6: =IF(建築環境SDGsチェックリスト!$D$3="店舗改修",建築環境SDGsチェックリスト!H120,"0") -> 0
C7: 建物名称 | D7: ○○ショッピングセンター | H7: 敷地面積 | I7: ○○○ | J7: m2 | K7: 評価の段階 | L7: 改修段階評価 | S7: 項目 | T7: 充足率 | W7: ゴール8 | X7: =IF(建築環境SDGsチェックリスト!$D$3="店舗改修",建築環境SDGsチェックリスト!H121,"0") -> 0
C8: 建設地 | D8: ○○県○○市XXXXXX | H8: 建築面積 | I8: ○○○ | J8: m2 | K8: 評価の実施日 | L8: 20XX/XX/XX | S8: =C25 -> １．エネルギー／温暖化ガス | T8: =IF(C42/D42>1,1,C42/D42) -> 0.6 | W8: ゴール9 | X8: =IF(建築環境SDGsチェックリスト!$D$3="店舗改修",建築環境SDGsチェックリスト!H122,"0") -> 0
C9: 用途地域 | D9: 商業地域、防火地域 | H9: 延床面積（評価対象分） | I9: ○○○ | J9: m2 | K9: 作成者 | L9: ○○○ | S9: =C44 -> ２．水 | T9: =C54/D54 -> 0.7 | W9: ゴール11 | X9: =IF(建築環境SDGsチェックリスト!$D$3="店舗改修",建築環境SDGsチェックリスト!H123,"0") -> 0
C10: 建物用途 | D10: 店舗 | H10: 階数 | I10: 地上○○F | K10: 不動産評価員番号 | S10: =C56 -> ３．資源利用／安全 | T10: =C82/D82 -> 0.55 | W10: ゴール12 | X10: =IF(建築環境SDGsチェックリスト!$D$3="店舗改修",建築環境SDGsチェックリスト!H124,"0") -> 0
C11: 竣工年月 | D11: 19XX/XX/XX | H11: 構造 | I11: RC造 | K11: 確認日 | L11: 20XX/XX/XX | S11: =C84 -> ４．生物多様性／敷地 | T11: =C100/D100 -> 0.6 | W11: ゴール13 | X11: =IF(建築環境SDGsチェックリスト!$D$3="店舗改修",建築環境SDGsチェックリスト!H125,"0") -> 0
C12: 直近の大規模改修実施年月 | F12: なし | H12: 常勤者・来場者 | I12: XXX | J12: 人 | K12: 確認者 | L12: ○○○ | S12: =C102 -> ５．屋内環境 | T12: =C128/D128 -> 1.1 | W12: ゴール15 | X12: =IF(建築環境SDGsチェックリスト!$D$3="店舗改修",建築環境SDGsチェックリスト!H126,"0") -> 0
C13: 部分評価の場合の特記事項 | F13: 例）建物全体延床面積○○㎡ | H13: 年間使用日数 | I13: XXX | J13: 日/年 | K13: 不動産評価員番号 | W13: ゴール17 | X13: =IF(建築環境SDGsチェックリスト!$D$3="店舗改修",建築環境SDGsチェックリスト!H127,"0") -> 0 | Z13: 評価しない
C15: 評価結果 | W15: SDGsRank | X15: =(AVERAGE(X2:X13)-1)*2+1 -> #DIV/0!
S16: 赤星 | T16: 点星 | W16: SDGsRank(Ring) | X16: =IF(X15=1,1,IF(X15<1.5,1,IF(X15<2.5,2,IF(X15<3.5,3,IF(X15<4.5,4,5)))))/5 -> #DIV/0! | Z16: 緑星 | AA16: 点星
C17: =C42+C54+C82+C100+C128 -> 64.75 | D17: /100 | E17: 合計 | I17: ホールライフカーボンの評価 | M17: =IF(Z17=0,Z13,"") -> 評価しない | S17: =IF(C17>=F19,5,IF(C17>=F20,4,IF(C17>=F21,3,IF(C17>=F22,2,0)))) -> 3 | T17: =5-S17 -> 2 | W17: (BlankRing) | X17: =1-X16 -> #DIV/0! | Z17: =C132 -> 0 | AA17: =IF(M17=Z13,0,5-Z17) -> 0
C18: （得点 | D18: / 満点）
C19: S ランク；★★★★★ | E19: ≧ | F19: 78 | S19: 適合
C20: A ランク；★★★★ | E20: ≧ | F20: 66 | S20: 不適合
C21: B+ランク；★★★ | E21: ≧ | F21: 60 | J21: 取組項目数：A1-A5 | K21: =IF(M17=Z13,"",L132) | L21: B1,B3-B5 | M21: =IF(M17=Z13,"",L134)
C22: B ランク；★★ | E22: ≧ | F22: 50 | J22: B6-B7 | K22: =IF(M17=Z13,"",L133) | L22: C1-C4 | M22: =IF(M17=Z13,"",L135)
C23: ポイントは小数点第1位までの表示とする | S23: 延床面積 | T23: =IF($I$9>=30000,Z23,IF($I$9>=10000,Y23,X23)) -> 30,000m2以上 | U23: 評価建物 | W23: 延床面積 | X23: 10,000㎡未満 | Y23: 10,000m2以上30,000m2未満 | Z23: 30,000m2以上
S24: =W24 -> 0 | T24: =IF($I$9>=30000,Z24,IF($I$9>=10000,Y24,X24)) -> 0 | U24: =IF(AND($L$35>=S24,$L$35<S25),T24,0) -> 0 | W24: 0
C25: １．エネルギー／温暖化ガス | S25: =W25 -> 200 | T25: =IF($I$9>=30000,Z25,IF($I$9>=10000,Y25,X25)) -> 0 | U25: =IF(AND($L$35>=S25,$L$35<S26),T25,0) -> 0 | W25: 200
C26: 評価 | D26: 最大加点 | J26: 指標 | K26: (*は参考値) | L26: 評価値 | S26: =W26 -> 400 | T26: =IF($I$9>=30000,Z26,IF($I$9>=10000,Y26,X26)) -> 0 | U26: =IF(AND($L$35>=S26,$L$35<S27),T26,0) -> 0 | W26: 400
E27: 必須項目 | G27: ；省エネルギー基準への適合、目標設定、モニタリング、運用管理体制 | S27: =W27 -> 600 | T27: =IF($I$9>=30000,Z27,IF($I$9>=10000,Y27,X27)) -> 0 | U27: =IF(AND($L$35>=S27,$L$35<S28),T27,0) -> 0 | W27: 600
D28: 加点 1 | F28: 根拠等 | J28: 一次エネルギー(目標値) | M28: MJ/m2・年 | S28: =W28 -> 800 | T28: =IF($I$9>=30000,Z28,IF($I$9>=10000,Y28,X28)) -> 0 | U28: =IF(AND($L$35>=S28,$L$35<S29),T28,0) -> 0 | W28: 800
S29: =W29 -> 1000 | T29: =IF($I$9>=30000,Z29,IF($I$9>=10000,Y29,X29)) -> 0 | U29: =IF(AND($L$35>=S29,$L$35<S30),T29,0) -> 0 | W29: 1000
C30: 15 | D30: 25 | E30: 1.1 | F30: 使用・排出原単位（計算値） | S30: =W30 -> 1200 | T30: =IF($I$9>=30000,Z30,IF($I$9>=10000,Y30,X30)) -> 0 | U30: =IF(AND($L$35>=S30,$L$35<S31),T30,0) -> 0 | W30: 1200
F31: 根拠等 | J31: 一次エネルギー(計画値） | M31: MJ/m2・年 | S31: =W31 -> 1400 | T31: =IF($I$9>=30000,Z31,IF($I$9>=10000,Y31,X31)) -> 0 | U31: =IF(AND($L$35>=S31,$L$35<S32),T31,0) -> 0 | W31: 1400
J32: 二次エネルギー(*) | M32: kWh/m2・年 | S32: =W32 -> 1600 | T32: =IF($I$9>=30000,Z32,IF($I$9>=10000,Y32,X32)) -> 0 | U32: =IF(AND($L$35>=S32,$L$35<S33),T32,0) -> 0 | W32: 1600
J33: GHG排出量(*) | M33: kg-CO2eq/m2・年 | S33: =W33 -> 1800 | T33: =IF($I$9>=30000,Z33,IF($I$9>=10000,Y33,X33)) -> 0 | U33: =IF(AND($L$35>=S33,$L$35<S34),T33,0) -> 0 | W33: 1800
C34: 3 | D34: 5 | E34: 1.2 | F34: 使用・排出原単位（実績値） | S34: =W34 -> 2000 | T34: =IF($I$9>=30000,Z34,IF($I$9>=10000,Y34,X34)) -> 0 | U34: =IF(AND($L$35>=S34,$L$35<S35),T34,0) -> 0 | W34: 2000
F35: 根拠等 | J35: 一次エネルギー(実績値） | M35: MJ/m2・年 | S35: =W35 -> 2200 | T35: =IF($I$9>=30000,Z35,IF($I$9>=10000,Y35,X35)) -> 0 | U35: =IF(AND($L$35>=S35,$L$35<S36),T35,0) -> 0 | W35: 2200
J36: 二次エネルギー(*) | M36: kWh/m2・年 | S36: =W36 -> 2400 | T36: =IF($I$9>=30000,Z36,IF($I$9>=10000,Y36,X36)) -> 0 | U36: =IF(AND($L$35>=S36,$L$35<S37),T36,0) -> 0 | W36: 2400
J37: GHG排出量(*) | M37: kg-CO2eq/m2・年 | S37: =W37 -> 2600 | T37: =IF($I$9>=30000,Z37,IF($I$9>=10000,Y37,X37)) -> 0 | U37: =IF(AND($L$35>=S37,$L$35<S38),T37,0) -> 0 | W37: 2600
D38: 0 | E38: 1.3 | F38: 省エネルギー（仕様評価） | I38: 評価しない | S38: =W38 -> 2800 | T38: =IF($I$9>=30000,Z38,IF($I$9>=10000,Y38,X38)) -> 0 | U38: =IF(AND($L$35>=S38,$L$35<S39),T38,0) -> 0 | W38: 2800
F39: 根拠等 | J39: 導入された対策項目数 | M39: 項目 | S39: =W39 -> 3000 | T39: =IF($I$9>=30000,Z39,IF($I$9>=10000,Y39,X39)) -> 0 | U39: =IF(AND($L$35>=S39,$L$35<S40),T39,0) -> 0 | W39: 3000
C40: 3 | D40: 5 | E40: 1.4 | F40: 自然エネルギー（間接利用） | S40: =W40 -> 3200 | T40: =IF($I$9>=30000,Z40,IF($I$9>=10000,Y40,X40)) -> 0 | U40: =IF(AND($L$35>=S40,$L$35<S41),T40,0) -> 0 | W40: 3200
F41: 根拠等 | J41: 利用率 | M41: % | S41: =W41 -> 3400 | T41: =IF($I$9>=30000,Z41,IF($I$9>=10000,Y41,X41)) -> 0 | U41: =IF(AND($L$35>=S41,$L$35<S42),T41,0) -> 0 | W41: 3400
C42: =C28+C30+C34+C38+C40 -> 21 | D42: =D30+D34+D38+D40 -> 35 | E42: 合計 | S42: =W42 -> 3600 | T42: =IF($I$9>=30000,Z42,IF($I$9>=10000,Y42,X42)) -> 0 | U42: =IF(AND($L$35>=S42,$L$35<S43),T42,0) -> 0 | W42: 3600
S43: =W43 -> 3800 | T43: =IF($I$9>=30000,Z43,IF($I$9>=10000,Y43,X43)) -> 0 | U43: =IF(AND($L$35>=S43,$L$35<S44),T43,0) -> 0 | W43: 3800
C44: ２．水 | S44: =W44 -> 4000 | T44: =IF($I$9>=30000,Z44,IF($I$9>=10000,Y44,X44)) -> 0 | U44: =IF(AND($L$35>=S44,$L$35<S45),T44,0) -> 0 | W44: 4000
C45: 評価 | D45: 最大加点 | J45: 指標 | L45: 評価値 | S45: =W45 -> 4200 | T45: =IF($I$9>=30000,Z45,IF($I$9>=10000,Y45,X45)) -> 0 | U45: =IF(AND($L$35>=S45,$L$35<S46),T45,0) -> 0 | W45: 4200
E46: 必須項目 | G46: ；目標設定、モニタリング、運用管理体制 | S46: =W46 -> 4400 | T46: =IF($I$9>=30000,Z46,IF($I$9>=10000,Y46,X46)) -> 0 | U46: =IF(AND($L$35>=S46,$L$35<S47),T46,0) -> 0 | W46: 4400
F47: 根拠等 | J47: 水使用量（目標値） | M47: L/m2・年 | S47: =W47 -> 4600 | T47: =IF($I$9>=30000,Z47,IF($I$9>=10000,Y47,X47)) -> 0 | U47: =IF(AND($L$35>=S47,$L$35<S48),T47,0) -> 0 | W47: 4600
C48: 4 | D48: 5 | E48: 2.1 | F48: 水使用量（計算値） | S48: =W48 -> 4800 | T48: =IF($I$9>=30000,Z48,IF($I$9>=10000,Y48,X48)) -> 0 | U48: =IF(AND($L$35>=S48,$L$35<S49),T48,0) -> 0 | W48: 4800
F49: 根拠等 | J49: 水使用量（計画値） | M49: L/m2・年 | S49: =W49 -> 5000 | T49: =IF($I$9>=30000,Z49,IF($I$9>=10000,Y49,X49)) -> 0 | U49: =IF(AND($L$35>=S49,$L$35<S50),T49,0) -> 0 | W49: 5000
D50: 0 | E50: 2.2 | F50: 水使用量（仕様評価） | I50: 評価しない | S50: =W50 -> 5200 | T50: =IF($I$9>=30000,Z50,IF($I$9>=10000,Y50,X50)) -> 0 | U50: =IF(AND($L$35>=S50,$L$35<S51),T50,0) -> 0 | W50: 5200
F51: 根拠等 | J51: 水使用量（計画値） | M51: L/m2・年 | S51: =W51 -> 5400 | T51: =IF($I$9>=30000,Z51,IF($I$9>=10000,Y51,X51)) -> 0 | U51: =IF(AND($L$35>=S51,$L$35<S52),T51,0) -> 0 | W51: 5400
C52: 3 | D52: 5 | E52: 2.3 | F52: 水使用量（実績値）
F53: 根拠等 | J53: 水使用量（実績値） | M53: L/m2・年
C54: =C48+C50+C52 -> 7 | D54: =D48+D50+D52 -> 10 | E54: 合計 | S54: 延床面積 | T54: 水消費量[実績値](L/㎡・年) | U54: 評価建物
S55: 0
C56: ３．資源利用／安全 | S56: 100
C57: 評価 | D57: 最大加点 | J57: 指標 | L57: 評価値 | S57: 200
E58: 必須項目 | G58: ；新耐震基準への適合またはIs値、If値 | S58: 300
F59: 根拠等 | J59: なし | S59: 400
C60: =MAX(C61,C63) -> 3 | D60: 5 | E60: 3.1 | F60: 高耐震・免震等 | I60: 3.1.1と3.1.2の点数の高い方で評価 | S60: 500
C61: 3 | E61: 3.1.1 | F61: 耐震性 | S61: 600
F62: 根拠等 | S62: 700
C63: 3 | E63: 3.1.2 | F63: 免震・制震・制振性能 | S63: 800
F64: 根拠等 | S64: 900
C65: =(C67+C68)/2+C69 -> 5 | D65: 10 | E65: 3.2 | F65: 再生材利用率・廃棄物処理負荷抑制 | S65: 1000
E66: 3.2.1 | F66: 再生材利用率 ・地域材・木材利用 | I66: ①と②の平均で評価する | S66: 1100
C67: 3 | E67: ① | F67: 躯体材料 | S67: 1200
C68: 1 | E68: ② | F68: 非構造材料 | J68: リサイクル材品目数(非構造材) | M68: 品目 | S68: 1300
C69: 3 | E69: 3.2.2 | F69: 廃棄物処理負荷抑制 | S69: 1400
F70: 根拠等 | J70: 取組数 | M70: ポイント | S70: 1500
C71: 3 | D71: 5 | E71: 3.3 | F71: 躯体材料の耐用年数 | S71: 1600
F72: 根拠等 | J72: 経過年数＋今後の想定耐用年数 | M72: 年 | S72: 1700
C73: =AVERAGE(C74:C80) -> 2.75 | D73: 5 | E73: 3.4 | F73: 主要設備機器の更新必要間隔／設備の自給率向上／維持管理／バリアフリー | K73: 3.4.1,3.4.2,3.4.3,3.4.4の平均 | S73: 1800
C74: 3 | E74: 3.4.1 | F74: 主要設備機器の更新必要間隔 | S74: 1900
F75: 根拠等 | J75: 更新年数の平均値 | M75: 年 | S75: 2000
C76: 3 | E76: 3.4.2 | F76: 設備（電力等）の自給率向上 | S76: 2100
F77: 根拠等 | J77: 自給率向上の取組数 | M77: 項目
C78: 2 | E78: 3.4.3 | F78: 維持管理
F79: 根拠等 | J79: 維持管理に関する取組数 | M79: ポイント | S79: 2200
C80: 3 | E80: 3.4.4 | F80: バリアフリー計画 | S80: 2300
F81: 根拠等 | S81: 2400
C82: =C60+C65+C71+C73 -> 13.75 | D82: =D60+D65+D71+D73 -> 25 | E82: 合計 | S82: 2500
S83: 2600
C84: ４．生物多様性／敷地 | P84: 環境性能の特徴
C85: 評価 | D85: 最大加点 | J85: 指標 | L85: 評価値
E86: 必須項目 | G86: ；特定外来生物・未判定外来生物・生態系被害防止外来種を使用しない
F87: 根拠等 | J87: なし
C88: 3 | D88: =IF(AND(C90<>"",C90=0),10,5) -> 5 | E88: 4.1 | F88: 生物多様性の向上
D89: [4.2対象外の時は点数を倍] | F89: 根拠等 | J89: ②取組表による場合のポイント数 | M89: ポイント
C90: 3 | D90: =IF(AND(C90<>"",C90=0),0,5) -> 5 | E90: 4.2 | F90: 土壌環境品質・ブラウンフィールド再生
D91: [対策不要は対象外] | F91: 根拠等 | J91: なし
C92: =AVERAGE(C93:C95) -> 3 | D92: 5 | E92: 4.3 | F92: 公共交通機関の接近性
C93: 3 | E93: 4.3.1 | F93: 公共交通機関の接近性
F94: 根拠等 | J94: 鉄道駅またはバス停からの距離 | M94: 分圏内
E95: 4.3.2 | F95: 交通結節点への接近性、敷地周辺への配慮 | I95: 評価しない
F96: 根拠等 | J96: 取組数 | M96: 項目
C97: 3 | D97: 5 | E97: 4.4 | F97: 自然災害リスク対策
F98: 根拠等 | J98: リスクの合計数 | M98: 種類
C100: =C88+C90+C92+C97 -> 12 | D100: =D88+D90+D92+D97 -> 20 | E100: 合計
C102: ５．屋内環境
C103: 評価 | D103: 最大加点 | J103: 指標 | L103: 評価値
...

Sheet SDGs結果表示
A1: =IF(建築環境SDGsチェックリスト!$D$2="実施しない","非表示","表示") -> 非表示

Sheet 建築環境SDGsチェックリスト
A1: 建築環境SDGs(不動産)チェックリスト | AH1: 20210413
C2: 本評価の実施有無 | D2: 実施しない | E2: ←SDGs評価を選択しない場合の選択 | AG2: 緑セル：2025062 遠藤修正 | AH2: 吉澤・高井
C3: 本評価で対象とする用途 | E3: ←評価する建物の用途の入力(プルダウンメニュー) | I3: =オフィス評価結果!J5 -> CASBEE-不動産 2024年版 | K3: =オフィス評価結果!M5 -> v1.21 | AE3: チェックリスト項目 | AH3: [ ]：オフィス改修、店舗改修の基準
P4: 得点欄 | AE4: チェックリストに加点チェック等の追加が必要な項目
A5: SDGsの ゴール/ ターゲット | B5: 全体 通し 番号 | C5: ゴール内 通し 番号 | D5: チェック項目 | E5: 取組内容 | F5: 取り組んで いない | G5: 取り組んでいる | H5: 積極的に取り組んでいる | I5: 特筆事項 | J5: 加点 要素 | K5: 得点 | P5: オフィス | Q5: 店舗 | R5: 物流施設 | S5: ホテル | T5: 集合住宅 | U5: オフィス改修 | V5: 店舗改修 | AD5: オフィス | AE5: 店舗 | AF5: 物流施設 | AG5: ホテル | AH5: 集合住宅
P6: =IF($D$3=P5,"〇","") | Q6: =IF($D$3=Q5,"〇","") | R6: =IF($D$3=R5,"〇","") | S6: =IF($D$3=S5,"〇","") | T6: =IF($D$3=T5,"〇","") | U6: =IF($D$3=U5,"〇","") | V6: =IF($D$3=V5,"〇","")
A7: ゴール 1. 貧困を なくそう | B7: ゴール1の内容はゴール12 等に集約されています
A8: ゴール 2. 飢餓をゼロに | B8: ゴール2の内容はゴール12 等に集約されています
A9: ゴール 3. すべての人に健康と福祉を | B9: 1 | C9: 3-1 | D9: 快適な室温を確保する | E9: 建築物衛生管理基準に準拠して室温を管理している | K9: =IF($P$6="〇",P9,IF($Q$6="〇",Q9,IF($R$6="〇",R9,IF($S$6="〇",S9,IF($T$6="〇",T9,IF($U$6="〇",U9,IF($V$6="〇",V9,""))))))) | P9: =IF(オフィス評価結果!$C$104="適合",3,1) -> 1 | Q9: =IF(店舗評価結果!$C$104="適合",3,1) -> 1 | R9: =IF(物流評価結果!$C$104="適合",3,1) -> 1 | S9: =IF(ホテル評価結果!$C$104="適合",3,1) -> 1 | T9: =IF(集合住宅評価結果!$C$104="適合",3,1) -> 1 | U9: =IF(オフィス改修評価結果!$C$104="適合",3,1) -> 1 | V9: =IF(店舗改修評価結果!$C$104="適合",3,1) -> 1 | AD9: 5. 屋内環境(必須項目) ①または②に適合→+2 | AE9: 5. 屋内環境(必須項目) ①または②に適合→+2 | AF9: 5. 屋内環境(必須項目) ①または②に適合→+2 | AG9: =AD9 -> 5. 屋内環境(必須項目) ①または②に適合→+2 | AH9: 5. 屋内環境(必須項目) ①または③に適合→+2
B10: 2 | C10: 3-2 | D10: 適切な換気対策をする | E10: 建築物衛生管理基準に準拠して室内の浮遊粉じん、一酸化炭素、二酸化炭素を管理している | K10: =IF($P$6="〇",P10,IF($Q$6="〇",Q10,IF($R$6="〇",R10,IF($S$6="〇",S10,IF($T$6="〇",T10,IF($U$6="〇",U10,IF($V$6="〇",V10,""))))))) | P10: =IF(オフィス評価結果!$C$104="適合",3,1) -> 1 | Q10: =IF(店舗評価結果!$C$104="適合",3,1) -> 1 | R10: =IF(物流評価結果!$C$104="適合",3,1) -> 1 | S10: =IF(ホテル評価結果!$C$104="適合",3,1) -> 1 | T10: =IF(集合住宅評価結果!$C$113>=3,3,IF(集合住宅評価結果!$C$113>=2,2,1)) -> 1 | U10: =IF(オフィス改修評価結果!$C$104="適合",3,1) -> 1 | V10: =IF(店舗改修評価結果!$C$104="適合",3,1) -> 1 | AD10: 5屋内環境【必須】 ①または②に適合→+2 | AE10: 5屋内環境【必須】 ①または②に適合→+2 | AF10: 5屋内環境【必須】 ①または②に適合→+2 | AG10: =AD10 -> 5屋内環境【必須】 ①または②に適合→+2 | AH10: 5.1.2通風・排熱 レベル2→＋1、レベル3→+2
B11: 3 | C11: 3-3 | D11: 適切な湿度管理をする | E11: 建築物衛生管理基準に準拠して相対湿度を管理している | K11: =IF($P$6="〇",P11,IF($Q$6="〇",Q11,IF($R$6="〇",R11,IF($S$6="〇",S11,IF($T$6="〇",T11,IF($U$6="〇",U11,IF($V$6="〇",V11,""))))))) | P11: =IF(オフィス評価結果!$C$104="適合",3,1) -> 1 | Q11: =IF(店舗評価結果!$C$104="適合",3,1) -> 1 | R11: =IF(物流評価結果!$C$104="適合",3,1) -> 1 | S11: =IF(ホテル評価結果!$C$104="適合",3,1) -> 1 | T11: =IF(集合住宅評価結果!$C$104="適合",3,1) -> 1 | U11: =IF(オフィス改修評価結果!$C$104="適合",3,1) -> 1 | V11: =IF(店舗改修評価結果!$C$104="適合",3,1) -> 1 | AD11: 5屋内環境【必須】 ①または②に適合→+2 | AE11: 5屋内環境【必須】 ①または②に適合→+2 | AF11: 5屋内環境【必須】 ①または②に適合→+2 | AG11: =AD11 -> 5屋内環境【必須】 ①または②に適合→+2 | AH11: 5. 屋内環境(必須項目) ①または③に適合→+2
B12: 4 | C12: 3-4 | D12: 室内の空気質について対策する | E12: 建築物衛生管理基準に準拠してホルムアルデヒドを管理している | K12: =IF($P$6="〇",P12,IF($Q$6="〇",Q12,IF($R$6="〇",R12,IF($S$6="〇",S12,IF($T$6="〇",T12,IF($U$6="〇",U12,IF($V$6="〇",V12,""))))))) | P12: =IF(オフィス評価結果!$C$104="適合",3,1) -> 1 | Q12: =IF(店舗評価結果!$C$104="適合",3,1) -> 1 | R12: =IF(物流評価結果!$C$104="適合",3,1) -> 1 | S12: =IF(ホテル評価結果!$C$104="適合",3,1) -> 1 | T12: =IF(集合住宅評価結果!C122>=2,3,1) -> 1 | U12: =IF(オフィス改修評価結果!$C$104="適合",3,1) -> 1 | V12: =IF(店舗改修評価結果!$C$104="適合",3,1) -> 1 | AD12: 5屋内環境【必須】 ①または②に適合→+2 | AE12: 5屋内環境【必須】 ①または②に適合→+2 | AF12: 5屋内環境【必須】 ①または②に適合→+2 | AG12: =AD12 -> 5屋内環境【必須】 ①または②に適合→+2 | AH12: 5.2.3化学汚染物質対策・適切換気 レベル2→＋2
B13: 5 | C13: 3-5 | D13: 禁煙に関して配慮をする | E13: 禁煙または喫煙ブースの設置等、非喫煙者が煙に曝されないような工夫をしている | I13: （加点する場合には特筆事項を記入） | K13: =IF($P$6="〇",P13,IF($Q$6="〇",Q13,IF($R$6="〇",R13,IF($S$6="〇",S13,IF($T$6="〇",T13,IF($U$6="〇",U13,IF($V$6="〇",V13,""))))))) | M13: 1 | N13: FALSE | O13: =IF(N13=FALSE,IF(M13=1,1,3),IF(M13=1,2,3)) -> 1 | P13: =$O$13 -> 1 | Q13: =$O$13 -> 1 | R13: =$O$13 -> 1 | S13: =$O$13 -> 1 | T13: 対象外 | U13: =$O$13 -> 1 | V13: =$O$13 -> 1 | AD13: チェックリスト項目 | AE13: チェックリスト項目 | AF13: チェックリスト項目 | AG13: =AD13 -> チェックリスト項目 | AH13: （対象外）
B14: 6 | C14: 3-6 | D14: 水回りの衛生を維持する | E14: 水回りの衛生維持に取り組んでいる 〇排水口等の清掃の手順書やマニュアルを用意 〇衛生器具等の汚れ清掃の手順書やマニュアルを用意 | I14: 3.4.3維持管理 I-8)水回りの衛生、又はII-7)水回りの衛生に該当する場合には、加点要素にチェック | K14: =IF($P$6="〇",P14,IF($Q$6="〇",Q14,IF($R$6="〇",R14,IF($S$6="〇",S14,IF($T$6="〇",T14,IF($U$6="〇",U14,IF($V$6="〇",V14,""))))))) | N14: FALSE | P14: =IF(オフィス評価結果!$C$78>=3,1,0)+IF($N$14=TRUE,1,0)+1 -> 1 | Q14: =IF(店舗評価結果!$C$78>=3,1,0)+IF($N$14=TRUE,1,0)+1 -> 1 | R14: =IF(物流評価結果!$C$78>=3,1,0)+IF($N$14=TRUE,1,0)+1 -> 1 | S14: =IF(ホテル評価結果!$C$78>=3,1,0)+IF($N$14=TRUE,1,0)+1 -> 1 | T14: =IF(集合住宅評価結果!$C$78>=3,1,0)+IF($N$14=TRUE,1,0)+1 -> 1 | U14: =IF(オフィス改修評価結果!$C$78>=3,1,0)+IF($N$14=TRUE,1,0)+1 -> 1 | V14: =IF(店舗改修評価結果!$C$78>=3,1,0)+IF($N$14=TRUE,1,0)+1 -> 1 | AD14: 3.4.3維持管理 レベル３以上→＋１ 評価する取組み、施設清掃の取組み点： 水回りの衛生（排水口、衛生器具の清掃）で加点を考慮するように修正、Ⅱ建築物衛生法以外も同様 →取組みがある場合＋1加点 | AE14: 3.4.3維持管理 レベル３以上→＋１ 評価する取組み、施設清掃の取組み点： 水回りの衛生（排水口、衛生器具の清掃）で加点を考慮するように修正、Ⅱ建築物衛生法以外も同様 →取組みがある場合＋1加点 | AF14: 3.4.3維持管理 レベル３以上→＋１ 評価する取組み、施設清掃の取組み点： 水回りの衛生（排水口、衛生器具の清掃）で加点を考慮するように修正、Ⅱ建築物衛生法以外も同様 →取組みがある場合＋1加点 | AG14: =AD14 -> 3.4.3維持管理 レベル３以上→＋１ 評価する取組み、施設清掃の取組み点： 水回りの衛生（排水口、衛生器具の清掃）で加点を考慮するように修正、Ⅱ建築物衛生法以外も同様 →取組みがある場合＋1加点 | AH14: 3.4.3維持管理 レベル３以上→＋１ 評価する取組み、施設清掃の取組み点： 水回りの衛生（排水口、衛生器具の清掃）で加点を考慮するように修正、Ⅱ建築物衛生法以外も同様（集合住宅では共用部のみ評価対象） →取組みがある場合＋1加点
B15: 7 | C15: 3-7 | D15: 室内の明るさを高める | E15: 自然採光の開口部を積極的に計画し、昼光利用設備を備えている。 | K15: =IF($P$6="〇",P15,IF($Q$6="〇",Q15,IF($R$6="〇",R15,IF($S$6="〇",S15,IF($T$6="〇",T15,IF($U$6="〇",U15,IF($V$6="〇",V15,""))))))) | P15: =IF(オフィス評価結果!$C$108>=4,1,0)+IF(オフィス評価結果!$C$110>=4,1,0)+1 -> 1 | Q15: =IF(店舗評価結果!$C$108>=4,1,0)+IF(店舗評価結果!$C$110>=4,1,0)+1 -> 1 | R15: =IF(物流評価結果!$C$108>=4,1,0)+IF(物流評価結果!$C$110>=4,1,0)+1 -> 1 | S15: =IF(ホテル評価結果!$C$108>=4,1,0)+IF(ホテル評価結果!$C$110>=4,1,0)+1 -> 1 | T15: =IF(集合住宅評価結果!$C$109>=2,1,0)+IF(集合住宅評価結果!$C$111>=3,1,0)+1 -> 2 | U15: =IF(オフィス改修評価結果!$C$108>=2,1,0)+IF(オフィス改修評価結果!$C$110>=2,1,0)+1 -> 3 | V15: =IF(店舗改修評価結果!$C$108>=3,1,0)+IF(店舗改修評価結果!$C$110>=3,1,0)+1 -> 3 | AD15: 5.1.1自然採光がレベル4[Lv2]以上→+1 5.1.2昼光利用設備がレベル4[Lv2]以上→+1 | AE15: 5.1.1自然採光がレベル4[Lv3]以上→+1 5.1.2昼光利用設備がレベル4[Lv3]以上→+1 | AF15: 5.1.1自然採光がレベル4以上→+1 5.1.2昼光利用設備がレベル4以上→+1 | AG15: 5.1.1自然採光がレベル4以上→+1 5.1.2昼光利用設備がレベル4以上→+1 | AH15: 5.1.1.1自然採光 レベル2以上→＋1 5.1.1.2昼光利用設備 レベル３→+１
B16: 8 | C16: 3-8 | D16: 遮音性能を確保する | E16: 床に遮音対策を講じ、かつ界壁遮音対策を講じている。 | K16: =IF($P$6="〇",P16,IF($Q$6="〇",Q16,IF($R$6="〇",R16,IF($S$6="〇",S16,IF($T$6="〇",T16,IF($U$6="〇",U16,IF($V$6="〇",V16,""))))))) | P16: 対象外 | Q16: 対象外 | R16: 対象外 | S16: 対象外 | T16: =IF(集合住宅評価結果!C124>=2,3,1) -> 1 | U16: 対象外 | V16: 対象外 | AD16: （対象外） | AE16: （対象外） | AF16: （対象外） | AG16: =AD16 -> （対象外） | AH16: 5.2.4騒音・遮音 レベル2→+2
B17: 9 | C17: 3-9 | D17: 防犯対策を施す | E17: 以下のことを行っている。 ○エントランスにセキュリティシステムを設置 ○ITVカメラ監視 ○日中には常駐監視 ○夜間はセキュリティ会社に警報が配信 | K17: =IF($P$6="〇",P17,IF($Q$6="〇",Q17,IF($R$6="〇",R17,IF($S$6="〇",S17,IF($T$6="〇",T17,IF($U$6="〇",U17,IF($V$6="〇",V17,""))))))) | P17: 対象外 | Q17: 対象外 | R17: 対象外 | S17: 対象外 | T17: =MIN(3,IF(集合住宅評価結果!C126>=3,3,IF(集合住宅評価結果!C126>=2,2,1))) -> 1 | U17: 対象外 | V17: 対象外 | AD17: （対象外） | AE17: （対象外） | AF17: （対象外） | AG17: =AD17 -> （対象外） | AH17: 5.3.3防犯対策（3点満点） レベル2→+1 レベル3→+2
B18: 10 | C18: 3-10 | D18: バリアフリー対策を施す | E18: 建築物移動等円滑化基準を満たした上で、全ての人が不自由なく建築物を利用することができる工夫をしている | K18: =IF($P$6="〇",P18,IF($Q$6="〇",Q18,IF($R$6="〇",R18,IF($S$6="〇",S18,IF($T$6="〇",T18,IF($U$6="〇",U18,IF($V$6="〇",V18,""))))))) | P18: =IF(オフィス評価結果!$C$80>=4,3,IF(オフィス評価結果!$C$80>=2,2,1)) -> 2 | Q18: =IF(店舗評価結果!$C$80>=4,3,IF(店舗評価結果!$C$80>=2,2,1)) -> 2 | R18: =IF(物流評価結果!$C$80>=4,3,IF(物流評価結果!$C$80>=2,2,1)) -> 2 | S18: =IF(ホテル評価結果!$C$80>=4,3,IF(ホテル評価結果!$C$80>=2,2,1)) -> 2 | T18: =IF(集合住宅評価結果!$C$80>=4,3,IF(集合住宅評価結果!$C$80>=2,2,1)) -> 2 | U18: =IF(オフィス改修評価結果!$C$80>=4,3,IF(オフィス改修評価結果!$C$80>=2,2,1)) -> 2 | V18: =IF(店舗改修評価結果!$C$80>=4,3,IF(店舗改修評価結果!$C$80>=2,2,1)) -> 2 | AD18: 3.4.4バリアフリー計画 レベル2,3で→＋１、レベル4,5で→＋2 | AE18: 3.4.4バリアフリー計画 レベル2,3で→＋１、レベル4,5で→＋2 | AF18: 3.4.4バリアフリー計画 レベル2,3で→＋１、レベル4,5で→＋2 | AG18: =AD18 -> 3.4.4バリアフリー計画 レベル2,3で→＋１、レベル4,5で→＋2 | AH18: 3.4.4バリアフリー計画 レベル2,3で→＋１、レベル4,5で→＋2
A19: ゴール 4. 質の高い教育をみんなに | B19: 11 | C19: 4-1 | D19: 家庭の学習スペースを整える | E19: 以下の取組みに取り組んでいない（該当項目なし）、取り組んでいる（該当項目1つ）、積極的に取り組んでいる（該当項目2つ以上） 〇集合住宅の住戸において、独立した学習スペースがある 〇集合住宅の住戸において、共用スペースの中に学習スペース・学習コーナーを配置している 〇集合住宅の住戸において、家族のステージ変化に合わせて活用できる学習スペースの工夫がある 〇集合住宅の共用部に学習スペース・学習コーナーがある | K19: =IF($P$6="〇",P19,IF($Q$6="〇",Q19,IF($R$6="〇",R19,IF($S$6="〇",S19,IF($T$6="〇",T19,IF($U$6="〇",U19,IF($V$6="〇",V19,""))))))) | M19: 1 | P19: 対象外 | Q19: 対象外 | R19: 対象外 | S19: 対象外 | T19: =$M$19 -> 1 | U19: 対象外 | V19: 対象外 | AD19: （対象外） | AE19: （対象外） | AF19: （対象外） | AG19: =AD19 -> （対象外） | AH19: チェックリスト項目
B20: 12 | C20: 4-2 | D20: 快適な室温を確保する | E20: 建築物衛生管理基準に準拠して室温を管理している | K20: =IF($P$6="〇",P20,IF($Q$6="〇",Q20,IF($R$6="〇",R20,IF($S$6="〇",S20,IF($T$6="〇",T20,IF($U$6="〇",U20,IF($V$6="〇",V20,""))))))) | P20: =IF(オフィス評価結果!$C$104="適合",3,1) -> 1 | Q20: =IF(店舗評価結果!$C$104="適合",3,1) -> 1 | R20: =IF(物流評価結果!$C$104="適合",3,1) -> 1 | S20: =IF(ホテル評価結果!$C$104="適合",3,1) -> 1 | T20: =IF(集合住宅評価結果!$C$104="適合",3,1) -> 1 | U20: =IF(オフィス改修評価結果!$C$104="適合",3,1) -> 1 | V20: =IF(店舗改修評価結果!$C$104="適合",3,1) -> 1 | AD20: 5屋内環境【必須】 ①または②に適合→+2 | AE20: 5屋内環境【必須】 ①または②に適合→+2 | AF20: 5屋内環境【必須】 ①または②に適合→+2 | AG20: =AD20 -> 5屋内環境【必須】 ①または②に適合→+2 | AH20: 5. 屋内環境(必須項目) ①または③に適合→+2
B21: 13 | C21: 4-3 | D21: 適切な換気対策をする | E21: 建築物衛生管理基準に準拠して室内の浮遊粉じん、一酸化炭素、二酸化炭素を管理している | K21: =IF($P$6="〇",P21,IF($Q$6="〇",Q21,IF($R$6="〇",R21,IF($S$6="〇",S21,IF($T$6="〇",T21,IF($U$6="〇",U21,IF($V$6="〇",V21,""))))))) | P21: =IF(オフィス評価結果!$C$104="適合",3,1) -> 1 | Q21: =IF(店舗評価結果!$C$104="適合",3,1) -> 1 | R21: =IF(物流評価結果!$C$104="適合",3,1) -> 1 | S21: =IF(ホテル評価結果!$C$104="適合",3,1) -> 1 | T21: =IF(集合住宅評価結果!$C$113>=2,3,1) -> 1 | U21: =IF(オフィス改修評価結果!$C$104="適合",3,1) -> 1 | V21: =IF(店舗改修評価結果!$C$104="適合",3,1) -> 1 | AD21: 5屋内環境【必須】 ①または②に適合→+2 | AE21: 5屋内環境【必須】 ①または②に適合→+2 | AF21: 5屋内環境【必須】 ①または②に適合→+2 | AG21: =AD21 -> 5屋内環境【必須】 ①または②に適合→+2 | AH21: 5.1.2通風・排熱 レベル2以上→＋2
B22: 14 | C22: 4-4 | D22: 室内の空気質について対策する | E22: 建築物衛生管理基準に準拠してホルムアルデヒドを管理している | K22: =IF($P$6="〇",P22,IF($Q$6="〇",Q22,IF($R$6="〇",R22,IF($S$6="〇",S22,IF($T$6="〇",T22,IF($U$6="〇",U22,IF($V$6="〇",V22,""))))))) | P22: =IF(オフィス評価結果!$C$104="適合",3,1) -> 1 | Q22: =IF(店舗評価結果!$C$104="適合",3,1) -> 1 | R22: =IF(物流評価結果!$C$104="適合",3,1) -> 1 | S22: =IF(ホテル評価結果!$C$104="適合",3,1) -> 1 | T22: =IF(集合住宅評価結果!C122>=2,3,1) -> 1 | U22: =IF(オフィス改修評価結果!$C$104="適合",3,1) -> 1 | V22: =IF(店舗改修評価結果!$C$104="適合",3,1) -> 1 | AD22: 5屋内環境【必須】 ①または②に適合→+2 | AE22: 5屋内環境【必須】 ①または②に適合→+2 | AF22: 5屋内環境【必須】 ①または②に適合→+2 | AG22: =AD22 -> 5屋内環境【必須】 ①または②に適合→+2 | AH22: 5.2.3化学汚染物質対策・適切換気 レベル2以上→＋2
B23: 15 | C23: 4-5 | D23: 遮音性能を確保する | E23: 床に遮音対策を講じ、かつ界壁遮音対策を講じている。 | K23: =IF($P$6="〇",P23,IF($Q$6="〇",Q23,IF($R$6="〇",R23,IF($S$6="〇",S23,IF($T$6="〇",T23,IF($U$6="〇",U23,IF($V$6="〇",V23,""))))))) | P23: 対象外 | Q23: 対象外 | R23: 対象外 | S23: 対象外 | T23: =IF(集合住宅評価結果!C124>=2,3,1) -> 1 | U23: 対象外 | V23: 対象外 | AD23: （対象外） | AE23: （対象外） | AF23: （対象外） | AG23: =AD23 -> （対象外） | AH23: 5.2.4騒音・遮音 レベル2→+2
B24: 16 | C24: 4-6 | D24: すべての人が学習を受けられる環境を整える | E24: 以下の取組に取り組んでいる（該当項目2つ）、部分的に取り組んでいる（該当項目1つ）、取り組んでいない（該当項目0） ○入居者への建物の省エネ状況や取組みの通知 ○来館者、入居者への建物の省エネ状況や取組みの表示 | K24: =IF($P$6="〇",P24,IF($Q$6="〇",Q24,IF($R$6="〇",R24,IF($S$6="〇",S24,IF($T$6="〇",T24,IF($U$6="〇",U24,IF($V$6="〇",V24,""))))))) | M24: 1 | P24: =$M$24 -> 1 | Q24: =$M$24 -> 1 | R24: =$M$24 -> 1 | S24: =$M$24 -> 1 | T24: =$M$24 -> 1 | U24: =$M$24 -> 1 | V24: =$M$24 -> 1 | AD24: チェックリスト項目 | AE24: チェックリスト項目 | AF24: チェックリスト項目 | AG24: =AD24 -> チェックリスト項目 | AH24: チェックリスト項目 | AI24: 高井修正
B25: 17 | C25: 4-7 | D25: 維持管理における管理者への教育 | E25: 館内の環境に関する管理者への職業教育を整備をしている | I25: 館内の環境に関する管理者への職業教育を整備している場合には、加点要素にチェック | K25: =IF($P$6="〇",P25,IF($Q$6="〇",Q25,IF($R$6="〇",R25,IF($S$6="〇",S25,IF($T$6="〇",T25,IF($U$6="〇",U25,IF($V$6="〇",V25,""))))))) | N25: FALSE | P25: =IF($N$25=TRUE,3,1) -> 1 | Q25: =IF($N$25=TRUE,3,1) -> 1 | R25: =IF($N$25=TRUE,3,1) -> 1 | S25: =IF($N$25=TRUE,3,1) -> 1 | T25: =IF($N$25=TRUE,3,1) -> 1 | U25: =IF($N$25=TRUE,3,1) -> 1 | V25: =IF($N$25=TRUE,3,1) -> 1 | AD25: 3.4.3維持管理 取組み6)業務員への環境等の教育あり→+2 | AE25: 3.4.3維持管理 取組み6)業務員への環境等の教育あり→+2 | AF25: 3.4.3維持管理 取組み6)業務員への環境等の教育あり→+2 | AG25: =AD25 -> 3.4.3維持管理 取組み6)業務員への環境等の教育あり→+2 | AH25: 3.4.3維持管理 取組み6)業務員への環境等の教育あり→+2
A26: ゴール 5. ジェンダー 平等を実現 しよう | B26: 18 | C26: 5-1 | D26: 家事負担を軽減する 子育て・介護等の負担を軽減する | E26: 以下の取組みに取り組んでいない（該当項目なし）、取り組んでいる（該当項目1つ）、積極的に取り組んでいる（該当項目2つ以上） 1) 家事負担の軽減・キッチン等の複数人で家事を行いやすい空間計画（複数の家事動線、複数人作 業への対応）・洗濯干し導線をコンパクトにする工夫（隣接している、同一フロア等） 2) 子育て負担の軽減・乳幼児の事故・けが等に配慮した建具等・乳幼児に目の届きやすい空間の配慮 3) 介護負担の軽減・介護時の移動の容易性への配慮（トイレ、リビング、お出かけ、庭）（建具の有効幅 3枚引戸 段差処理の工夫、介護対応改修への備え）・介護者が介添えできる空間確保（トイレ、浴室、ベッド回り等） | K26: =IF($P$6="〇",P26,IF($Q$6="〇",Q26,IF($R$6="〇",R26,IF($S$6="〇",S26,IF($T$6="〇",T26,IF($U$6="〇",U26,IF($V$6="〇",V26,""))))))) | M26: 1 | P26: 対象外 | Q26: 対象外 | R26: 対象外 | S26: 対象外 | T26: =$M$26 -> 1 | U26: 対象外 | V26: 対象外 | AD26: （対象外） | AE26: （対象外） | AF26: （対象外） | AG26: =AD26 -> （対象外） | AH26: チェックリスト項目 | AI26: 高井修正
B27: 19 | C27: 5-2 | D27: バリアフリー対策を施す | E27: 建築物移動等円滑化基準を満たした上で、全ての人が不自由なく建築物を利用することができる工夫をしている | K27: =IF($P$6="〇",P27,IF($Q$6="〇",Q27,IF($R$6="〇",R27,IF($S$6="〇",S27,IF($T$6="〇",T27,IF($U$6="〇",U27,IF($V$6="〇",V27,""))))))) | P27: =IF(オフィス評価結果!$C$80>=4,3,IF(オフィス評価結果!$C$80>=2,2,1)) -> 2 | Q27: =IF(店舗評価結果!$C$80>=4,3,IF(店舗評価結果!$C$80>=2,2,1)) -> 2 | R27: =IF(物流評価結果!$C$80>=4,3,IF(物流評価結果!$C$80>=2,2,1)) -> 2 | S27: =IF(ホテル評価結果!$C$80>=4,3,IF(ホテル評価結果!$C$80>=2,2,1)) -> 2 | T27: =IF(集合住宅評価結果!$C$80>=4,3,IF(集合住宅評価結果!$C$80>=2,2,1)) -> 2 | U27: =IF(オフィス改修評価結果!$C$80>=4,3,IF(オフィス改修評価結果!$C$80>=2,2,1)) -> 2 | V27: =IF(店舗改修評価結果!$C$80>=4,3,IF(店舗改修評価結果!$C$80>=2,2,1)) -> 2 | AD27: 3.4.4バリアフリー対策 レベル2,3→+1 レベル4以上→+2 | AE27: 3.4.4バリアフリー対策 レベル2,3→+1 レベル4以上→+2 | AF27: 3.4.4バリアフリー対策 レベル2,3→+1 レベル4以上→+2 | AG27: =AD27 -> 3.4.4バリアフリー対策 レベル2,3→+1 レベル4以上→+2 | AH27: 3.4.4バリアフリー対策 レベル2,3→+1 レベル4以上→+2
B28: 20 | C28: 5-3 | D28: LGBTに配慮する | E28: 以下の取組に取り組んでいる（該当する）、取り組んでいない（該当しない） ○男女共用型トイレの設置 | I28: （加点する場合には特筆事項を記入） | K28: =IF($P$6="〇",P28,IF($Q$6="〇",Q28,IF($R$6="〇",R28,IF($S$6="〇",S28,IF($T$6="〇",T28,IF($U$6="〇",U28,IF($V$6="〇",V28,""))))))) | M28: 1 | N28: FALSE | O28: =IF(N28=FALSE,IF(M28=1,1,3),IF(M28=1,2,3)) -> 1 | P28: =$O$28 -> 1 | Q28: =$O$28 -> 1 | R28: =$O$28 -> 1 | S28: =$O$28 -> 1 | T28: =$O$28 -> 1 | U28: =$O$28 -> 1 | V28: =$O$28 -> 1 | AD28: チェックリスト項目 | AE28: チェックリスト項目 | AF28: チェックリスト項目 | AG28: =AD28 -> チェックリスト項目 | AH28: チェックリスト項目
A29: ゴール 6. 安全な水と トイレを 世界中に | B29: 21 | C29: 6-1 | D29: 節水機器を採用する | E29: 節水型便器を採用している、水栓類の節水を行っている | I29: 【物流】【集合住宅】 2.2水使用量(仕様評価) 1)水栓類の節水に適合する場合には、加点要素にチェック | K29: =IF($P$6="〇",P29,IF($Q$6="〇",Q29,IF($R$6="〇",R29,IF($S$6="〇",S29,IF($T$6="〇",T29,IF($U$6="〇",U29,IF($V$6="〇",V29,""))))))) | N29: FALSE | P29: =IF(AND(AND(オフィス水計算ソフト!$E$17>0,オフィス水計算ソフト!$E$17<=6),AND(オフィス水計算ソフト!$E$20>0,オフィス水計算ソフト!$E$20<=6)),3,1) -> 1 | Q29: =IF(AND(AND(店舗水計算ソフト!$E$21>0,店舗水計算ソフト!$E$21<=6),AND(店舗水計算ソフト!$E$24>0,店舗水計算ソフト!$E$24<=6),AND(店舗水計算ソフト!$E$33>0,店舗水計算ソフト!$E$33<=6),AND(店舗水計算ソフト!$E$36>0,店舗水計算ソフト!$E$36<=6)),3,1) -> 1 | R29: =COUNTIF($N$29:$N$30,"true")+1 -> 1 | S29: =IF(AND(AND(ホテル水計算ソフト!$E$21>0,ホテル水計算ソフト!$E$21<=6),AND(ホテル水計算ソフト!$E$24>0,ホテル水計算ソフト!$E$24<=6),AND(ホテル水計算ソフト!$E$33>0,ホテル水計算ソフト!$E$33<=6),AND(ホテル水計算ソフト!$E$36>0,ホテル水計算ソフト!$E$36<=6)),3,1) -> 3 | T29: =MIN(3,COUNTIF($N$29:$N$31,"true")+1) -> 1 | U29: =IF(AND(AND(オフィス水計算ソフト!$E$17>0,オフィス水計算ソフト!$E$17<=6),AND(オフィス水計算ソフト!$E$20>0,オフィス水計算ソフト!$E$20<=6)),3,1) -> 1 | V29: =IF(AND(AND(店舗水計算ソフト!$E$21>0,店舗水計算ソフト!$E$21<=6),AND(店舗水計算ソフト!$E$24>0,店舗水計算ソフト!$E$24<=6),AND(店舗水計算ソフト!$E$33>0,店舗水計算ソフト!$E$33<=6),AND(店舗水計算ソフト!$E$36>0,店舗水計算ソフト!$E$36<=6)),3,1) -> 1 | AD29: 2.1水使用量（計算値） 使用量算定ソフトで大便器の吐水量が6L/回以下→+2 （全ての便器の吐水量が６L/回以下の場合に加点とする） | AE29: 2.1水使用量（計算値） 使用量算定ソフトで大便器の吐水量が6L/回以下→+2 （全ての便器の吐水量が６L/回以下の場合に加点とする） | AF29: 2.2水使用量（仕様評価） 1)水栓類の節水→+1 2)節水型便器→+1 | AG29: =AD29 -> 2.1水使用量（計算値） 使用量算定ソフトで大便器の吐水量が6L/回以下→+2 （全ての便器の吐水量が６L/回以下の場合に加点とする） | AH29: 2.2水使用量（仕様評価） 1)水栓類の節水→+1 2)節水型便器→+1 3)節湯器具等→+1
I30: 【物流】【集合住宅】 2.2水使用量(仕様評価) 2)節水型便器に適合する場合には、加点要素にチェック | K30: =IF($P$6="〇",P30,IF($Q$6="〇",Q30,IF($R$6="〇",R30,IF($S$6="〇",S30,IF($T$6="〇",T30,IF($U$6="〇",U30,IF($V$6="〇",V30,""))))))) | N30: FALSE | AG30: =AD30 -> 0
I31: 【集合住宅】 2.2水使用量(仕様評価) 3)節湯器具に該当する場合には、加点要素にチェック | K31: =IF($P$6="〇",P31,IF($Q$6="〇",Q31,IF($R$6="〇",R31,IF($S$6="〇",S31,IF($T$6="〇",T31,IF($U$6="〇",U31,IF($V$6="〇",V31,""))))))) | N31: FALSE | AG31: =AD31 -> 0
B32: 22 | C32: 6-2 | D32: 雨水・雑排水を利用する | E32: 雨水、雑排水の利用に関する取組をしている | I32: 【物流】【集合住宅】 2.2水使用量(仕様評価) 3)雨水利用の採用（集合住宅の場合には、4)雨水利用の採用）に該当する場合には、加点要素にチェック | K32: =IF($P$6="〇",P32,IF($Q$6="〇",Q32,IF($R$6="〇",R32,IF($S$6="〇",S32,IF($T$6="〇",T32,IF($U$6="〇",U32,IF($V$6="〇",V32,""))))))) | N32: FALSE | P32: =IF(オフィス水計算ソフト!$H$50>0,3,1) -> 1 | Q32: =IF(店舗水計算ソフト!$H$68>0,3,1) -> 1 | R32: =IF($N$32=TRUE,3,1) -> 1 | S32: =IF(ホテル水計算ソフト!$H$75>0,3,1) -> 1 | T32: =IF($N$32=TRUE,3,1) -> 1 | U32: =IF(オフィス水計算ソフト!$H$50>0,3,1) -> 1 | V32: =IF(店舗水計算ソフト!$H$68>0,3,1) -> 1 | AD32: 2.1水使用量（計算値） 使用量算定ソフトで雨水・排水再利用あり→+2 | AE32: 2.1水使用量（計算値） 使用量算定ソフトで雨水・排水再利用あり→+2 | AF32: 2.2水使用量（仕様評価） 3)雨水利用の採用→+2 | AG32: =AD32 -> 2.1水使用量（計算値） 使用量算定ソフトで雨水・排水再利用あり→+2 | AH32: 2.2水使用量(仕様評価) 4)雨水利用の採用→+2
B33: 23 | C33: 6-3 | D33: 雨水の浸透に努める | E33: 雨水流出を抑制する工夫をしている（貯留槽、浸透桝等） | K33: =IF($P$6="〇",P33,IF($Q$6="〇",Q33,IF($R$6="〇",R33,IF($S$6="〇",S33,IF($T$6="〇",T33,IF($U$6="〇",U33,IF($V$6="〇",V33,""))))))) | M33: 1 | O33: =IF(M33=1,1,3) -> 1 | P33: =$O$33 -> 1 | Q33: =$O$33 -> 1 | R33: =$O$33 -> 1 | S33: =$O$33 -> 1 | T33: =$O$33 -> 1 | U33: =$O$33 -> 1 | V33: =$O$33 -> 1 | AD33: チェックリスト項目 | AE33: チェックリスト項目 | AF33: チェックリスト項目 | AG33: =AD33 -> チェックリスト項目 | AH33: チェックリスト項目
B34: 24 | C34: 6-4 | D34: 土壌汚染を防ぐ | E34: 対象敷地の場合、土壌汚染調査、拡散防止計画の届出、措置を行う。さらに進んで無害化措置を行う。 | K34: =IF($P$6="〇",P34,IF($Q$6="〇",Q34,IF($R$6="〇",R34,IF($S$6="〇",S34,IF($T$6="〇",T34,IF($U$6="〇",U34,IF($V$6="〇",V34,""))))))) | P34: =IF(オフィス評価結果!$C$90=0,"対象外",IF(オフィス評価結果!$C$90>=4,3,1)) -> 1 | Q34: =IF(店舗評価結果!$C$90=0,"対象外",IF(店舗評価結果!$C$90>=4,3,1)) -> 1 | R34: =IF(物流評価結果!$C$90=0,"対象外",IF(物流評価結果!$C$90>=4,3,1)) -> 1 | S34: =IF(ホテル評価結果!$C$90=0,"対象外",IF(ホテル評価結果!$C$90>=4,3,1)) -> 1 | T34: =IF(集合住宅評価結果!$C$90=0,"対象外",IF(集合住宅評価結果!$C$90>=4,3,1)) -> 1 | U34: =IF(オフィス改修評価結果!$C$90=0,"対象外",IF(オフィス改修評価結果!$C$90>=4,3,1)) -> 1 | V34: =IF(店舗改修評価結果!$C$90=0,"対象外",IF(店舗改修評価結果!$C$90>=4,3,1)) -> 1 | AD34: 4.2土壌環境品質・ブラウンフィールド再生 レベル4以上→+2 対象外の場合は分母から除外 | AE34: 4.2土壌環境品質・ブラウンフィールド再生 レベル4以上→+2 対象外の場合は分母から除外 | AF34: 4.2土壌環境品質・ブラウンフィールド再生 レベル4以上→+2 対象外の場合は分母から除外 | AG34: =AD34 -> 4.2土壌環境品質・ブラウンフィールド再生 レベル4以上→+2 対象外の場合は分母から除外 | AH34: 4.2土壌環境品質・ブラウンフィールド再生 レベル4以上→+2 対象外の場合は分母から除外
B35: 25 | C35: 6-5 | D35: 水回りの衛生を維持する | E35: 水回りの衛生維持に取り組んでいる 〇排水口等の清掃の手順書やマニュアルを用意 〇衛生器具等の汚れ清掃の手順書やマニュアルを用意 | I35: 3-6の評価により自動転記 | K35: =IF($P$6="〇",P35,IF($Q$6="〇",Q35,IF($R$6="〇",R35,IF($S$6="〇",S35,IF($T$6="〇",T35,IF($U$6="〇",U35,IF($V$6="〇",V35,""))))))) | P35: =P14 -> 1 | Q35: =Q14 -> 1 | R35: =R14 -> 1 | S35: =S14 -> 1 | T35: =T14 -> 1 | U35: =U14 -> 1 | V35: =V14 -> 1 | AD35: 3.4.3維持管理 レベル3以上→＋１ 評価する取組みに施設清掃の取組み点を追加：水回りの衛生（排水口、衛生器具の清掃）→＋1加点 | AE35: 3.4.3維持管理 レベル3以上→＋１ 評価する取組みに施設清掃の取組み点を追加：水回りの衛生（排水口、衛生器具の清掃）→＋1加点 | AF35: 3.4.3維持管理 レベル3以上→＋１ 評価する取組みに施設清掃の取組み点を追加：水回りの衛生（排水口、衛生器具の清掃）→＋1加点 | AG35: =AD35 -> 3.4.3維持管理 レベル3以上→＋１ 評価する取組みに施設清掃の取組み点を追加：水回りの衛生（排水口、衛生器具の清掃）→＋1加点 | AH35: 3.4.3維持管理 レベル3以上→＋１ 評価する取組みに施設清掃の取組み点を追加：水回りの衛生（排水口、衛生器具の清掃）→＋1加点
B36: 26 | C36: 6-6 | D36: 給排水設備を維持管理する | E36: 給排水・衛生設備の業務手順書を用意 | I36: 3.4.3維持管理 I-3)業務手順(またはII-3)手順)において、給排水設備の維持管理業務手順書を整備している場合には、加点要素にチェック | K36: =IF($P$6="〇",P36,IF($Q$6="〇",Q36,IF($R$6="〇",R36,IF($S$6="〇",S36,IF($T$6="〇",T36,IF($U$6="〇",U36,IF($V$6="〇",V36,""))))))) | N36: FALSE | P36: =IF($N$36=TRUE,3,1) -> 1 | Q36: =IF($N$36=TRUE,3,1) -> 1 | R36: =IF($N$36=TRUE,3,1) -> 1 | S36: =IF($N$36=TRUE,3,1) -> 1 | T36: =IF($N$36=TRUE,3,1) -> 1 | U36: =IF($N$36=TRUE,3,1) -> 1 | V36: =IF($N$36=TRUE,3,1) -> 1 | AD36: 3.4.3維持管理 評価する取組み、3)業務手順、設備管理における業務標準手順書で加点を考慮するように修正、Ⅱ建築物衛生法以外も同様 →＋2 | AE36: 3.4.3維持管理 評価する取組み、3)業務手順、設備管理における業務標準手順書で加点を考慮するように修正、Ⅱ建築物衛生法以外も同様 →＋2 | AF36: 3.4.3維持管理 評価する取組み、3)業務手順、設備管理における業務標準手順書で加点を考慮するように修正、Ⅱ建築物衛生法以外も同様 →＋2 | AG36: =AD36 -> 3.4.3維持管理 評価する取組み、3)業務手順、設備管理における業務標準手順書で加点を考慮するように修正、Ⅱ建築物衛生法以外も同様 →＋2 | AH36: 3.4.3維持管理 評価する取組み、3)業務手順、設備管理における業務標準手順書で加点を考慮するように修正、Ⅱ建築物衛生法以外も同様 →＋2
A37: ゴール 7. エネルギーをみんなに そして クリーンに | B37: 27 | C37: 7-1 | D37: エネルギー使用量を削減する | E37: 空調、換気、照明、給湯、昇降機の使用エネルギー量削減に資する取組をしている | K37: =IF($P$6="〇",P37,IF($Q$6="〇",Q37,IF($R$6="〇",R37,IF($S$6="〇",S37,IF($T$6="〇",T37,IF($U$6="〇",U37,IF($V$6="〇",V37,""))))))) | P37: =MIN(3,IF(オフィス評価結果!$C$30>=22,3,IF(オフィス評価結果!$C$30>=18,2,1))*25/30+IF(オフィス評価結果!$C$34>=4,3,IF(オフィス評価結果!$C$34>=3,2,1))*5/30) -> 1.1666667 | Q37: =MIN(3,IF(店舗評価結果!$C$30>=22,3,IF(店舗評価結果!$C$30>=18,2,1))*25/30+IF(店舗評価結果!$C$34>=4,3,IF(店舗評価結果!$C$34>=3,2,1))*5/30) -> 1.1666667 | R37: =MIN(3,IF(物流評価結果!$C$30+物流評価結果!$C$38>=22,3,IF(物流評価結果!$C$30+物流評価結果!$C$38>=18,2,1))*25/30+IF(物流評価結果!$C$34>=4,3,IF(物流評価結果!$C$34>=3,2,1))*5/30) -> 2 | S37: =MIN(3,IF(ホテル評価結果!$C$30>=22,3,IF(ホテル評価結果!$C$30>=18,2,1))*25/30+IF(ホテル評価結果!$C$34>=4,3,IF(ホテル評価結果!$C$34>=3,2,1))*5/30) -> 2 | T37: =MIN(3,IF(集合住宅評価結果!$C$30+集合住宅評価結果!$C$38>=17,3,IF(集合住宅評価結果!$C$30+集合住宅評価結果!$C$38>=13,2,1))*20/25+IF(集合住宅評価結果!$C$34>=4,3,IF(集合住宅評価結果!$C$34>=3,2,1))*5/25) -> 2.2 | U37: =MIN(3,IF(オフィス改修評価結果!$C$30>=22,3,IF(オフィス改修評価結果!$C$30>=18,2,1))*25/30+IF(オフィス改修評価結果!$C$34>=4,3,IF(オフィス改修評価結果!$C$34>=3,2,1))*5/30) -> 1.1666667 | V37: =MIN(3,IF(店舗改修評価結果!$C$30>=22,3,IF(店舗改修評価結果!$C$30>=18,2,1))*25/30+IF(店舗改修評価結果!$C$34>=4,3,IF(店舗改修評価結果!$C$34>=3,2,1))*5/30) -> 1.1666667 | W37: ←加重平均のため小数点以下あり | AD37: 1.1エネルギー使用（計算値） →22点以上で＋2、18点以上で＋1 1.2エネルギー（実績値） →レベル4以上で＋2、レベル3以上で＋1 1.1と1.2の得点を25：５で加重平均 | AE37: 1.1エネルギー使用（計算値） →22点以上で＋2、18点以上で＋1 1.2エネルギー（実績値） →レベル4以上で＋2、レベル3以上で＋1 1.1と1.2の得点を25：５で加重平均 | AF37: 1.1エネルギー使用（計算値）＋1.3仕様基準 →22点以上で＋2、18点以上で＋1 1.2エネルギー（実績値） →レベル4以上で＋2、レベル3以上で＋1 1.1と1.2の得点を25：５で加重平均 | AG37: =AD37 -> 1.1エネルギー使用（計算値） →22点以上で＋2、18点以上で＋1 1.2エネルギー（実績値） →レベル4以上で＋2、レベル3以上で＋1 1.1と1.2の得点を25：５で加重平均 | AH37: 1.1エネルギー使用（計算値）＋1.3仕様評価 →17点以上で＋2、13点以上で＋1 1.2エネルギー（実績値） →レベル4以上で＋2、レベル3以上で＋1 1.1と1.2の得点を20：５で加重平均
B38: 28 | C38: 7-2 | D38: 省エネ性能の高い設備機器・システムを採用する | E38: 省エネ性能の高い設備機器を採用をしている | K38: =IF($P$6="〇",P38,IF($Q$6="〇",Q38,IF($R$6="〇",R38,IF($S$6="〇",S38,IF($T$6="〇",T38,IF($U$6="〇",U38,IF($V$6="〇",V38,""))))))) | P38: =(IF(オフィス評価結果!$C$30>=22,2,IF(オフィス評価結果!$C$30>=18,1,0)))+1 -> 1 | Q38: =(IF(店舗評価結果!$C$30>=22,2,IF(店舗評価結果!$C$30>=18,1,0)))+1 -> 1 | R38: =(IF(物流評価結果!$C$30+物流評価結果!$C$38>=22,2,IF(物流評価結果!$C$30+物流評価結果!$C$38>=18,1,0)))+1 -> 2 | S38: =(IF(ホテル評価結果!$C$30>=22,2,IF(ホテル評価結果!$C$30>=18,1,0)))+1 -> 2 | T38: =(IF(集合住宅評価結果!$C$30+集合住宅評価結果!$C$38>=17,2,IF(集合住宅評価結果!$C$30+集合住宅評価結果!$C$38>=13,1,0)))+1 -> 2 | U38: =(IF(オフィス改修評価結果!$C$30>=22,2,IF(オフィス改修評価結果!$C$30>=18,1,0)))+1 -> 1 | V38: =(IF(店舗改修評価結果!$C$30>=22,2,IF(店舗改修評価結果!$C$30>=18,1,0)))+1 -> 1 | AD38: 1.1エネルギー使用・排出原単位(計算値) →22点以上で＋2、18点以上で＋1 | AE38: 1.1エネルギー使用・排出原単位(計算値) →22点以上で＋2、18点以上で＋1 | AF38: 1.1エネルギー使用・排出原単位(計算値)＋1.3仕様基準 →22点以上で＋2、18点以上で＋1 | AG38: =AD38 -> 1.1エネルギー使用・排出原単位(計算値) →22点以上で＋2、18点以上で＋1 | AH38: 1.1エネルギー使用（計算値）＋1.3仕様評価 →17点以上で＋2、13点以上で＋1
B39: 29 | C39: 7-3 | D39: パッシブデザインに取り組む | E39: 以下の取組に取り組んでいる 〇昼光利用（自然採光・昼光利用設備） 〇自然換気性能 〇眺望・視環境 | I39: （加点する場合には特筆事項を記入） | K39: =IF($P$6="〇",P39,IF($Q$6="〇",Q39,IF($R$6="〇",R39,IF($S$6="〇",S39,IF($T$6="〇",T39,IF($U$6="〇",U39,IF($V$6="〇",V39,""))))))) | N39: FALSE | P39: =MIN(3,IF(オフィス評価結果!$C$128>=11,3,IF(オフィス評価結果!$C$128>=6,2,1))+IF($N$39=TRUE,1,0)) -> 2 | Q39: =MIN(3,IF(店舗評価結果!$C$128>=8,3,IF(店舗評価結果!$C$128>=5,2,1))+IF(N39=TRUE,1,0)) -> 3 | R39: =MIN(3,IF(物流評価結果!$C$128>=11,3,IF(物流評価結果!$C$128>=6,2,1))+IF($N$39=TRUE,1,0)) -> 2 | S39: =MIN(3,IF(ホテル評価結果!$C$128>=11,3,IF(ホテル評価結果!$C$128>=6,2,1))+IF($N$39=TRUE,1,0)) -> 2 | T39: =MIN(3,IF(集合住宅評価結果!C108+集合住宅評価結果!C113+集合住宅評価結果!C115>=7,3,IF(集合住宅評価結果!C108+集合住宅評価結果!C113+集合住宅評価結果!C115>=4,2,1))+IF($N$39=TRUE,1,0)) -> 2 | U39: =MIN(3,IF(オフィス改修評価結果!C107+オフィス改修評価結果!C112+オフィス改修評価結果!C114>=7,3,IF(オフィス改修評価結果!C107+オフィス改修評価結果!C112+オフィス改修評価結果!C114>=4,2,1))+IF($N$39=TRUE,1,0)) -> 3 | V39: =MIN(3,IF(店舗改修評価結果!C107+店舗改修評価結果!C112+店舗改修評価結果!C114>=6,3,IF(店舗改修評価結果!C107+店舗改修評価結果!C112+店舗改修評価結果!C114>=3,2,1))+IF($N$39=TRUE,1,0)) -> 3 | AD39: 5.1～5.3の合計点数が 11～15点[7-9]→＋2 6～10点[4-6]→＋1 0～5点[0-3]→0 | AE39: 5.1～5.3の合計点数が 8～10点[6-8]→＋2 5～7点[3-5]→＋1 0～4点[0-2]→0 | AF39: 5.1～5.3の合計点数が 11～15点→＋2 6～10点→＋1 0～5点→0 | AG39: 5.1～5.3の合計点数が 11～15点→＋2 6～10点→＋1 0～5点→0 | AH39: 5.1.1～5.1.3の合計点数が 7～9点→＋2 4～6点→＋1 0～3点→0
B40: 30 | C40: 7-4 | D40: 創エネに取り組む | E40: 以下の取組みに取り組んでいない（該当項目なし）、取り組んでいる（該当項目1つ）、積極的に取り組んでいる（該当項目2つ以上） 〇太陽熱利用（温水利用）等 〇太陽光利用（電力利用）等 〇未利用熱利用（地中熱利用/井水利用/河川水利用ヒートポンプ）等 〇その他（バイオマス、他） | I40: （加点する場合には特筆事項を記入） | K40: =IF($P$6="〇",P40,IF($Q$6="〇",Q40,IF($R$6="〇",R40,IF($S$6="〇",S40,IF($T$6="〇",T40,IF($U$6="〇",U40,IF($V$6="〇",V40,""))))))) | M40: 1 | N40: FALSE | O40: =IF(N40=FALSE,M40,IF(M40=1,2,3)) -> 1 | P40: =$O$40 -> 1 | Q40: =$O$40 -> 1 | R40: =$O$40 -> 1 | S40: =$O$40 -> 1 | T40: =$O$40 -> 1 | U40: =$O$40 -> 1 | V40: =$O$40 -> 1 | AD40: 1.4自然エネルギー レベル3→+1 レベル4,5→+2 | AE40: 1.4自然エネルギー レベル3→+1 レベル4,5→+2 | AF40: 1.4自然エネルギー レベル3→+1 レベル4,5→+2 | AG40: =AD40 -> 1.4自然エネルギー レベル3→+1 レベル4,5→+2 | AH40: 1.4自然エネルギー レベル3→+1 レベル4,5→+2
B41: 31 | C41: 7-5 | D41: 蓄エネに取り組む | E41: 以下の取組みに取り組んでいない（該当項目なし）、取り組んでいる（該当項目1つ）、積極的に取り組んでいる（該当項目2つ以上） ○太陽光発電等と連携する蓄電池 ○EV・PHV等の充電設備の設置 ○蓄熱槽等の設置 | I41: （加点する場合には特筆事項を記入） | K41: =IF($P$6="〇",P41,IF($Q$6="〇",Q41,IF($R$6="〇",R41,IF($S$6="〇",S41,IF($T$6="〇",T41,IF($U$6="〇",U41,IF($V$6="〇",V41,""))))))) | M41: 1 | N41: FALSE | O41: =IF(N41=FALSE,M41,IF(M41=1,2,3)) -> 1 | P41: =$O$41 -> 1 | Q41: =$O$41 -> 1 | R41: =$O$41 -> 1 | S41: =$O$41 -> 1 | T41: =$O$41 -> 1 | U41: =$O$41 -> 1 | V41: =$O$41 -> 1 | AG41: =AD41 -> 0
B42: 32 | C42: 7-6 | D42: エネルギーを管理する | E42: 以下の取組に取り組んでいる ○エネルギー消費量の目標設定 ○モニタリングの実施 ○運用管理体制の構築 | I42: 1エネルギー【必須項目】 ②エネルギー消費量の目標設定 ③モニタリングの実施 ③運用管理体制の構築 の全てに該当する場合、加点要素にチェック | K42: =IF($P$6="〇",P42,IF($Q$6="〇",Q42,IF($R$6="〇",R42,IF($S$6="〇",S42,IF($T$6="〇",T42,IF($U$6="〇",U42,IF($V$6="〇",V42,""))))))) | N42: FALSE | P42: =IF($N$42=TRUE,3,1) -> 1 | Q42: =IF($N$42=TRUE,3,1) -> 1 | R42: =IF($N$42=TRUE,3,1) -> 1 | S42: =IF($N$42=TRUE,3,1) -> 1 | T42: =IF($N$42=TRUE,3,1) -> 1 | U42: =IF($N$42=TRUE,3,1) -> 1 | V42: =IF($N$42=TRUE,3,1) -> 1 | AD42: 1エネルギー【必須】 ②エネルギー消費量の目標設定 ③モニタリングの実施 ④運用管理体制の構築 の確認→+2 | AE42: 1エネルギー【必須】 ②エネルギー消費量の目標設定 ③モニタリングの実施 ④運用管理体制の構築 の確認→+2 | AF42: 1エネルギー【必須】 ②エネルギー消費量の目標設定 ③モニタリングの実施 ④運用管理体制の構築 の確認→+2 | AG42: =AD42 -> 1エネルギー【必須】 ②エネルギー消費量の目標設定 ③モニタリングの実施 ④運用管理体制の構築 の確認→+2 | AH42: 1エネルギー【必須】 ②エネルギー消費量の目標設定 ③モニタリングの実施 ④運用管理体制の構築 の確認→+2
B43: 33 | C43: 7-7 | D43: 非常時にエネルギーを確保する | E43: 電気設備の信頼性向上に向けた取組をしている （非常用発電設備・無停電電源設備を備えているか、地下空間への設置を避けているか等） | K43: =IF($P$6="〇",P43,IF($Q$6="〇",Q43,IF($R$6="〇",R43,IF($S$6="〇",S43,IF($T$6="〇",T43,IF($U$6="〇",U43,IF($V$6="〇",V43,""))))))) | P43: =(IF(オフィス評価結果!$C$76>=3,2,IF(オフィス評価結果!$C$76>=2,1,0)))+1 -> 3 | Q43: =(IF(店舗評価結果!$C$76>=3,2,IF(店舗評価結果!$C$76>=2,1,0)))+1 -> 3 | R43: =(IF(物流評価結果!$C$76>=3,2,IF(物流評価結果!$C$76>=2,1,0)))+1 -> 3 | S43: =(IF(ホテル評価結果!$C$76>=3,2,IF(ホテル評価結果!$C$76>=2,1,0)))+1 -> 3 | T43: =(IF(集合住宅評価結果!$C$76>=3,2,IF(集合住宅評価結果!$C$76>=2,1,0)))+1 -> 1 | U43: =(IF(オフィス改修評価結果!$C$76>=3,2,IF(オフィス改修評価結果!$C$76>=2,1,0)))+1 -> 3 | V43: =(IF(店舗改修評価結果!$C$76>=3,2,IF(店舗改修評価結果!$C$76>=2,1,0)))+1 -> 3 | AD43: 3.4.2設備(電力等)の自給率向上 レベル2→+1 レベル3～5→+2 | AE43: 3.4.2設備(電力等)の自給率向上 レベル2→+1 レベル3～5→+2 | AF43: 3.4.2設備(電力等)の自給率向上 レベル2→+1 レベル3～5→+2 | AG43: =AD43 -> 3.4.2設備(電力等)の自給率向上 レベル2→+1 レベル3～5→+2 | AH43: 3.4.2設備(電力等)の自給率向上 レベル2→+1 レベル3～5→+2
B44: 34 | C44: 7-8 | D44: ZEH、ZEB化に取り組む | E44: 以下の取組みに取り組んでいない（該当項目なし）、取り組んでいる（該当項目1つ） ○ZEB Ready以上の取組みがなされている（集合住宅は対象外） | K44: =IF($P$6="〇",P44,IF($Q$6="〇",Q44,IF($R$6="〇",R44,IF($S$6="〇",S44,IF($T$6="〇",T44,IF($U$6="〇",U44,IF($V$6="〇",V44,""))))))) | M44: 1 | O44: =IF(N44=FALSE,IF(M44=1,1,3),IF(M44=1,2,3)) -> 1 | P44: =$O$44 -> 1 | Q44: =$O$44 -> 1 | R44: =$O$44 -> 1 | S44: =$O$44 -> 1 | T44: 対象外 | U44: =$O$44 -> 1 | V44: =$O$44 -> 1 | AG44: =AD44 -> 0
B45: 35 | C45: 7-9 | D45: カーボンニュートラルに向けて取り組む | E45: 地球温暖化対策に関する取組をしている | I45: （加点する場合には特筆事項を記入） | K45: =IF($P$6="〇",P45,IF($Q$6="〇",Q45,IF($R$6="〇",R45,IF($S$6="〇",S45,IF($T$6="〇",T45,IF($U$6="〇",U45,IF($V$6="〇",V45,""))))))) | N45: FALSE | P45: =MIN(3,IF(AND(オフィス評価結果!$L$33>0,オフィス評価結果!$L$37>0),P37,1)+IF($N$45=TRUE,1,0)) -> 1 | Q45: =MIN(3,IF(AND(店舗評価結果!$L$33>0,店舗評価結果!$L$37>0),Q37,1)+IF($N$45=TRUE,1,0)) -> 1 | R45: =MIN(3,IF(物流評価結果!$L$33>0,R37,1)+IF($N$45=TRUE,1,0)) -> 1 | S45: =MIN(3,IF(AND(ホテル評価結果!$L$33>0,ホテル評価結果!$L$37>0),S37,1)+IF($N$45=TRUE,1,0)) -> 1 | T45: =MIN(3,IF(AND(集合住宅評価結果!$L$33>0,集合住宅評価結果!$L$37>0),T37,1)+IF($N$45=TRUE,1,0)) -> 1 | U45: =MIN(3,IF(AND(オフィス改修評価結果!$L$33>0,オフィス改修評価結果!$L$37>0),U37,1)+IF($N$45=TRUE,1,0)) -> 1 | V45: =MIN(3,IF(AND(店舗改修評価結果!$L$33>0,店舗改修評価結果!$L$37>0),V37,1)+IF($N$45=TRUE,1,0)) -> 1 | W45: ←加重平均のためｓ小数点以下あり | AD45: 1.1.エネルギー使用（計算値）と1.2.エネルギー使用（実績値）のCO2排出欄の記載がある場合に、7-1の点数で評価 | AE45: 1.1.エネルギー使用（計算値）と1.2.エネルギー使用（実績値）のCO2排出欄の記載がある場合に、7-1の点数で評価 | AF45: 1.1.エネルギー使用（計算値）のCO2排出欄の記載がある場合に、7-1の点数で評価 | AG45: =AD45 -> 1.1.エネルギー使用（計算値）と1.2.エネルギー使用（実績値）のCO2排出欄の記載がある場合に、7-1の点数で評価 | AH45: 1.1.エネルギー使用（計算値）と1.2.エネルギー使用（実績値）のCO2排出欄の記載がある場合に、7-1の点数で評価
A46: ゴール 8. 働きがいも 経済成長も | B46: 36 | C46: 8-1 | D46: 知的生産性を高める場を創る | E46: 以下の取組に取り組んでいる（該当項目2つ以上）、部分的に取り組んでいる（該当項目1つ）、取り組んでいない（該当項目0） ○知的生産性を高めるという観点を考慮して計画・整備した作業スペースの有無 ○フォーマル、インフォーマルなコミュニケーションのスぺースの有無 ○リフレッシュスペース等の確保 | I46: （加点する場合には特筆事項を記入） | K46: =IF($P$6="〇",P46,IF($Q$6="〇",Q46,IF($R$6="〇",R46,IF($S$6="〇",S46,IF($T$6="〇",T46,IF($U$6="〇",U46,IF($V$6="〇",V46,""))))))) | M46: 1 | N46: FALSE | O46: =IF(N46=FALSE,M46,IF(M46=1,2,3)) -> 1 | P46: =$O$46 -> 1 | Q46: 対象外 | R46: 対象外 | S46: 対象外 | T46: 対象外 | U46: =$O$46 -> 1 | V46: 対象外 | AD46: チェックリスト項目 | AE46: (対象外) | AF46: (対象外) | AG46: (対象外) | AH46: (対象外)
B47: 37 | C47: 8-2 | D47: 快適な室温を確保する | E47: 建築物衛生管理基準に準拠して室温を管理している | K47: =IF($P$6="〇",P47,IF($Q$6="〇",Q47,IF($R$6="〇",R47,IF($S$6="〇",S47,IF($T$6="〇",T47,IF($U$6="〇",U47,IF($V$6="〇",V47,""))))))) | P47: =IF(オフィス評価結果!$C$104="適合",3,1) -> 1 | Q47: =IF(店舗評価結果!$C$104="適合",3,1) -> 1 | R47: =IF(物流評価結果!$C$104="適合",3,1) -> 1 | S47: =IF(ホテル評価結果!$C$104="適合",3,1) -> 1 | T47: =IF(集合住宅評価結果!$C$104="適合",3,1) -> 1 | U47: =IF(オフィス改修評価結果!$C$104="適合",3,1) -> 1 | V47: =IF(店舗改修評価結果!$C$104="適合",3,1) -> 1 | AD47: 5. 屋内環境(必須項目) ①または②に適合→+2 | AE47: 5. 屋内環境(必須項目) ①または②に適合→+2 | AF47: 5. 屋内環境(必須項目) ①または②に適合→+2 | AG47: =AD47 -> 5. 屋内環境(必須項目) ①または②に適合→+2 | AH47: 5. 屋内環境(必須項目) ①または③に適合→+2
B48: 38 | C48: 8-3 | D48: 室内の明るさを高める | E48: 自然採光の開口部を積極的に計画し、昼光利用設備を備えている。 | K48: =IF($P$6="〇",P48,IF($Q$6="〇",Q48,IF($R$6="〇",R48,IF($S$6="〇",S48,IF($T$6="〇",T48,IF($U$6="〇",U48,IF($V$6="〇",V48,""))))))) | P48: =(IF(オフィス評価結果!$C$108>=4,1,0)+IF(オフィス評価結果!$C$110>=4,1,0))+1 -> 1 | Q48: =(IF(店舗評価結果!$C$108>=4,1,0)+IF(店舗評価結果!$C$110>=4,1,0))+1 -> 1 | R48: =(IF(物流評価結果!$C$108>=4,1,0)+IF(物流評価結果!$C$110>=4,1,0))+1 -> 1 | S48: =(IF(ホテル評価結果!$C$108>=4,1,0)+IF(ホテル評価結果!$C$110>=4,1,0))+1 -> 1 | T48: =(IF(集合住宅評価結果!$C$109>=2,1,0)+IF(集合住宅評価結果!$C$111>=3,1,0))+1 -> 2 | U48: =(IF(オフィス改修評価結果!$C$108>=4,1,0)+IF(オフィス改修評価結果!$C$110>=4,1,0))+1 -> 1 | V48: =(IF(店舗改修評価結果!$C$108>=4,1,0)+IF(店舗改修評価結果!$C$110>=4,1,0))+1 -> 1 | AD48: 5.1.1自然採光 レベル4以上→+1 5.1.2昼光利用設備 レベル4以上→+1 | AE48: 5.1.1自然採光 レベル4以上→+1 5.1.2昼光利用設備 レベル4以上→+1 | AF48: 5.1.1自然採光 レベル4以上→+1 5.1.2昼光利用設備 レベル4以上→+1 | AG48: =AD48 -> 5.1.1自然採光 レベル4以上→+1 5.1.2昼光利用設備 レベル4以上→+1 | AH48: 5.1.1.1自然採光 レベル2以上→＋1 5.1.1.2昼光利用設備 レベル３→+１
B49: 39 | C49: 8-4 | D49: 適切な換気対策をする | E49: 建築物衛生管理基準に準拠して室内の浮遊粉じん、一酸化炭素、二酸化炭素を管理している | K49: =IF($P$6="〇",P49,IF($Q$6="〇",Q49,IF($R$6="〇",R49,IF($S$6="〇",S49,IF($T$6="〇",T49,IF($U$6="〇",U49,IF($V$6="〇",V49,""))))))) | P49: =IF(オフィス評価結果!$C$104="適合",3,1) -> 1 | Q49: =IF(店舗評価結果!$C$104="適合",3,1) -> 1 | R49: =IF(物流評価結果!$C$104="適合",3,1) -> 1 | S49: =IF(ホテル評価結果!$C$104="適合",3,1) -> 1 | T49: =IF(集合住宅評価結果!$C$104="適合",3,1) -> 1 | U49: =IF(オフィス改修評価結果!$C$104="適合",3,1) -> 1 | V49: =IF(店舗改修評価結果!$C$104="適合",3,1) -> 1 | AD49: 5. 屋内環境(必須項目) ①または②に適合→+2 | AE49: 5. 屋内環境(必須項目) ①または②に適合→+2 | AF49: 5. 屋内環境(必須項目) ①または②に適合→+2 | AG49: =AD49 -> 5. 屋内環境(必須項目) ①または②に適合→+2 | AH49: 5. 屋内環境(必須項目) ①または③に適合→+2
B50: 40 | C50: 8-5 | D50: 室内の空気質について対策する | E50: 建築物衛生管理基準に準拠してホルムアルデヒドを管理している | K50: =IF($P$6="〇",P50,IF($Q$6="〇",Q50,IF($R$6="〇",R50,IF($S$6="〇",S50,IF($T$6="〇",T50,IF($U$6="〇",U50,IF($V$6="〇",V50,""))))))) | P50: =IF(オフィス評価結果!$C$104="適合",3,1) -> 1 | Q50: =IF(店舗評価結果!$C$104="適合",3,1) -> 1 | R50: =IF(物流評価結果!$C$104="適合",3,1) -> 1 | S50: =IF(ホテル評価結果!$C$104="適合",3,1) -> 1 | T50: =IF(集合住宅評価結果!C122>=2,3,1) -> 1 | U50: =IF(オフィス改修評価結果!$C$104="適合",3,1) -> 1 | V50: =IF(店舗改修評価結果!$C$104="適合",3,1) -> 1 | AD50: 5. 屋内環境(必須項目) ①または②に適合→+2 | AE50: 5. 屋内環境(必須項目) ①または②に適合→+2 | AF50: 5. 屋内環境(必須項目) ①または②に適合→+2 | AG50: =AD50 -> 5. 屋内環境(必須項目) ①または②に適合→+2 | AH50: 5.2.3化学汚染物質対策・適切換気 レベル2→＋2
B51: 41 | C51: 8-6 | D51: 遮音性能を確保する | E51: 床に遮音対策を講じ、かつ界壁遮音対策を講じている。 | K51: =IF($P$6="〇",P51,IF($Q$6="〇",Q51,IF($R$6="〇",R51,IF($S$6="〇",S51,IF($T$6="〇",T51,IF($U$6="〇",U51,IF($V$6="〇",V51,""))))))) | P51: 対象外 | Q51: 対象外 | R51: 対象外 | S51: 対象外 | T51: =IF(集合住宅評価結果!C124>=2,3,1) -> 1 | U51: 対象外 | V51: 対象外 | AD51: (対象外) | AE51: (対象外) | AF51: (対象外) | AG51: =AD51 -> (対象外) | AH51: 5.2.4騒音・遮音 レベル2→+2
B52: 42 | C52: 8-7 | D52: 建築躯体等を継続して使用する | E52: 既存建築躯体を再利用している | I52: 3.2.1再生材利用率・地域材・木材利用 ①躯体材料におけるリサイクル材の使用 →既存建築躯体を使用している場合には、加点要素にチェック | K52: =IF($P$6="〇",P52,IF($Q$6="〇",Q52,IF($R$6="〇",R52,IF($S$6="〇",S52,IF($T$6="〇",T52,IF($U$6="〇",U52,IF($V$6="〇",V52,""))))))) | N52: FALSE | P52: =IF($N$52=TRUE,2,1) -> 1 | Q52: =IF($N$52=TRUE,2,1) -> 1 | R52: =IF($N$52=TRUE,2,1) -> 1 | S52: =IF($N$52=TRUE,2,1) -> 1 | T52: =IF($N$52=TRUE,2,1) -> 1 | U52: =IF($N$52=TRUE,2,1) -> 1 | V52: =IF($N$52=TRUE,2,1) -> 1 | AD52: 3.2.1再生材利用率・地域材・木材利用 ①躯体材料におけるリサイクル材の使用 既存建築躯体を含める評価基準の修正 →既存建築躯体を使用している場合＋１ | AE52: 3.2.1再生材利用率・地域材・木材利用 ①躯体材料におけるリサイクル材の使用 既存建築躯体を含める評価基準の修正 →既存建築躯体を使用している場合＋１ | AF52: 3.2.1再生材利用率・地域材・木材利用 ①躯体材料におけるリサイクル材の使用 既存建築躯体を含める評価基準の修正 →既存建築躯体を使用している場合＋１ | AG52: =AD52 -> 3.2.1再生材利用率・地域材・木材利用 ①躯体材料におけるリサイクル材の使用 既存建築躯体を含める評価基準の修正 →既存建築躯体を使用している場合＋１ | AH52: 3.2.1再生材利用率・地域材・木材利用 ①躯体材料におけるリサイクル材の使用 既存建築躯体を含める評価基準の修正 →既存建築躯体を使用している場合＋１
B53: 43 | C53: 8-8 | D53: 躯体材料においてリサイクル材を使用する | E53: 構造耐力上主要な部分にリサイクル材資材を用いている | K53: =IF($P$6="〇",P53,IF($Q$6="〇",Q53,IF($R$6="〇",R53,IF($S$6="〇",S53,IF($T$6="〇",T53,IF($U$6="〇",U53,IF($V$6="〇",V53,""))))))) | P53: =IF(オフィス評価結果!$C$67>=4,2,1) -> 1 | Q53: =IF(店舗評価結果!$C$67>=4,2,1) -> 1 | R53: =IF(物流評価結果!$C$67>=4,2,1) -> 1 | S53: =IF(ホテル評価結果!$C$67>=4,2,1) -> 1 | T53: =IF(集合住宅評価結果!$C$67>=4,2,1) -> 1 | U53: =IF(オフィス改修評価結果!$C$67=4,2,1) -> 1 | V53: =IF(店舗改修評価結果!$C$67>=4,2,1) -> 1 | AD53: 3.2.1再生材利用率・地域材・木材利用 ①躯体材料におけるリサイクル材の使用 レベル4以上→＋1 | AE53: 3.2.1再生材利用率・地域材・木材利用 ①躯体材料におけるリサイクル材の使用 レベル4以上→＋1 | AF53: 3.2.1再生材利用率・地域材・木材利用 ①躯体材料におけるリサイクル材の使用 レベル4以上→＋1 | AG53: =AD53 -> 3.2.1再生材利用率・地域材・木材利用 ①躯体材料におけるリサイクル材の使用 レベル4以上→＋1 | AH53: 3.2.1再生材利用率・地域材・木材利用 ①躯体材料におけるリサイクル材の使用 レベル4以上→＋1
B54: 44 | C54: 8-9 | D54: 躯体材料以外においてリサイクル材を使用する | E54: 躯体材料以外の部分にリサイクル材資材を用いている | K54: =IF($P$6="〇",P54,IF($Q$6="〇",Q54,IF($R$6="〇",R54,IF($S$6="〇",S54,IF($T$6="〇",T54,IF($U$6="〇",U54,IF($V$6="〇",V54,""))))))) | P54: =(IF(オフィス評価結果!$C$68>=4,2,IF(オフィス評価結果!$C$68>=3,1,0)))+1 -> 1 | Q54: =(IF(店舗評価結果!$C$68>=4,2,IF(店舗評価結果!$C$68>=3,1,0)))+1 -> 1 | R54: =(IF(物流評価結果!$C$68>=4,2,IF(物流評価結果!$C$68>=3,1,0)))+1 -> 1 | S54: =(IF(ホテル評価結果!$C$68>=4,2,IF(ホテル評価結果!$C$68>=3,1,0)))+1 -> 1 | T54: =(IF(集合住宅評価結果!$C$68>=4,2,IF(集合住宅評価結果!$C$68>=3,1,0)))+1 -> 1 | U54: =(IF(オフィス改修評価結果!$C$68>=4,2,IF(オフィス改修評価結果!$C$68>=3,1,0)))+1 -> 1 | V54: =(IF(店舗改修評価結果!$C$68>=4,2,IF(店舗改修評価結果!$C$68>=3,1,0)))+1 -> 1 | AD54: 3.2.1再生材利用率・地域材・木材利用 ②非構造材料におけるリサイクル材・地域材・木材の使用 レベル3→+1、レベル4以上→+2 | AE54: 3.2.1再生材利用率・地域材・木材利用 ②非構造材料におけるリサイクル材・地域材・木材の使用 レベル3→+1、レベル4以上→+2 | AF54: 3.2.1再生材利用率・地域材・木材利用 ②非構造材料におけるリサイクル材・地域材・木材の使用 レベル3→+1、レベル4以上→+2 | AG54: =AD54 -> 3.2.1再生材利用率・地域材・木材利用 ②非構造材料におけるリサイクル材・地域材・木材の使用 レベル3→+1、レベル4以上→+2 | AH54: 3.2.1再生材利用率・地域材・木材利用 ②非構造材料におけるリサイクル材・地域材・木材の使用 レベル3→+1、レベル4以上→+2
B55: 45 | C55: 8-10 | D55: 持続可能な森林から産出された木材を使用する | E55: 持続可能な森林から産出された木材を使用している | I55: 3.2.1再生材利用率・地域材・木材利用 ①躯体材料において、木材利用により加点にする場合に、加点要素にチェック | K55: =IF($P$6="〇",P55,IF($Q$6="〇",Q55,IF($R$6="〇",R55,IF($S$6="〇",S55,IF($T$6="〇",T55,IF($U$6="〇",U55,IF($V$6="〇",V55,""))))))) | N55: FALSE | P55: =IF(OR(W55>=3,W56>=3),IF(W55>W56,IF(W55>=4,3,IF(W55>=3,2,1)),IF(W56>=4,3,IF(W56>=3,2,1))),1) -> 1 | Q55: =IF(OR(X55>=3,X56>=3),IF(X55>X56,IF(X55>=4,3,IF(X55>=3,2,1)),IF(X56>=4,3,IF(X56>=3,2,1))),1) -> 1 | R55: =IF(OR(Y55>=3,Y56>=3),IF(Y55>Y56,IF(Y55>=4,3,IF(Y55>=3,2,1)),IF(Y56>=4,3,IF(Y56>=3,2,1))),1) -> 1 | S55: =IF(OR(Z55>=3,Z56>=3),IF(Z55>Z56,IF(Z55>=4,3,IF(Z55>=3,2,1)),IF(Z56>=4,3,IF(Z56>=3,2,1))),1) -> 1 | T55: =IF(OR(Z55>=3,Z56>=3),IF(Z55>Z56,IF(Z55>=4,3,IF(Z55>=3,2,1)),IF(Z56>=4,3,IF(Z56>=3,2,1))),1) -> 1 | U55: =IF(OR(AA55>=3,AA56>=3),IF(AA55>AA56,IF(AA55>=4,3,IF(AA55>=3,2,1)),IF(AA56>=4,3,IF(AA56>=3,2,1))),1) -> 1 | V55: =IF(OR(AB55>=3,AB56>=3),IF(AB55>AB56,IF(AB55>=4,3,IF(AB55>=3,2,1)),IF(AB56>=4,3,IF(AB56>=3,2,1))),1) -> 1 | W55: =IF($N$55=TRUE,オフィス評価結果!$C$67,0) -> 0 | X55: =IF($N$55=TRUE,店舗評価結果!$C$67,0) -> 0 | Y55: =IF($N$55=TRUE,物流評価結果!$C$67,0) -> 0 | Z55: =IF($N$55=TRUE,集合住宅評価結果!$C$67,0) -> 0 | AA55: =IF($N$55=TRUE,オフィス改修評価結果!$C$67,0) -> 0 | AB55: =IF($N$55=TRUE,店舗改修評価結果!$C$67,0) -> 0 | AD55: 3.2.1①木材の加点の工夫 3.2.1②木材の加点の工夫 ①と②のレベル大きな方をとる レベル3→+1、レベル4以上→+2 | AE55: 3.2.1①木材の加点の工夫 3.2.1②木材の加点の工夫 ①と②のレベル大きな方をとる レベル3→+1、レベル4以上→+2 | AF55: 3.2.1①木材の加点の工夫 3.2.1②木材の加点の工夫 ①と②のレベル大きな方をとる レベル3→+1、レベル4以上→+2 | AG55: =AD55 -> 3.2.1①木材の加点の工夫 3.2.1②木材の加点の工夫 ①と②のレベル大きな方をとる レベル3→+1、レベル4以上→+2 | AH55: 3.2.1①木材の加点の工夫 3.2.1②木材の加点の工夫 ①と②のレベル大きな方をとる レベル3→+1、レベル4以上→+2
I56: 3.2.1再生材利用率・地域材・木材利用 ②非構造材料において、木材利用により加点にする場合に、加点要素にチェック | K56: =IF($P$6="〇",P56,IF($Q$6="〇",Q56,IF($R$6="〇",R56,IF($S$6="〇",S56,IF($T$6="〇",T56,IF($U$6="〇",U56,IF($V$6="〇",V56,""))))))) | N56: FALSE | W56: =IF($N$56=TRUE,オフィス評価結果!$C$68,0) -> 0 | X56: =IF($N$56=TRUE,店舗評価結果!$C$68,0) -> 0 | Y56: =IF($N$56=TRUE,物流評価結果!$C$68,0) -> 0 | Z56: =IF($N$56=TRUE,集合住宅評価結果!$C$68,0) -> 0 | AA56: =IF($N$56=TRUE,オフィス改修評価結果!$C$68,0) -> 0 | AB56: =IF($N$56=TRUE,店舗改修評価結果!$C$68,0) -> 0 | AG56: =AD56 -> 0
B57: 46 | C57: 8-11 | D57: 躯体材料を長く使う | E57: 躯体の耐用年数を長く設定している | K57: =IF($P$6="〇",P57,IF($Q$6="〇",Q57,IF($R$6="〇",R57,IF($S$6="〇",S57,IF($T$6="〇",T57,IF($U$6="〇",U57,IF($V$6="〇",V57,""))))))) | P57: =(IF(オフィス評価結果!$C$71>=4,2,IF(オフィス評価結果!$C$71>=3,1,0)))+1 -> 2 | Q57: =(IF(店舗評価結果!$C$71>=4,2,IF(店舗評価結果!$C$71>=3,1,0)))+1 -> 2 | R57: =(IF(物流評価結果!$C$71>=4,2,IF(物流評価結果!$C$71>=3,1,0)))+1 -> 2 | S57: =(IF(ホテル評価結果!$C$71>=4,2,IF(ホテル評価結果!$C$71>=3,1,0)))+1 -> 2 | T57: =(IF(集合住宅評価結果!$C$71>=4,2,IF(集合住宅評価結果!$C$71>=3,1,0)))+1 -> 2 | U57: =(IF(オフィス改修評価結果!$C$71>=4,2,IF(オフィス改修評価結果!$C$71>=3,1,0)))+1 -> 2 | V57: =(IF(店舗改修評価結果!$C$71>=4,2,IF(店舗改修評価結果!$C$71>=3,1,0)))+1 -> 2 | AD57: 3.3躯体材料の耐用年数 レベル3→+1 レベル4,5→+2 | AE57: 3.3躯体材料の耐用年数 レベル3→+1 レベル4,5→+2 | AF57: 3.3躯体材料の耐用年数 レベル3→+1 レベル4,5→+2 | AG57: =AD57 -> 3.3躯体材料の耐用年数 レベル3→+1 レベル4,5→+2 | AH57: 3.3躯体材料の耐用年数 レベル3→+1 レベル4,5→+2
B58: 47 | C58: 8-12 | D58: 自然災害に耐える | E58: 以下の取組に取り組んでいる ○ハザードマップ等により、敷地のハザードを確認 ○リスクがある場合の対策を講じている（水害、液状化、津波、地震動、斜面災害、落雷） | K58: =IF($P$6="〇",P58,IF($Q$6="〇",Q58,IF($R$6="〇",R58,IF($S$6="〇",S58,IF($T$6="〇",T58,IF($U$6="〇",U58,IF($V$6="〇",V58,""))))))) | P58: =(IF(オフィス評価結果!$C$97>=4,2,IF(オフィス評価結果!$C$97>=3,1,0)))+1 -> 2 | Q58: =(IF(店舗評価結果!$C$97>=4,2,IF(店舗評価結果!$C$97>=3,1,0)))+1 -> 2 | R58: =(IF(物流評価結果!$C$97>=4,2,IF(物流評価結果!$C$97>=3,1,0)))+1 -> 2 | S58: =(IF(ホテル評価結果!$C$97>=4,2,IF(ホテル評価結果!$C$97>=3,1,0)))+1 -> 2 | T58: =(IF(集合住宅評価結果!$C$97>=4,2,IF(集合住宅評価結果!$C$97>=3,1,0)))+1 -> 2 | U58: =(IF(オフィス改修評価結果!$C$97>=4,2,IF(オフィス改修評価結果!$C$97>=3,1,0)))+1 -> 2 | V58: =(IF(店舗改修評価結果!$C$97>=4,2,IF(店舗改修評価結果!$C$97>=3,1,0)))+1 -> 2 | AD58: 4.4自然災害リスク対策 レベル3→+1 レベル4,5→+2 | AE58: 4.4自然災害リスク対策 レベル3→+1 レベル4,5→+2 | AF58: 4.4自然災害リスク対策 レベル3→+1 レベル4,5→+2 | AG58: =AD58 -> 4.4自然災害リスク対策 レベル3→+1 レベル4,5→+2 | AH58: 4.4自然災害リスク対策 レベル3→+1 レベル4,5→+2
A59: ゴール 9. 産業と 技術革新の 基盤を つくろう | B59: 47 | C59: 9-1 | D59: エネルギーに関する最新の技術を採用する | E59: 以下の取組に取り組んでいる（該当項目3つ以上）、部分的に取り組んでいる（該当項目1つor2つ）、取り組んでいない（該当項目0） ○太陽光発電の工夫 ○燃料電池の工夫 ○蓄電池の工夫 ○その他 | I59: （加点する場合には特筆事項を記入） | K59: =IF($P$6="〇",P59,IF($Q$6="〇",Q59,IF($R$6="〇",R59,IF($S$6="〇",S59,IF($T$6="〇",T59,IF($U$6="〇",U59,IF($V$6="〇",V59,""))))))) | M59: 1 | N59: FALSE | O59: =IF(N59=FALSE,M59,IF(M59=1,2,3)) -> 1 | P59: =$O$59 -> 1 | Q59: =$O$59 -> 1 | R59: =$O$59 -> 1 | S59: =$O$59 -> 1 | T59: =$O$59 -> 1 | U59: =$O$59 -> 1 | V59: =$O$59 -> 1 | AD59: チェックリスト項目 | AE59: チェックリスト項目 | AF59: チェックリスト項目 | AG59: =AD59 -> チェックリスト項目 | AH59: チェックリスト項目
B60: 48 | C60: 9-2 | D60: リフレッシュスペースを確保する | E60: 快適なオフィス生活に必要なリフレッシュスペース等の工夫をしている | I60: （加点する場合には特筆事項を記入） | K60: =IF($P$6="〇",P60,IF($Q$6="〇",Q60,IF($R$6="〇",R60,IF($S$6="〇",S60,IF($T$6="〇",T60,IF($U$6="〇",U60,IF($V$6="〇",V60,""))))))) | M60: 1 | N60: FALSE | O60: =IF(N60=FALSE,M60,IF(M60=1,2,3)) -> 1 | P60: =$O$60 -> 1 | Q60: =$O$60 -> 1 | R60: =$O$60 -> 1 | S60: =$O$60 -> 1 | T60: 対象外 | U60: =$O$60 -> 1 | V60: =$O$60 -> 1 | AD60: チェックリスト項目 | AE60: チェックリスト項目 | AF60: チェックリスト項目 | AG60: =AD60 -> チェックリスト項目 | AH60: 対象外 | AI60: 集合住宅は対象外とするか？ →オフィスのある施設ということで対象外
B61: 49 | C61: 9-3 | D61: コミュニケーションスペースを確保する | E61: 以下の取組みに取り組んでいない（該当項目なし）、取り組んでいる（該当項目1つ）、積極的に取り組んでいる（該当項目2つ以上） ○知的生産性を高めるという観点を考慮して計画・整備した集中しやすいスペースの有無 ○知的生産性を高めるという観点を考慮して計画・整備したフォーマルなコミュニケーションスペースの有無 ○知的生産性を高めるという観点を考慮して計画・整備したインフォーマルなコミュニケーションスペースの有無 | I61: （加点する場合には特筆事項を記入） | K61: =IF($P$6="〇",P61,IF($Q$6="〇",Q61,IF($R$6="〇",R61,IF($S$6="〇",S61,IF($T$6="〇",T61,IF($U$6="〇",U61,IF($V$6="〇",V61,""))))))) | M61: 1 | N61: FALSE | O61: =IF(N61=FALSE,M61,IF(M61=1,2,3)) -> 1 | P61: =$O$61 -> 1 | Q61: =$O$61 -> 1 | R61: =$O$61 -> 1 | S61: =$O$61 -> 1 | T61: 対象外 | U61: =$O$61 -> 1 | V61: =$O$61 -> 1 | AD61: チェックリスト項目 | AE61: チェックリスト項目 | AF61: チェックリスト項目 | AG61: =AD61 -> チェックリスト項目 | AH61: 対象外 | AI61: 集合住宅は対象外とするか？ →集合住宅には管理組合や自治会のためのコミュニケーションスペースは存在するが、対象外としてよい
B62: 50 | C62: 9-4 | D62: レジリエントデザインの導入 | E62: 設備（電力等）の自給率向上に関する取組みを行っている | K62: =IF($P$6="〇",P62,IF($Q$6="〇",Q62,IF($R$6="〇",R62,IF($S$6="〇",S62,IF($T$6="〇",T62,IF($U$6="〇",U62,IF($V$6="〇",V62,""))))))) | P62: =(IF(オフィス評価結果!$C$76>=4,3,IF(オフィス評価結果!$C$76>=3,2,1))) -> 2 | Q62: =(IF(店舗評価結果!$C$76>=4,3,IF(店舗評価結果!$C$76>=3,2,1))) -> 2 | R62: =(IF(物流評価結果!$C$76>=4,3,IF(物流評価結果!$C$76>=3,2,1))) -> 2 | S62: =(IF(ホテル評価結果!$C$76>=4,3,IF(ホテル評価結果!$C$76>=3,2,1))) -> 2 | T62: =(IF(集合住宅評価結果!$C$76>=4,3,IF(集合住宅評価結果!$C$76>=3,2,1))) -> 1 | U62: =(IF(オフィス改修評価結果!$C$76>=4,3,IF(オフィス改修評価結果!$C$76>=3,2,1))) -> 2 | V62: =(IF(店舗改修評価結果!$C$76>=4,3,IF(店舗改修評価結果!$C$76>=3,2,1))) -> 2 | AD62: 3.4.2設備(電力等の自給率向上) レベル3→＋1 レベル4，5→＋2 | AE62: 3.4.2設備(電力等の自給率向上) レベル3→＋1 レベル4，5→＋2 | AF62: 3.4.2設備(電力等の自給率向上) レベル3→＋1 レベル4，5→＋2 | AG62: =AD62 -> 3.4.2設備(電力等の自給率向上) レベル3→＋1 レベル4，5→＋2 | AH62: 3.4.2設備(電力等の自給率向上) レベル3→＋1 レベル4，5→＋2 | AI62: 新設
B63: 51 | C63: 9-5 | D63: 主要設備機器を長く使う | E63: 主要設備機器の更新・交換などの必要間隔を長くするための工夫をしている | K63: =IF($P$6="〇",P63,IF($Q$6="〇",Q63,IF($R$6="〇",R63,IF($S$6="〇",S63,IF($T$6="〇",T63,IF($U$6="〇",U63,IF($V$6="〇",V63,""))))))) | P63: =(IF(オフィス評価結果!$C$74>=4,2,IF(オフィス評価結果!$C$74>=3,1,0)))+1 -> 2 | Q63: =(IF(店舗評価結果!$C$74>=4,2,IF(店舗評価結果!$C$74>=3,1,0)))+1 -> 2 | R63: =(IF(物流評価結果!$C$74>=4,2,IF(物流評価結果!$C$74>=3,1,0)))+1 -> 2 | S63: =(IF(ホテル評価結果!$C$74>=4,2,IF(ホテル評価結果!$C$74>=3,1,0)))+1 -> 2 | T63: =(IF(集合住宅評価結果!$C$74>=4,2,IF(集合住宅評価結果!$C$74>=3,1,0)))+1 -> 2 | U63: =(IF(オフィス改修評価結果!$C$74>=4,2,IF(オフィス改修評価結果!$C$74>=3,1,0)))+1 -> 2 | V63: =(IF(店舗改修評価結果!$C$74>=4,2,IF(店舗改修評価結果!$C$74>=3,1,0)))+1 -> 2 | AD63: 3.4.1主要設備の更新必要間隔 レベル3→+1 レベル4,5→+2 | AE63: 3.4.1主要設備の更新必要間隔 レベル3→+1 レベル4,5→+2 | AF63: 3.4.1主要設備の更新必要間隔 レベル3→+1 レベル4,5→+2 | AG63: =AD63 -> 3.4.1主要設備の更新必要間隔 レベル3→+1 レベル4,5→+2 | AH63: 3.4.1主要設備の更新必要間隔 レベル3→+1 レベル4,5→+2
B64: 52 | C64: 9-6 | D64: 敷地のハザードを確認し、情報を共有する | E64: 以下の取組に取り組んでいる ○ハザードマップ等により、敷地のハザードを確認 ○リスクがある場合の対策を講じている（水害、液状化、津波、地震動、斜面災害、落雷） | K64: =IF($P$6="〇",P64,IF($Q$6="〇",Q64,IF($R$6="〇",R64,IF($S$6="〇",S64,IF($T$6="〇",T64,IF($U$6="〇",U64,IF($V$6="〇",V64,""))))))) | P64: =(IF(オフィス評価結果!$C$97>=4,2,IF(オフィス評価結果!$C$97>=3,1,0)))+1 -> 2 | Q64: =(IF(店舗評価結果!$C$97>=4,2,IF(店舗評価結果!$C$97>=3,1,0)))+1 -> 2 | R64: =(IF(物流評価結果!$C$97>=4,2,IF(物流評価結果!$C$97>=3,1,0)))+1 -> 2 | S64: =(IF(ホテル評価結果!$C$97>=4,2,IF(ホテル評価結果!$C$97>=3,1,0)))+1 -> 2 | T64: =(IF(集合住宅評価結果!$C$97>=4,2,IF(集合住宅評価結果!$C$97>=3,1,0)))+1 -> 2 | U64: =(IF(オフィス改修評価結果!$C$97>=4,2,IF(オフィス改修評価結果!$C$97>=3,1,0)))+1 -> 2 | V64: =(IF(店舗改修評価結果!$C$97>=4,2,IF(店舗改修評価結果!$C$97>=3,1,0)))+1 -> 2 | AD64: 4.4自然災害リスク対策 レベル3→+1 レベル4,5→+2 | AE64: 4.4自然災害リスク対策 レベル3→+1 レベル4,5→+2 | AF64: 4.4自然災害リスク対策 レベル3→+1 レベル4,5→+2 | AG64: =AD64 -> 4.4自然災害リスク対策 レベル3→+1 レベル4,5→+2 | AH64: 4.4自然災害リスク対策 レベル3→+1 レベル4,5→+2
A65: ゴール 10. 人や国の 不平等を なくそう | B65: ゴール10の内容はゴール5 等に集約されています | AG65: =AD65 -> 0
A66: ゴール 11. 住み続け られる まちづくりを | B66: 53 | C66: 11-1 | D66: ローコスト化、ランニングコストの低減に向け、環境性能を確保する | E66: 自然採光の開口部を積極的に計画し、昼光利用設備を備えている。 | K66: =IF($P$6="〇",P66,IF($Q$6="〇",Q66,IF($R$6="〇",R66,IF($S$6="〇",S66,IF($T$6="〇",T66,IF($U$6="〇",U66,IF($V$6="〇",V66,""))))))) | P66: =(((IF(オフィス評価結果!$C$108>=4,1,0)+IF(オフィス評価結果!$C$110>=4,1,0))+1)+(IF(オフィス評価結果!$C$104="適合",3,1))+(MIN(3,IF(オフィス評価結果!$C$74>=4,3,IF(オフィス評価結果!$C$74>=3,2,1))+IF($N$68=TRUE,1,0))))/3 -> 1.3333333 | Q66: =(((IF(店舗評価結果!$C$108>=4,1,0)+IF(店舗評価結果!$C$110>=4,1,0))+1)+(IF(店舗評価結果!$C$104="適合",3,1))+(MIN(3,IF(店舗評価結果!$C$74>=4,3,IF(店舗評価結果!$C$74>=3,2,1))+IF($N$68=TRUE,1,0))))/3 -> 1.3333333 | R66: =(((IF(物流評価結果!$C$108>=4,1,0)+IF(物流評価結果!$C$110>=4,1,0))+1)+(IF(物流評価結果!$C$104="適合",3,1))+(MIN(3,IF(物流評価結果!$C$74>=4,3,IF(物流評価結果!$C$74>=3,2,1))+IF($N$68=TRUE,1,0))))/3 -> 1.3333333 | S66: =(((IF(ホテル評価結果!$C$108>=4,1,0)+IF(ホテル評価結果!$C$110>=4,1,0))+1)+(IF(ホテル評価結果!$C$104="適合",3,1))+(MIN(3,IF(ホテル評価結果!$C$74>=4,3,IF(ホテル評価結果!$C$74>=3,2,1))+IF($N$68=TRUE,1,0))))/3 -> 1.3333333 | T66: =(((IF(集合住宅評価結果!$C$109>=2,1,0)+IF(集合住宅評価結果!$C$111>=3,1,0))+1)+(IF(集合住宅評価結果!$C$113>=2,3,1))+(MIN(3,IF(集合住宅評価結果!$C$74>=4,3,IF(集合住宅評価結果!$C$74>=3,2,1))+IF($N$68=TRUE,1,0))))/3 -> 1.6666667 | U66: =(((IF(オフィス改修評価結果!$C$108>=2,1,0)+IF(オフィス改修評価結果!$C$110>=2,1,0))+1)+(IF(オフィス改修評価結果!$C$104="適合",3,1))+(MIN(3,IF(オフィス改修評価結果!$C$74>=3,2,IF(オフィス改修評価結果!$C$74>=3,2,1))+IF($N$68=TRUE,1,0))))/3 -> 2 | V66: =(((IF(店舗改修評価結果!$C$108>=3,1,0)+IF(店舗改修評価結果!$C$110>=3,1,0))+1)+(IF(店舗改修評価結果!$C$104="適合",3,1))+(MIN(3,IF(店舗改修評価結果!$C$74>=4,3,IF(店舗改修評価結果!$C$74>=3,2,1))+IF($N$68=TRUE,1,0))))/3 -> 2 | AD66: 5.1.1自然採光がレベル4[Lv2]以上→+1 5.1.2昼光利用設備がレベル4[Lv2]以上→+1 | AE66: 5.1.1自然採光がレベル4[Lv3]以上→+1 5.1.2昼光利用設備がレベル4[Lv3]以上→+1 | AF66: 5.1.1自然採光がレベル4以上→+1 5.1.2昼光利用設備がレベル4以上→+1 | AG66: 5.1.1自然採光がレベル4以上→+1 5.1.2昼光利用設備がレベル4以上→+1 | AH66: 5.1.1.1自然採光 レベル2以上→＋1 5.1.1.2昼光利用設備 レベル３→+１
E67: 建築物衛生管理基準に準拠して室内の温度、湿度、浮遊粉じん、一酸化炭素、二酸化炭素を管理している | K67: =IF($P$6="〇",P67,IF($Q$6="〇",Q67,IF($R$6="〇",R67,IF($S$6="〇",S67,IF($T$6="〇",T67,IF($U$6="〇",U67,IF($V$6="〇",V67,""))))))) | AD67: 5. 屋内環境(必須項目) ①または②に適合→+2 | AE67: 5. 屋内環境(必須項目) ①または②に適合→+2 | AF67: 5. 屋内環境(必須項目) ①または②に適合→+2 | AG67: =AD67 -> 5. 屋内環境(必須項目) ①または②に適合→+2 | AH67: 5.1.2通風・排熱 レベル2以上→＋2
E68: 主要設備機器の更新・交換などの必要間隔を長くするための工夫をしている。修繕・更新費の平準化に資する取組 | I68: 3.4.1主要設備の更新必要間隔 長期保全計画書を作成している場合は、加点要素にチェック | K68: =IF($P$6="〇",P68,IF($Q$6="〇",Q68,IF($R$6="〇",R68,IF($S$6="〇",S68,IF($T$6="〇",T68,IF($U$6="〇",U68,IF($V$6="〇",V68,""))))))) | N68: FALSE | AD68: 3.4.1主要設備の更新必要間隔 レベル3→+1 レベル4,5→+2 | AE68: 3.4.1主要設備の更新必要間隔 レベル3→+1 レベル4,5→+2 | AF68: 3.4.1主要設備の更新必要間隔 レベル3→+1 レベル4,5→+2 | AG68: =AD68 -> 3.4.1主要設備の更新必要間隔 レベル3→+1 レベル4,5→+2 | AH68: 3.4.1主要設備の更新必要間隔 レベル3→+1 レベル4,5→+2
B69: 54 | C69: 11-2 | D69: 交通負荷を抑える | E69: 建物の利用者が公共交通機関を利用している | K69: =IF($P$6="〇",P69,IF($Q$6="〇",Q69,IF($R$6="〇",R69,IF($S$6="〇",S69,IF($T$6="〇",T69,IF($U$6="〇",U69,IF($V$6="〇",V69,""))))))) | P69: =(IF(オフィス評価結果!$C$93=5,2,IF(オフィス評価結果!$C$93>=3,1,0)))+1 -> 2 | Q69: =(IF(店舗評価結果!$C$93=5,2,IF(店舗評価結果!$C$93>=3,1,0)))+1 -> 2 | R69: =(IF(物流評価結果!$C$93=5,2,IF(物流評価結果!$C$93>=3,1,0)))+1 -> 2 | S69: =(IF(ホテル評価結果!$C$93=5,2,IF(ホテル評価結果!$C$93>=3,1,0)))+1 -> 2 | T69: =(IF(集合住宅評価結果!$C$93=5,2,IF(集合住宅評価結果!$C$93>=3,1,0)))+1 -> 2 | U69: =(IF(オフィス改修評価結果!$C$93=5,2,IF(オフィス改修評価結果!$C$93>=3,1,0)))+1 -> 2 | V69: =(IF(店舗改修評価結果!$C$93=5,2,IF(店舗改修評価結果!$C$93>=3,1,0)))+1 -> 2 | AD69: 4.3.1公共交通機関の接近性 レベル3→+1 レベル5→+2 | AE69: 4.3.1公共交通機関の接近性 レベル3→+1 レベル5→+2 | AF69: 4.3.1公共交通機関の接近性 レベル3→+1 レベル5→+2 | AG69: =AD69 -> 4.3.1公共交通機関の接近性 レベル3→+1 レベル5→+2 | AH69: 4.3.1公共交通機関の接近性 レベル3→+1 レベル5→+2
B70: 55 | C70: 11-3 | D70: 雨水・雑排水を利用する | E70: 雨水、雑排水の利用に関する取組をしている | I70: 6-2の評価により自動転記 | K70: =IF($P$6="〇",P70,IF($Q$6="〇",Q70,IF($R$6="〇",R70,IF($S$6="〇",S70,IF($T$6="〇",T70,IF($U$6="〇",U70,IF($V$6="〇",V70,""))))))) | P70: =P32 -> 1 | Q70: =Q32 -> 1 | R70: =R32 -> 1 | S70: =S32 -> 1 | T70: =T32 -> 1 | U70: =U32 -> 1 | V70: =V32 -> 1 | AD70: 2.1水使用量（計算値） 使用量算定ソフトで雨水・排水再利用あり→+2 | AE70: 2.1水使用量（計算値） 使用量算定ソフトで雨水・排水再利用あり→+2 | AF70: 2.2水使用量(仕様評価) 3)雨水利用の採用→+2 | AG70: =AD70 -> 2.1水使用量（計算値） 使用量算定ソフトで雨水・排水再利用あり→+2 | AH70: 2.2水使用量(仕様評価) 4)雨水利用の採用→+2
B71: 56 | C71: 11-4 | D71: 土壌汚染を防ぐ | E71: 対象敷地の場合、土壌汚染調査、拡散防止計画の届出、措置を行う。さらに進んで無害化措置を行う。 | K71: =IF($P$6="〇",P71,IF($Q$6="〇",Q71,IF($R$6="〇",R71,IF($S$6="〇",S71,IF($T$6="〇",T71,IF($U$6="〇",U71,IF($V$6="〇",V71,""))))))) | P71: =IF(オフィス評価結果!$C$90=0,"対象外",IF(オフィス評価結果!$C$90>=4,3,1)) -> 1 | Q71: =IF(店舗評価結果!$C$90=0,"対象外",IF(店舗評価結果!$C$90=0>=4,3,1)) -> 3 | R71: =IF(物流評価結果!$C$90=0,"対象外",IF(物流評価結果!$C$90>=4,3,1)) -> 1 | S71: =IF(ホテル評価結果!$C$90=0,"対象外",IF(ホテル評価結果!$C$90>=4,3,1)) -> 1 | T71: =IF(集合住宅評価結果!$C$90=0,"対象外",IF(集合住宅評価結果!$C$90>=4,3,1)) -> 1 | U71: =IF(オフィス改修評価結果!$C$90=0,"対象外",IF(オフィス改修評価結果!$C$90>=4,3,1)) -> 1 | V71: =IF(店舗改修評価結果!$C$90=0,"対象外",IF(店舗改修評価結果!$C$90>=4,3,1)) -> 1 | AD71: 4.2土壌環境品質・ブラウンフィールド再生 レベル4以上→+2 (対象外の場合は分母から除外) | AE71: 4.2土壌環境品質・ブラウンフィールド再生 レベル4以上→+2 (対象外の場合は分母から除外) | AF71: 4.2土壌環境品質・ブラウンフィールド再生 レベル4以上→+2 (対象外の場合は分母から除外) | AG71: =AD71 -> 4.2土壌環境品質・ブラウンフィールド再生 レベル4以上→+2 (対象外の場合は分母から除外) | AH71: 4.2土壌環境品質・ブラウンフィールド再生 レベル4以上→+2 (対象外の場合は分母から除外)
B72: 57 | C72: 11-5 | D72: 主要設備機器を長く使う | E72: 主要設備機器の更新・交換などの必要間隔を長くするための工夫をしている | I72: （加点する場合には特筆事項を記入） | K72: =IF($P$6="〇",P72,IF($Q$6="〇",Q72,IF($R$6="〇",R72,IF($S$6="〇",S72,IF($T$6="〇",T72,IF($U$6="〇",U72,IF($V$6="〇",V72,""))))))) | N72: FALSE | P72: =MIN(3,(IF(オフィス評価結果!$C$74>=4,3,IF(オフィス評価結果!$C$74>=3,2,1)))+IF($N$72=TRUE,1,0)) -> 2 | Q72: =MIN(3,(IF(店舗評価結果!$C$74>=4,3,IF(店舗評価結果!$C$74>=3,2,1)))+IF($N$72=TRUE,1,0)) -> 2 | R72: =MIN(3,(IF(物流評価結果!$C$74>=4,3,IF(物流評価結果!$C$74>=3,2,1)))+IF($N$72=TRUE,1,0)) -> 2 | S72: =MIN(3,(IF(ホテル評価結果!$C$74>=4,3,IF(ホテル評価結果!$C$74>=3,2,1)))+IF($N$72=TRUE,1,0)) -> 2 | T72: =MIN(3,(IF(集合住宅評価結果!$C$74>=4,3,IF(集合住宅評価結果!$C$74>=3,2,1)))+IF($N$72=TRUE,1,0)) -> 2 | U72: =MIN(3,(IF(オフィス改修評価結果!$C$74>=4,3,IF(オフィス改修評価結果!$C$74>=3,2,1)))+IF($N$72=TRUE,1,0)) -> 2 | V72: =MIN(3,(IF(店舗改修評価結果!$C$74>=4,3,IF(店舗改修評価結果!$C$74>=3,2,1)))+IF($N$72=TRUE,1,0)) -> 2 | AD72: 3.4.1主要設備機器の更新必要間隔 レベル3→+1 レベル4,5→+2 | AE72: 3.4.1主要設備機器の更新必要間隔 レベル3→+1 レベル4,5→+2 | AF72: 3.4.1主要設備機器の更新必要間隔 レベル3→+1 レベル4,5→+2 | AG72: =AD72 -> 3.4.1主要設備機器の更新必要間隔 レベル3→+1 レベル4,5→+2 | AH72: 3.4.1主要設備の更新必要間隔 レベル3→+1 レベル4,5→+2 | AI72: 旧11-6を復活
B73: 58 | C73: 11-6 | D73: レジリエントデザインの導入 | E73: 設備（電力等）の自給率向上に関する取組みを行っている | K73: =IF($P$6="〇",P73,IF($Q$6="〇",Q73,IF($R$6="〇",R73,IF($S$6="〇",S73,IF($T$6="〇",T73,IF($U$6="〇",U73,IF($V$6="〇",V73,""))))))) | P73: =(IF(オフィス評価結果!$C$76>=4,3,IF(オフィス評価結果!$C$76>=3,2,1))) -> 2 | Q73: =(IF(店舗評価結果!$C$76>=4,3,IF(店舗評価結果!$C$76>=3,2,1))) -> 2 | R73: =(IF(物流評価結果!$C$76>=4,3,IF(物流評価結果!$C$76>=3,2,1))) -> 2 | S73: =(IF(ホテル評価結果!$C$76>=4,3,IF(ホテル評価結果!$C$76>=3,2,1))) -> 2 | T73: =(IF(集合住宅評価結果!$C$76>=4,3,IF(集合住宅評価結果!$C$76>=3,2,1))) -> 1 | U73: =(IF(オフィス改修評価結果!$C$76>=4,3,IF(オフィス改修評価結果!$C$76>=3,2,1))) -> 2 | V73: =(IF(店舗改修評価結果!$C$76>=4,3,IF(店舗改修評価結果!$C$76>=3,2,1))) -> 2 | AD73: 3.4.2設備(電力等の自給率向上) レベル3→＋1 レベル4，5→＋2 | AE73: 3.4.2設備(電力等の自給率向上) レベル3→＋1 レベル4，5→＋2 | AF73: 3.4.2設備(電力等の自給率向上) レベル3→＋1 レベル4，5→＋2 | AG73: =AD73 -> 3.4.2設備(電力等の自給率向上) レベル3→＋1 レベル4，5→＋2 | AH73: 3.4.2設備(電力等の自給率向上) レベル3→＋1 レベル4，5→＋2 | AI73: 旧11-5(躯体材料を長く使う)を削除し、旧11-6(主要設備機器を長く使う)をレジリエントデザインの内容に修正。旧11-6を残す必要はありますか？→残す
B74: 59 | C74: 11-7 | D74: 敷地のハザードを確認する | E74: 以下の取組に取り組んでいる ○ハザードマップ等により、敷地のハザードを確認 ○リスクがある場合の対策を講じている（水害、液状化、津波、地震動、斜面災害、落雷） | K74: =IF($P$6="〇",P74,IF($Q$6="〇",Q74,IF($R$6="〇",R74,IF($S$6="〇",S74,IF($T$6="〇",T74,IF($U$6="〇",U74,IF($V$6="〇",V74,""))))))) | P74: =(IF(オフィス評価結果!$C$97>=4,2,IF(オフィス評価結果!$C$97>=3,1,0)))+1 -> 2 | Q74: =(IF(店舗評価結果!$C$97>=4,2,IF(店舗評価結果!$C$97>=3,1,0)))+1 -> 2 | R74: =(IF(物流評価結果!$C$97>=4,2,IF(物流評価結果!$C$97>=3,1,0)))+1 -> 2 | S74: =(IF(ホテル評価結果!$C$97>=4,2,IF(ホテル評価結果!$C$97>=3,1,0)))+1 -> 2 | T74: =(IF(集合住宅評価結果!$C$97>=4,2,IF(集合住宅評価結果!$C$97>=3,1,0)))+1 -> 2 | U74: =(IF(オフィス改修評価結果!$C$97>=4,2,IF(オフィス改修評価結果!$C$97>=3,1,0)))+1 -> 2 | V74: =(IF(店舗改修評価結果!$C$97>=4,2,IF(店舗改修評価結果!$C$97>=3,1,0)))+1 -> 2 | AD74: 4.4自然災害リスク対策 レベル3→+1 レベル4,5→+2 | AE74: 4.4自然災害リスク対策 レベル3→+1 レベル4,5→+2 | AF74: 4.4自然災害リスク対策 レベル3→+1 レベル4,5→+2 | AG74: =AD74 -> 4.4自然災害リスク対策 レベル3→+1 レベル4,5→+2 | AH74: 4.4自然災害リスク対策 レベル3→+1 レベル4,5→+2
B75: 60 | C75: 11-8 | D75: 防犯対策を施す | E75: 以下のことを行っている。 ○エントランスにセキュリティシステムを設置 ○ITVカメラ監視 ○日中には常駐監視 ○夜間はセキュリティ会社に警報が配信 | K75: =IF($P$6="〇",P75,IF($Q$6="〇",Q75,IF($R$6="〇",R75,IF($S$6="〇",S75,IF($T$6="〇",T75,IF($U$6="〇",U75,IF($V$6="〇",V75,""))))))) | P75: 対象外 | Q75: 対象外 | R75: 対象外 | S75: 対象外 | T75: =(IF(集合住宅評価結果!C126>=3,2,IF(集合住宅評価結果!C126>=2,1,0)))+1 -> 1 | U75: 対象外 | V75: 対象外 | AD75: (対象外) | AE75: (対象外) | AF75: (対象外) | AG75: =AD75 -> (対象外) | AH75: 5.3防犯対策 レベル2→+1 レベル3→+2
B76: 61 | C76: 11-9 | D76: 生物環境を守る | E76: 生物環境の保全と創出に関する配慮をしている（生物環境） | I76: 4.1生物多様性の向上 ①評価・認証の取得(レベル4以上)に該当する場合には、加点要素にチェック | K76: =IF($P$6="〇",P76,IF($Q$6="〇",Q76,IF($R$6="〇",R76,IF($S$6="〇",S76,IF($T$6="〇",T76,IF($U$6="〇",U76,IF($V$6="〇",V76,""))))))) | N76: FALSE | P76: =MIN(3,IF($N$76=TRUE,2,COUNTIF($N$77:$N$79,TRUE))+1) -> 1 | Q76: =MIN(3,IF($N$76=TRUE,2,COUNTIF($N$77:$N$79,TRUE))+1) -> 1 | R76: =MIN(3,IF($N$76=TRUE,2,COUNTIF($N$77:$N$79,TRUE))+1) -> 1 | S76: =MIN(3,IF($N$76=TRUE,2,COUNTIF($N$77:$N$79,TRUE))+1) -> 1 | T76: =MIN(3,IF($N$76=TRUE,2,COUNTIF($N$77:$N$79,TRUE))+1) -> 1 | U76: =MIN(3,IF($N$76=TRUE,2,COUNTIF($N$77:$N$79,TRUE))+1) -> 1 | V76: =MIN(3,IF($N$76=TRUE,2,COUNTIF($N$77:$N$79,TRUE))+1) -> 1 | AD76: 4.1生物多様性能の向上 ①評価・認証の取得→+2 ②取組み表による評価 1)自然資源の保全→+1 2)種の多様性→+1 5)生物資源の管理と利用→+1 | AE76: 4.1生物多様性能の向上 ①評価・認証の取得→+2 ②取組み表による評価 1)自然資源の保全→+1 2)種の多様性→+1 5)生物資源の管理と利用→+1 | AF76: 4.1生物多様性能の向上 ①評価・認証の取得→+2 ②取組み表による評価 1)自然資源の保全→+1 2)種の多様性→+1 5)生物資源の管理と利用→+1 | AG76: =AD76 -> 4.1生物多様性能の向上 ①評価・認証の取得→+2 ②取組み表による評価 1)自然資源の保全→+1 2)種の多様性→+1 5)生物資源の管理と利用→+1 | AH76: 4.1生物多様性能の向上 ①評価・認証の取得→+2 ②取組み表による評価 1)自然資源の保全→+1 2)種の多様性→+1 5)生物資源の管理と利用→+1
I77: ②取組み表による評価 1)自然資源の保全に該当する場合には、加点要素にチェック | K77: =IF($P$6="〇",P77,IF($Q$6="〇",Q77,IF($R$6="〇",R77,IF($S$6="〇",S77,IF($T$6="〇",T77,IF($U$6="〇",U77,IF($V$6="〇",V77,""))))))) | N77: FALSE | AG77: =AD77 -> 0
I78: ②取組み表による評価 2)種の多様性の保全に該当する場合には、加点要素にチェック | K78: =IF($P$6="〇",P78,IF($Q$6="〇",Q78,IF($R$6="〇",R78,IF($S$6="〇",S78,IF($T$6="〇",T78,IF($U$6="〇",U78,IF($V$6="〇",V78,""))))))) | N78: FALSE | AG78: =AD78 -> 0
I79: ②取組み表による評価 5)生物資源の管理と利用に該当する場合には、加点要素にチェック | K79: =IF($P$6="〇",P79,IF($Q$6="〇",Q79,IF($R$6="〇",R79,IF($S$6="〇",S79,IF($T$6="〇",T79,IF($U$6="〇",U79,IF($V$6="〇",V79,""))))))) | N79: FALSE | AG79: =AD79 -> 0
B80: 62 | C80: 11-10 | D80: 環境配慮建築のラベリング・認証を活用する | E80: 環境配慮建築を示すラベリング・認証制度を積極的に活用し、取得している、または取得予定である。 （CASBEE-不動産、CASBEE-建築、CASBEEウェルネスオフィス、BELS、ZEBのいずれかの認証） | I80: （加点する場合には特筆事項を記入） | K80: =IF($P$6="〇",P80,IF($Q$6="〇",Q80,IF($R$6="〇",R80,IF($S$6="〇",S80,IF($T$6="〇",T80,IF($U$6="〇",U80,IF($V$6="〇",V80,""))))))) | M80: 1 | N80: FALSE | O80: =IF(N80=FALSE,IF(M80=1,1,IF(M80=2,2,3)),IF(M80=1,2,3)) -> 1 | P80: =$O$80 -> 1 | Q80: =$O$80 -> 1 | R80: =$O$80 -> 1 | S80: =$O$80 -> 1 | T80: =$O$80 -> 1 | U80: =$O$80 -> 1 | V80: =$O$80 -> 1 | AD80: チェックリスト項目 | AE80: チェックリスト項目 | AF80: チェックリスト項目 | AG80: =AD80 -> チェックリスト項目 | AH80: チェックリスト項目
A81: ゴール 12. つくる責任 つかう責任 | B81: 63 | C81: 12-1 | D81: 躯体材料を長く使う | E81: 躯体の耐用年数を長く設定している | K81: =IF($P$6="〇",P81,IF($Q$6="〇",Q81,IF($R$6="〇",R81,IF($S$6="〇",S81,IF($T$6="〇",T81,IF($U$6="〇",U81,IF($V$6="〇",V81,""))))))) | P81: =IF(オフィス評価結果!$C$71>=4,2,IF(オフィス評価結果!$C$71>=3,1,0))+1 -> 2 | Q81: =IF(店舗評価結果!$C$71>=4,2,IF(店舗評価結果!$C$71>=3,1,0))+1 -> 2 | R81: =IF(物流評価結果!$C$71>=4,2,IF(物流評価結果!$C$71>=3,1,0))+1 -> 2 | S81: =IF(ホテル評価結果!$C$71>=4,2,IF(ホテル評価結果!$C$71>=3,1,0))+1 -> 2 | T81: =IF(集合住宅評価結果!$C$71>=4,2,IF(集合住宅評価結果!$C$71>=3,1,0))+1 -> 2 | U81: =IF(オフィス改修評価結果!$C$71>=4,2,IF(オフィス改修評価結果!$C$71>=3,1,0))+1 -> 2 | V81: =IF(店舗改修評価結果!$C$71>=4,2,IF(店舗改修評価結果!$C$71>=3,1,0))+1 -> 2 | AD81: 3.3躯体材料の耐用年数 レベル3→+1 レベル4,5→+2 | AE81: 3.3躯体材料の耐用年数 レベル3→+1 レベル4,5→+2 | AF81: 3.3躯体材料の耐用年数 レベル3→+1 レベル4,5→+2 | AG81: =AD81 -> 3.3躯体材料の耐用年数 レベル3→+1 レベル4,5→+2 | AH81: 3.3躯体材料の耐用年数 レベル3→+1 レベル4,5→+2
B82: 64 | C82: 12-2 | D82: 自然災害に耐える | E82: 以下の取組に取り組んでいる ○ハザードマップ等により、敷地のハザードを確認 ○リスクがある場合の対策を講じている（水害、液状化、津波、地震動、斜面災害、落雷） | K82: =IF($P$6="〇",P82,IF($Q$6="〇",Q82,IF($R$6="〇",R82,IF($S$6="〇",S82,IF($T$6="〇",T82,IF($U$6="〇",U82,IF($V$6="〇",V82,""))))))) | P82: =IF(オフィス評価結果!$C$97>=4,2,IF(オフィス評価結果!$C$97>=3,1,0))+1 -> 2 | Q82: =IF(店舗評価結果!$C$97>=4,2,IF(店舗評価結果!$C$97>=3,1,0))+1 -> 2 | R82: =IF(物流評価結果!$C$97>=4,2,IF(物流評価結果!$C$97>=3,1,0))+1 -> 2 | S82: =IF(ホテル評価結果!$C$97>=4,2,IF(ホテル評価結果!$C$97>=3,1,0))+1 -> 2 | T82: =IF(集合住宅評価結果!$C$97>=4,2,IF(集合住宅評価結果!$C$97>=3,1,0))+1 -> 2 | U82: =IF(オフィス改修評価結果!$C$97>=4,2,IF(オフィス改修評価結果!$C$97>=3,1,0))+1 -> 2 | V82: =IF(店舗改修評価結果!$C$97>=4,2,IF(店舗改修評価結果!$C$97>=3,1,0))+1 -> 2 | AD82: 4.4自然災害リスク対策 レベル3→+1 レベル4,5→+2 | AE82: 4.4自然災害リスク対策 レベル3→+1 レベル4,5→+2 | AF82: 4.4自然災害リスク対策 レベル3→+1 レベル4,5→+2 | AG82: =AD82 -> 4.4自然災害リスク対策 レベル3→+1 レベル4,5→+2 | AH82: 4.4自然災害リスク対策 レベル3→+1 レベル4,5→+2
B83: 65 | C83: 12-3 | D83: 持続可能な森林から木材を調達する | E83: 持続可能な森林から産出された木材を使用している | I83: 8-10の評価により自動転記 | K83: =IF($P$6="〇",P83,IF($Q$6="〇",Q83,IF($R$6="〇",R83,IF($S$6="〇",S83,IF($T$6="〇",T83,IF($U$6="〇",U83,IF($V$6="〇",V83,""))))))) | P83: =P55 -> 1 | Q83: =Q55 -> 1 | R83: =R55 -> 1 | S83: =S55 -> 1 | T83: =T55 -> 1 | U83: =U55 -> 1 | V83: =V55 -> 1 | AD83: 3.2.1①木材の加点の工夫 3.2.1②木材の加点の工夫 ①と②のレベル大きな方をとる レベル3→+1、レベル4以上→+2 | AE83: 3.2.1①木材の加点の工夫 3.2.1②木材の加点の工夫 ①と②のレベル大きな方をとる レベル3→+1、レベル4以上→+2 | AF83: 3.2.1①木材の加点の工夫 3.2.1②木材の加点の工夫 ①と②のレベル大きな方をとる レベル3→+1、レベル4以上→+2 | AG83: =AD83 -> 3.2.1①木材の加点の工夫 3.2.1②木材の加点の工夫 ①と②のレベル大きな方をとる レベル3→+1、レベル4以上→+2 | AH83: 3.2.1①木材の加点の工夫 3.2.1②木材の加点の工夫 ①と②のレベル大きな方をとる レベル3→+1、レベル4以上→+2
B84: 66 | C84: 12-4 | D84: 定期点検 | E84: 維持管理において環境配慮の取組みを行っている | K84: =IF($P$6="〇",P84,IF($Q$6="〇",Q84,IF($R$6="〇",R84,IF($S$6="〇",S84,IF($T$6="〇",T84,IF($U$6="〇",U84,IF($V$6="〇",V84,""))))))) | P84: =IF(オフィス評価結果!$C$78>=4,3,IF(オフィス評価結果!$C$78>=3,2,1)) -> 1 | Q84: =IF(店舗評価結果!$C$78>=4,3,IF(店舗評価結果!$C$78>=3,2,1)) -> 1 | R84: =IF(物流評価結果!$C$78>=4,3,IF(物流評価結果!$C$78>=3,2,1)) -> 1 | S84: =IF(ホテル評価結果!$C$78>=4,3,IF(ホテル評価結果!$C$78>=3,2,1)) -> 1 | T84: =IF(集合住宅評価結果!$C$78>=4,3,IF(集合住宅評価結果!$C$78>=3,2,1)) -> 1 | U84: =IF(オフィス改修評価結果!$C$78>=4,3,IF(オフィス改修評価結果!$C$78>=3,2,1)) -> 1 | V84: =IF(店舗改修評価結果!$C$78>=4,3,IF(店舗改修評価結果!$C$78>=3,2,1)) -> 1 | AD84: 3.4.3維持管理 レベル3→＋1 レベル4，5→＋2 | AE84: 3.4.3維持管理 レベル3→＋1 レベル4，5→＋2 | AF84: 3.4.3維持管理 レベル3→＋1 レベル4，5→＋2 | AG84: =AD84 -> 3.4.3維持管理 レベル3→＋1 レベル4，5→＋2 | AH84: 3.4.3維持管理 レベル3→＋1 レベル4，5→＋2 | AI84: 新規
B85: 67 | C85: 12-5 | D85: 地域資源の活用に取り組む | E85: 地域性のある素材の使用（構造材、内装材、外装材、外構等へ）に関する工夫をしている | I85: 地域性のある素材の使用（構造材、内装材、外装材、外構等）を行っている場合には、加点要素にチェックする | K85: =IF($P$6="〇",P85,IF($Q$6="〇",Q85,IF($R$6="〇",R85,IF($S$6="〇",S85,IF($T$6="〇",T85,IF($U$6="〇",U85,IF($V$6="〇",V85,""))))))) | N85: FALSE | P85: =IF($N$85=TRUE,2,1) -> 1 | Q85: =IF($N$85=TRUE,2,1) -> 1 | R85: =IF($N$85=TRUE,2,1) -> 1 | S85: =IF($N$85=TRUE,2,1) -> 1 | T85: =IF($N$85=TRUE,2,1) -> 1 | U85: =IF($N$85=TRUE,2,1) -> 1 | V85: =IF($N$85=TRUE,2,1) -> 1 | AD85: 地域性のある材料を使用している場合（チェック項目）→＋1 | AE85: 地域性のある材料を使用している場合（チェック項目）→＋1 | AF85: 地域性のある材料を使用している場合（チェック項目）→＋1 | AG85: =AD85 -> 地域性のある材料を使用している場合（チェック項目）→＋1 | AH85: 地域性のある材料を使用している場合（チェック項目）→＋1 | AI85: 新規
B86: 68 | C86: 12-6 | D86: 建築躯体等を継続して使用する | E86: 既存建築躯体を再利用している | I86: 8-7の評価により自動転記 | K86: =IF($P$6="〇",P86,IF($Q$6="〇",Q86,IF($R$6="〇",R86,IF($S$6="〇",S86,IF($T$6="〇",T86,IF($U$6="〇",U86,IF($V$6="〇",V86,""))))))) | P86: =P52 -> 1 | Q86: =Q52 -> 1 | R86: =R52 -> 1 | S86: =S52 -> 1 | T86: =T52 -> 1 | U86: =U52 -> 1 | V86: =V52 -> 1 | AD86: 3.2.1再生材利用率・地域材・木材利用 ①躯体材料におけるリサイクル材の使用 既存建築躯体を含める評価基準の修正 →既存建築躯体を使用している場合＋１ | AE86: 3.2.1再生材利用率・地域材・木材利用 ①躯体材料におけるリサイクル材の使用 既存建築躯体を含める評価基準の修正 →既存建築躯体を使用している場合＋１ | AF86: 3.2.1再生材利用率・地域材・木材利用 ①躯体材料におけるリサイクル材の使用 既存建築躯体を含める評価基準の修正 →既存建築躯体を使用している場合＋１ | AG86: =AD86 -> 3.2.1再生材利用率・地域材・木材利用 ①躯体材料におけるリサイクル材の使用 既存建築躯体を含める評価基準の修正 →既存建築躯体を使用している場合＋１ | AH86: 3.2.1再生材利用率・地域材・木材利用 ①躯体材料におけるリサイクル材の使用 既存建築躯体を含める評価基準の修正 →既存建築躯体を使用している場合＋１
B87: 69 | C87: 12-7 | D87: 躯体材料においてリサイクル材を使用する | E87: 構造耐力上主要な部分にリサイクル材資材を用いている | I87: 8-8の評価により自動転記 | K87: =IF($P$6="〇",P87,IF($Q$6="〇",Q87,IF($R$6="〇",R87,IF($S$6="〇",S87,IF($T$6="〇",T87,IF($U$6="〇",U87,IF($V$6="〇",V87,""))))))) | P87: =IF(オフィス評価結果!$C$67>=4,2,1) -> 1 | Q87: =IF(店舗評価結果!$C$67>=4,2,1) -> 1 | R87: =IF(物流評価結果!$C$67>=4,2,1) -> 1 | S87: =IF(ホテル評価結果!$C$67>=4,2,1) -> 1 | T87: =IF(集合住宅評価結果!$C$67>=4,2,1) -> 1 | U87: =IF(オフィス改修評価結果!$C$67=4,2,1) -> 1 | V87: =IF(店舗改修評価結果!$C$67>=4,2,1) -> 1 | AD87: 3.2.1再生材利用率・地域材・木材利用 ①躯体材料におけるリサイクル材の使用 レベル4以上→＋1 | AE87: 3.2.1再生材利用率・地域材・木材利用 ①躯体材料におけるリサイクル材の使用 レベル4以上→＋1 | AF87: 3.2.1再生材利用率・地域材・木材利用 ①躯体材料におけるリサイクル材の使用 レベル4以上→＋1 | AG87: =AD87 -> 3.2.1再生材利用率・地域材・木材利用 ①躯体材料におけるリサイクル材の使用 レベル4以上→＋1 | AH87: 3.2.1再生材利用率・地域材・木材利用 ①躯体材料におけるリサイクル材の使用 レベル4以上→＋1
B88: 70 | C88: 12-8 | D88: 躯体材料以外においてリサイクル材を使用する | E88: 躯体材料以外の部分にリサイクル材資材を用いている | I88: 8-9の評価により自動転記 | K88: =IF($P$6="〇",P88,IF($Q$6="〇",Q88,IF($R$6="〇",R88,IF($S$6="〇",S88,IF($T$6="〇",T88,IF($U$6="〇",U88,IF($V$6="〇",V88,""))))))) | P88: =IF(オフィス評価結果!$C$68>=4,2,IF(オフィス評価結果!$C$68>=3,1,0))+1 -> 1 | Q88: =IF(店舗評価結果!$C$68>=4,2,IF(店舗評価結果!$C$68>=3,1,0))+1 -> 1 | R88: =IF(物流評価結果!$C$68>=4,2,IF(物流評価結果!$C$68>=3,1,0))+1 -> 1 | S88: =IF(ホテル評価結果!$C$68>=4,2,IF(ホテル評価結果!$C$68>=3,1,0))+1 -> 1 | T88: =IF(集合住宅評価結果!$C$68>=4,2,IF(集合住宅評価結果!$C$68>=3,1,0))+1 -> 1 | U88: =IF(オフィス改修評価結果!$C$68>=4,2,IF(オフィス改修評価結果!$C$68>=3,1,0))+1 -> 1 | V88: =IF(店舗改修評価結果!$C$68>=4,2,IF(店舗改修評価結果!$C$68>=3,1,0))+1 -> 1 | AD88: 3.2.1再生材利用率・地域材・木材利用 ②非構造材料におけるリサイクル材・地域材・木材の使用 レベル3→+1、レベル4以上→+2 | AE88: 3.2.1再生材利用率・地域材・木材利用 ②非構造材料におけるリサイクル材・地域材・木材の使用 レベル3→+1、レベル4以上→+2 | AF88: 3.2.1再生材利用率・地域材・木材利用 ②非構造材料におけるリサイクル材・地域材・木材の使用 レベル3→+1、レベル4以上→+2 | AG88: =AD88 -> 3.2.1再生材利用率・地域材・木材利用 ②非構造材料におけるリサイクル材・地域材・木材の使用 レベル3→+1、レベル4以上→+2 | AH88: 3.2.1再生材利用率・地域材・木材利用 ②非構造材料におけるリサイクル材・地域材・木材の使用 レベル3→+1、レベル4以上→+2
B89: 71 | C89: 12-9 | D89: 節水機器を採用する | E89: 節水型便器を採用している、水栓類の節水を行っている | I89: 6-1の評価結果により自動転記 | K89: =IF($P$6="〇",P89,IF($Q$6="〇",Q89,IF($R$6="〇",R89,IF($S$6="〇",S89,IF($T$6="〇",T89,IF($U$6="〇",U89,IF($V$6="〇",V89,""))))))) | P89: =P29 -> 1 | Q89: =Q29 -> 1 | R89: =R29 -> 1 | S89: =S29 -> 3 | T89: =T29 -> 1 | U89: =U29 -> 1 | V89: =V29 -> 1 | AD89: 2.1水使用量(計算値) 使用量算定ソフトで大便器の吐水量が6L/回以下→+2 | AE89: 2.1水使用量(計算値) 使用量算定ソフトで大便器の吐水量が6L/回以下→+2 | AF89: 2.2水使用量（仕様評価） 1)水栓類の節水→+1 2)節水型便器→+1 | AG89: =AD89 -> 2.1水使用量(計算値) 使用量算定ソフトで大便器の吐水量が6L/回以下→+2 | AH89: 2.2水使用量（仕様評価） 1)水栓類の節水→+1 2)節水型便器→+1 3)節湯器具等→+1
B90: 72 | C90: 12-10 | D90: 廃棄物の発生を抑える | E90: 建物運用時における廃棄物の発生抑制、分別措置、減容・減量化の取組をしている | I90: （加点する場合には特筆事項を記入） | K90: =IF($P$6="〇",P90,IF($Q$6="〇",Q90,IF($R$6="〇",R90,IF($S$6="〇",S90,IF($T$6="〇",T90,IF($U$6="〇",U90,IF($V$6="〇",V90,""))))))) | N90: FALSE | P90: 対象外 | Q90: =MIN(3,IF(店舗評価結果!$C$69>=3,3,IF(店舗評価結果!$C$69>=2,2,1))+IF($N$90=TRUE,1,0)) -> 3 | R90: 対象外 | S90: 対象外 | T90: =MIN(3,IF(集合住宅評価結果!$C$69>=3,3,IF(集合住宅評価結果!$C$69>=2,2,1))+IF($N$90=TRUE,1,0)) -> 3 | U90: 対象外 | V90: 対象外 | AD90: （対象外） | AE90: 3.2.2廃棄物処理負荷抑制 レベル2→+1、レベル３以上→+2 | AF90: （対象外） | AG90: =AD90 -> （対象外） | AH90: 3.2.2廃棄物処理負荷抑制 レベル2→+1、レベル３以上→+2
B91: 73 | C91: 12-11 | D91: エネルギーを管理する | E91: 以下の取組に取り組んでいる（該当項目1つ以上）、取り組んでいない（該当項目0） ○エネルギー消費量の目標設定 ○モニタリングの実施 ○運用管理体制の構築 | I91: 7-6の評価により自動転記 | K91: =IF($P$6="〇",P91,IF($Q$6="〇",Q91,IF($R$6="〇",R91,IF($S$6="〇",S91,IF($T$6="〇",T91,IF($U$6="〇",U91,IF($V$6="〇",V91,""))))))) | P91: =P42 -> 1 | Q91: =Q42 -> 1 | R91: =R42 -> 1 | S91: =S42 -> 1 | T91: =T42 -> 1 | U91: =U42 -> 1 | V91: =V42 -> 1 | AD91: 1エネルギー【必須】 ②エネルギー消費量の目標設定 ③モニタリングの実施 ③運用管理体制の構築 の確認→+2 | AE91: 1エネルギー【必須】 ②エネルギー消費量の目標設定 ③モニタリングの実施 ③運用管理体制の構築 の確認→+2 | AF91: 1エネルギー【必須】 ②エネルギー消費量の目標設定 ③モニタリングの実施 ③運用管理体制の構築 の確認→+2 | AG91: =AD91 -> 1エネルギー【必須】 ②エネルギー消費量の目標設定 ③モニタリングの実施 ③運用管理体制の構築 の確認→+2 | AH91: 1エネルギー【必須】 ②エネルギー消費量の目標設定 ③モニタリングの実施 ③運用管理体制の構築 の確認→+2
B92: 74 | C92: 12-12 | D92: 汚水を正しく処理する | E92: 給排水・衛生設備の業務手順書を用意 | K92: =IF($P$6="〇",P92,IF($Q$6="〇",Q92,IF($R$6="〇",R92,IF($S$6="〇",S92,IF($T$6="〇",T92,IF($U$6="〇",U92,IF($V$6="〇",V92,""))))))) | M92: 1 | O92: =IF(M92=1,1,3) -> 1 | P92: =$O$92 -> 1 | Q92: =$O$92 -> 1 | R92: =$O$92 -> 1 | S92: =$O$92 -> 1 | T92: =$O$92 -> 1 | U92: =$O$92 -> 1 | V92: =$O$92 -> 1 | AD92: 3.4.3維持管理 評価する取組み、3)業務手順、設備管理における業務標準手順書で加点を考慮するように修正、Ⅱ建築物衛生法以外も同様 →＋1 | AE92: 3.4.3維持管理 評価する取組み、3)業務手順、設備管理における業務標準手順書で加点を考慮するように修正、Ⅱ建築物衛生法以外も同様 →＋1 | AF92: 3.4.3維持管理 評価する取組み、3)業務手順、設備管理における業務標準手順書で加点を考慮するように修正、Ⅱ建築物衛生法以外も同様 →＋1 | AG92: =AD92 -> 3.4.3維持管理 評価する取組み、3)業務手順、設備管理における業務標準手順書で加点を考慮するように修正、Ⅱ建築物衛生法以外も同様 →＋1 | AH92: 3.4.3維持管理 評価する取組み、3)業務手順、設備管理における業務標準手順書で加点を考慮するように修正、Ⅱ建築物衛生法以外も同様 →＋1
B93: 75 | C93: 12-13 | D93: 土壌汚染を防ぐ | E93: 対象敷地の場合、土壌汚染調査、拡散防止計画の届出、措置を行う。さらに進んで無害化措置を行う。 | I93: 11-4の評価により自動転記 | K93: =IF($P$6="〇",P93,IF($Q$6="〇",Q93,IF($R$6="〇",R93,IF($S$6="〇",S93,IF($T$6="〇",T93,IF($U$6="〇",U93,IF($V$6="〇",V93,""))))))) | P93: =IF(オフィス評価結果!$C$90=0,"対象外",IF(オフィス評価結果!$C$90>=4,3,1)) -> 1 | Q93: =IF(店舗評価結果!$C$90=0,"対象外",IF(店舗評価結果!$C$90=0>=4,3,1)) -> 3 | R93: =IF(物流評価結果!$C$90=0,"対象外",IF(物流評価結果!$C$90>=4,3,1)) -> 1 | S93: =IF(ホテル評価結果!$C$90=0,"対象外",IF(ホテル評価結果!$C$90>=4,3,1)) -> 1 | T93: =IF(集合住宅評価結果!$C$90=0,"対象外",IF(集合住宅評価結果!$C$90>=4,3,1)) -> 1 | U93: =IF(オフィス改修評価結果!$C$90=0,"対象外",IF(オフィス改修評価結果!$C$90>=4,3,1)) -> 1 | V93: =IF(店舗改修評価結果!$C$90=0,"対象外",IF(店舗改修評価結果!$C$90>=4,3,1)) -> 1 | AD93: 4.2土壌環境品質・ブラウンフィールド再生 レベル4以上→+2 (対象外の場合は分母から除外) | AE93: 4.2土壌環境品質・ブラウンフィールド再生 レベル4以上→+2 (対象外の場合は分母から除外) | AF93: 4.2土壌環境品質・ブラウンフィールド再生 レベル4以上→+2 (対象外の場合は分母から除外) | AG93: =AD93 -> 4.2土壌環境品質・ブラウンフィールド再生 レベル4以上→+2 (対象外の場合は分母から除外) | AH93: 4.2土壌環境品質・ブラウンフィールド再生 レベル4以上→+2 (対象外の場合は分母から除外)
B94: 76 | C94: 12-14 | D94: カーボンニュートラルに向けて取り組む | E94: 地球温暖化対策に関する取組をしている | I94: 7-9の評価により自動転記 | K94: =IF($P$6="〇",P94,IF($Q$6="〇",Q94,IF($R$6="〇",R94,IF($S$6="〇",S94,IF($T$6="〇",T94,IF($U$6="〇",U94,IF($V$6="〇",V94,""))))))) | P94: =P45 -> 1 | Q94: =Q45 -> 1 | R94: =R45 -> 1 | S94: =S45 -> 1 | T94: =T45 -> 1 | U94: =U45 -> 1 | V94: =V45 -> 1 | AD94: 1.1.エネルギー使用（計算値）と1.2.エネルギー使用（実績値）のCO2排出欄の記載がある場合に、7-1の点数で評価 | AE94: 1.1.エネルギー使用（計算値）と1.2.エネルギー使用（実績値）のCO2排出欄の記載がある場合に、7-1の点数で評価 | AF94: 1.1.エネルギー使用（計算値）のCO2排出欄の記載がある場合に、7-1の点数で評価 | AG94: =AD94 -> 1.1.エネルギー使用（計算値）と1.2.エネルギー使用（実績値）のCO2排出欄の記載がある場合に、7-1の点数で評価 | AH94: 1.1.エネルギー使用（計算値）と1.2.エネルギー使用（実績値）のCO2排出欄の記載がある場合に、7-1の点数で評価
A95: ゴール 13. 気候変動に 具体的な 対策を | B95: 77 | C95: 13-1 | D95: カーボンニュートラルに向けて取り組む | E95: 地球温暖化対策に関する取組をしている | I95: 7-9の評価により自動転記 | K95: =IF($P$6="〇",P95,IF($Q$6="〇",Q95,IF($R$6="〇",R95,IF($S$6="〇",S95,IF($T$6="〇",T95,IF($U$6="〇",U95,IF($V$6="〇",V95,""))))))) | P95: =P45 -> 1 | Q95: =Q45 -> 1 | R95: =R45 -> 1 | S95: =S45 -> 1 | T95: =T45 -> 1 | U95: =U45 -> 1 | V95: =V45 -> 1 | AD95: 1.1.エネルギー使用（計算値）と1.2.エネルギー使用（実績値）のCO2排出欄の記載がある場合に、7-1の点数で評価 | AE95: 1.1.エネルギー使用（計算値）と1.2.エネルギー使用（実績値）のCO2排出欄の記載がある場合に、7-1の点数で評価 | AF95: 1.1.エネルギー使用（計算値）のCO2排出欄の記載がある場合に、7-1の点数で評価 | AG95: =AD95 -> 1.1.エネルギー使用（計算値）と1.2.エネルギー使用（実績値）のCO2排出欄の記載がある場合に、7-1の点数で評価 | AH95: 1.1.エネルギー使用（計算値）と1.2.エネルギー使用（実績値）のCO2排出欄の記載がある場合に、7-1の点数で評価
B96: 78 | C96: 13-2 | D96: 周辺の熱的影響を低減する | E96: 生物環境の保全と創出に関して配慮している（緑地） | I96: 4.1生物多様性の向上 ①評価・認証の取得(レベル4以上)に該当する場合には、加点要素にチェック | K96: =IF($P$6="〇",P96,IF($Q$6="〇",Q96,IF($R$6="〇",R96,IF($S$6="〇",S96,IF($T$6="〇",T96,IF($U$6="〇",U96,IF($V$6="〇",V96,""))))))) | N96: FALSE | P96: =IF($N$96=TRUE,3,COUNTIF($N$97:$N$98,TRUE)+1) -> 1 | Q96: =IF($N$96=TRUE,3,COUNTIF($N$97:$N$98,TRUE)+1) -> 1 | R96: =IF($N$96=TRUE,3,COUNTIF($N$97:$N$98,TRUE)+1) -> 1 | S96: =IF($N$96=TRUE,3,COUNTIF($N$97:$N$98,TRUE)+1) -> 1 | T96: =IF($N$96=TRUE,3,COUNTIF($N$97:$N$98,TRUE)+1) -> 1 | U96: =IF($N$96=TRUE,3,COUNTIF($N$97:$N$98,TRUE)+1) -> 1 | V96: =IF($N$96=TRUE,3,COUNTIF($N$97:$N$98,TRUE)+1) -> 1 | AD96: 4.1生物多様性の向上 ①評価・認証の取得→+2 ②取組み表による評価： 1)自然資源の保全→+1 4)トータルの緑地規模で緑地率20%以上→+1 | AE96: 4.1生物多様性の向上 ①評価・認証の取得→+2 ②取組み表による評価： 1)自然資源の保全→+1 4)トータルの緑地規模で緑地率20%以上→+1 | AF96: 4.1生物多様性の向上 ①評価・認証の取得→+2 ②取組み表による評価： 1)自然資源の保全→+1 4)トータルの緑地規模で緑地率20%以上→+1 | AG96: =AD96 -> 4.1生物多様性の向上 ①評価・認証の取得→+2 ②取組み表による評価： 1)自然資源の保全→+1 4)トータルの緑地規模で緑地率20%以上→+1 | AH96: 4.1生物多様性の向上 ①評価・認証の取得→+2 ②取組み表による評価： 1)自然資源の保全→+1 4)トータルの緑地規模で緑地率20%以上→+1
I97: ②取組み表による評価 1)自然資源の保全に該当する場合には、加点要素にチェック | K97: =IF($P$6="〇",P97,IF($Q$6="〇",Q97,IF($R$6="〇",R97,IF($S$6="〇",S97,IF($T$6="〇",T97,IF($U$6="〇",U97,IF($V$6="〇",V97,""))))))) | N97: FALSE
I98: ②取組み表による評価 4)トータルの緑地規模に該当する場合には、加点要素にチェック | K98: =IF($P$6="〇",P98,IF($Q$6="〇",Q98,IF($R$6="〇",R98,IF($S$6="〇",S98,IF($T$6="〇",T98,IF($U$6="〇",U98,IF($V$6="〇",V98,""))))))) | N98: FALSE
B99: 79 | C99: 13-3 | D99: 快適な室温を確保する | E99: 建築物衛生管理基準に準拠して室温を管理している | I99: 3-1の評価により自動転記 | K99: =IF($P$6="〇",P99,IF($Q$6="〇",Q99,IF($R$6="〇",R99,IF($S$6="〇",S99,IF($T$6="〇",T99,IF($U$6="〇",U99,IF($V$6="〇",V99,""))))))) | P99: =IF(オフィス評価結果!$C$104="適合",3,1) -> 1 | Q99: =IF(店舗評価結果!$C$104="適合",3,1) -> 1 | R99: =IF(物流評価結果!$C$104="適合",3,1) -> 1 | S99: =IF(ホテル評価結果!$C$104="適合",3,1) -> 1 | T99: =IF(集合住宅評価結果!$C$104="適合",3,1) -> 1 | U99: =IF(オフィス改修評価結果!$C$104="適合",3,1) -> 1 | V99: =IF(店舗改修評価結果!$C$104="適合",3,1) -> 1 | AD99: 5. 屋内環境(必須項目) ①または②に適合→+2 | AE99: 5. 屋内環境(必須項目) ①または②に適合→+2 | AF99: 5. 屋内環境(必須項目) ①または②に適合→+2 | AG99: =AD99 -> 5. 屋内環境(必須項目) ①または②に適合→+2 | AH99: 5. 屋内環境(必須項目) ①または③に適合→+2
B100: 80 | C100: 13-4 | D100: 耐風・飛来物対策、水害対策、土砂災害対策をする | E100: 以下の項目に積極的に取り組んでいる（該当項目2つ以上）、取組んでいる（該当項目1つ）、取組んでいない（0項目） ○今後増大する可能性のある強風被害に対する備えを行っている（建築基準法以上の設計、合わせガラス・雨戸・シャッター等の開口部の飛来物対策） ○今後増大する可能性のある水害に対する備えを行っている（被災の可能性が低い地域、電気設備等の配慮、避難方法の確認） ○今後増大する可能性のある土砂災害に対する備えを行っている （被災の可能性が低い地域、避難方法の確認） ○災害時の高齢者等弱者の避難への対応（余裕を持った避難勧告の実施、移動方法、薬等の準備 等） | I100: （加点する場合には特筆事項を記入） | K100: =IF($P$6="〇",P100,IF($Q$6="〇",Q100,IF($R$6="〇",R100,IF($S$6="〇",S100,IF($T$6="〇",T100,IF($U$6="〇",U100,IF($V$6="〇",V100,""))))))) | M100: 1 | N100: FALSE | O100: =IF(N100=FALSE,IF(M100=1,1,IF(M100=2,2,3)),IF(M100=1,2,3)) -> 1 | P100: =$O$100 -> 1 | Q100: =$O$100 -> 1 | R100: =$O$100 -> 1 | S100: =$O$100 -> 1 | T100: =$O$100 -> 1 | U100: =$O$100 -> 1 | V100: =$O$100 -> 1 | AD100: チェックリスト項目 | AE100: チェックリスト項目 | AF100: チェックリスト項目 | AG100: =AD100 -> チェックリスト項目 | AH100: チェックリスト項目
...

Sheet オフィス水計算ソフト
B2: 事務所ビルの水使用量算定
C3: ※空調用冷却塔補給水、植栽散水は計算から除外する | I3: （ご注意）
F4: ：入力項目 | I4: 使用する場合は、赤枠の欄に数値を入力してください。
F5: ：文献等による規定値 | I5: デフォルトで入力されている数値はサンプルです。入力の際には一度全て消去してから使用してください。
F6: ：計算値
B9: 1) | C9: 収容人員 | F9: 人
B10: 2) | C10: 延床面積 | F10: ㎡
B11: 3) | C11: 男女比 | D11: 男子 | F11: ％ | G11: 女子 | H11: =100-E11 -> 100 | I11: ％
D12: 男子 | E12: =$E$9*E11/100 -> 0 | F12: 人 | G12: 女子 | H12: =$E$9*H11/100 -> 0 | I12: 人
B14: 4) | C14: 水使用量の算定
C15: ①便所・洗面・湯沸かし
E16: 衛生器具吐水量 | G16: 器具使用回数*1) | I16: 使用人員
C17: 男子大便器 | F17: L/回× | G17: 0.42 | H17: 回/日× | I17: =E$12 -> 0 | J17: 人＝ | K17: =E17*G17*I17 -> 0 | L17: L/日 | Q17: 雑用水 | R17: =K17*M$24 -> 0
C18: 男子小便器 | F18: L/回× | G18: 2.88 | H18: 回/日× | I18: =E$12 -> 0 | J18: 人＝ | K18: =E18*G18*I18 -> 0 | L18: L/日 | Q18: 雑用水 | R18: =K18*M$24 -> 0
C19: 男子洗面器 | F19: L/回× | G19: =G17+G18 -> 3.3 | H19: 回/日× | I19: =E$12 -> 0 | J19: 人＝ | K19: =E19*G19*I19 -> 0 | L19: L/日 | Q19: 上水 | R19: =K19*M$24 -> 0
C20: 女子大便器 | F20: L/回× | G20: 2.93 | H20: 回/日× | I20: =H$12 -> 0 | J20: 人＝ | K20: =E20*G20*I20 -> 0 | L20: L/日 | Q20: 雑用水 | R20: =K20*M$24 -> 0
C21: 女子洗面器 | F21: L/回× | G21: 3.3 | H21: 回/日× | I21: =H$12 -> 0 | J21: 人＝ | K21: =E21*G21*I21 -> 0 | L21: L/日 | Q21: 上水 | R21: =K21*M$24 -> 0
C22: 湯沸し*4) | F22: L/回× | G22: 3 | H22: 回/日× | I22: =$E9 -> 0 | J22: 人＝ | K22: =E22*G22*I22 -> 0 | L22: L/日（飲用・茶器洗いなど） | Q22: 上水 | R22: =K22*M$24 -> 0
M23: 稼動日数
E24: ※洗面の使用回数は男子は大+小、女子は大と同じ | J24: 小計 | K24: =SUM(K17:K22) -> 0 | L24: L/日× | M24: 300 | N24: 日/年＝ | O24: =K24*M24 -> 0 | P24: L/年 | Q24: 小計 | R24: =SUM(R17:R23) -> 0
J25: ( | K25: =K24/$E$9 -> #DIV/0! | L25: L/人・日） | N25: ( | O25: =O24/$E$10 -> #DIV/0! | P25: L/㎡・年）
C27: ②器具清掃用 | E27: 延床面積 | G27: 衛生器具数原単位*2) | I27: 器具数
C28: 大便器 | E28: =E10 -> 0 | F28: ㎡× | G28: 0.0047 | H28: 個/㎡＝ | I28: =E28*G28 -> 0 | J28: 個
C29: 小便器 | E29: =E10 -> 0 | F29: ㎡× | G29: 0.0025 | H29: 個/㎡＝ | I29: =E29*G29 -> 0 | J29: 個
C30: 洗面器 | E30: =E10 -> 0 | F30: ㎡× | G30: 0.0047 | H30: 個/㎡＝ | I30: =E30*G30 -> 0 | J30: 個
E32: 器具数 | G32: 衛生器具吐水量 | I32: 洗浄時の回数
C33: 大便器 | E33: =I28 -> 0 | F33: 個× | G33: =E17 -> 0 | H33: L/回× | I33: 3 | J33: 回/日＝ | K33: =E33*G33*I33 -> 0 | L33: L/日 | Q33: 雑用水 | R33: =K33*M$36 -> 0
C34: 小便器 | E34: =I29 -> 0 | F34: 個× | G34: =E18 -> 0 | H34: L/回× | I34: 3 | J34: 回/日＝ | K34: =E34*G34*I34 -> 0 | L34: L/日 | Q34: 雑用水 | R34: =K34*M$36 -> 0
C35: 洗面器 | E35: =I30 -> 0 | F35: 個× | G35: =E19 -> 0 | H35: L/回× | I35: 3 | J35: 回/日＝ | K35: =E35*G35*I35 -> 0 | L35: L/日 | M35: 稼動日数 | Q35: 上水 | R35: =K35*M$36 -> 0
J36: 小計 | K36: =SUM(K33:K35) -> 0 | L36: L/日× | M36: 240 | N36: 日/年＝ | O36: =K36*M36 -> 0 | P36: L/年 | Q36: 小計 | R36: =SUM(R33:R35) -> 0 | T36: =(O24+O36)/E9/M36 -> #DIV/0! | U36: L/人・日
C38: ③食堂 | G38: 1食あたりの水量*3) | I38: 食数 | M38: 稼動日数
G39: 35 | H39: L/食・日× | J39: 食＝ | K39: =G39*I39 -> 0 | L39: L/日 | M39: 240 | N39: 日/年＝ | O39: =K39*M39 -> 0 | P39: L/年 | Q39: 上水 | R39: =K39*M39 -> 0
B44: 5)水使用量集計
O45: =R19+R21+R22+R35+R39 -> 0 | P45: L/年 | Q45: ①
O46: =R17+R18+R20+R33+R34 -> 0 | P46: L/年 | Q46: ②
K47: ( | N47: 合計 | O47: =O24+O36+O39 -> 0 | P47: L/年 | Q47: ③=①+② | T47: =O47/E9/M39 -> #DIV/0! | U47: L/人・日
N48: ( | O48: =O47/$E$10 -> #DIV/0! | P48: L/㎡・年）
B49: 6) | C49: 雨水・排水再利用による上水使用量削減
C50: 雨水・排水再利用による上水代替率もしくは再利用率 | I50: ％ | N50: 再利用量 | O50: =O47*H50/100 -> 0 | P50: L/年 | Q50: ④=③×%
C51: (水使用量の合計値に対する割合） | N51: 上限チェック | O51: =IF(O50<O46,O50,O46) -> 0 | P51: L/年 | Q51: ⑤：④<②が条件
J53: 上水 | O53: =O45 -> 0 | P53: L/年 | Q53: ①
J54: 雑用水（上水補給分） | O54: =O46-O51 -> 0 | P54: L/年 | Q54: ⑥：②-⑤
N55: 合計 | O55: =SUM(O53:O54) -> 0 | P55: L/年
N56: ( | O56: =O55/$E$10 -> #DIV/0! | P56: L/㎡・年）
C57: 出典）
C58: 1)（社）空気調和・衛生工学会 給排水衛生設備委員会／設計データ見直し小委員会
C59: 「水使用行為を基にした使用水量計算法（新しい設計給水量原単位の提案）」シンポジウム資料 P48、表3.3.2
C60: 2)同上 P60 表3.4.26
C61: 3)同上 P35 表2.3.1 社員食堂の下限値を採用
C62: 4)給排水衛生設備学 中級編水まわりの実務／紀谷文樹 TOTO出版 P60表-3備考欄「湯沸し」より
C63: 5)平19.都土木技術センター年報 C.E.C., TMG 2007, 3．野川流域の長期流出特性の解析, ISSN 1882-2657, 技術調査課 高崎忠勝

Sheet ①店舗スコア表
A1: 【店舗の案分計算補助ワークシート】 | D1: 本シートは、複数の店舗の業態を有する建物について、評価結果の案分計算を支援するためのものです。
B2: シートは①と②の２つがあります。どちらか使い安い方を選んでください。 | O2: =オフィス評価結果!M5 -> v1.21
B4: ①エネルギーと水の実績値評価において、業態別の実績値がある場合
C6: 水色のセル | E6: に入力します。
D7: （注）1.1及び2.1について、業態別の計算値が無い（店舗全体しか計算していない）場合は、それぞれの用途の欄に同じ評価結果を入力すること。
C8: 緑色のセル | E8: に出力された数値を、「店舗評価結果」シートの評価点記入欄に転記します。
E10: ①物販店舗 | F10: ②飲食店舗 | G10: ③デパート・スーパー | H10: ④家電量販店 | I10: ⑤コンビニエンス・ストア | J10: ⑥店舗の事務管理エリア | K10: ⑦その他（共用通路等；物販と同等とする） | M10: 合計
B11: 構成比（駐車場除く） | D11: 延床面積 | F11: 3000 | I11: 5000 | M11: =SUM(E11:L11) -> 8000 | N11: ←用途別の床面積を入力
D12: 構成比 | E12: =E11/$M$11 -> 0 | F12: =F11/$M$11 -> 0.375 | G12: =G11/$M$11 -> 0 | H12: =H11/$M$11 -> 0 | I12: =I11/$M$11 -> 0.625 | J12: =J11/$M$11 -> 0 | K12: =K11/$M$11 -> 0 | M12: =SUM(E12:L12) -> 1
D14: 面積加重
B15: １．エネルギー／温暖化ガス
C16: ※以下の1.1（計算値）は、平成25年改正省エネ基準で算定されたBEIによりC/Sを求めた場合には、入力不要です。
B17: 1.1 | C17: 使用・排出原単位（計算値） | D17: =SUMPRODUCT($E$12:$L$12,E17:L17) -> 0 | L17: ←用途別に評価結果（15～25点）を入力(注)
B18: 1.2 | C18: 使用・排出原単位（実績値） | D18: =SUMPRODUCT($E$12:$L$12,E18:L18) -> 0 | L18: ←用途別に評価結果（1～5点）を入力
C20: 1次エネルギ-消費量基準境界値（店舗業態別） | G20: 単位：MJ/ｍ2・年
D21: 構成比 | E21: 25％点 | F21: 50％点 | G21: 75％点 | H21: 90％点 | I21: 統計平均値 | J21: 評価建物 | Q21: 統計平均値
C22: ①物販店舗 | D22: =E12 -> 0 | E22: 1450 | F22: 2080 | G22: 2900 | H22: 3790 | I22: =R22 -> 2739 | K22: ←用途別に一次エネルギー消費量の実績値（MJ/㎡年）を入力 | Q22: 物販店舗 | R22: 2739
C23: ②飲食店舗 | D23: =F12 -> 0.375 | E23: 10440 | F23: 15470 | G23: 23060 | H23: 32010 | I23: =R23 -> 19826 | Q23: 飲食店舗 | R23: 19826
C24: ③デパート・スーパー（規模別） | D24: =G12 -> 0 | E24: =IF($L$24=$L$25,E25,IF($L$24=$L$26,E26,E27)) -> 6120 | F24: =IF($L$24=$L$25,F25,IF($L$24=$L$26,F26,F27)) -> 7440 | G24: =IF($L$24=$L$25,G25,IF($L$24=$L$26,G26,G27)) -> 8760 | H24: =IF($L$24=$L$25,H25,IF($L$24=$L$26,H26,H27)) -> 10230 | I24: =R24 -> 8190 | K24: 規模 | L24: =IF(G11<K25,L25,IF(G11<K26,L26,L27)) -> 2千㎡未満 | Q24: デパート・スーパー | R24: =IF(G11<2000,R25,IF(G11<10000,R26,R27)) -> 8190
C25: ③デパート・スーパー（-2k） | E25: 6120 | F25: 7440 | G25: 8760 | H25: 10230 | K25: 2000 | L25: 2千㎡未満 | Q25: 2,000㎡未満 | R25: 8190
C26: ③デパート・スーパー（2k-10k） | E26: 3740 | F26: 4900 | G26: 6350 | H26: 7240 | K26: 10000 | L26: 2千～1万㎡未満 | Q26: 2,000～10,000㎡ | R26: 5735
C27: ③デパート・スーパー（10k-） | E27: 2460 | F27: 3080 | G27: 3700 | H27: 4390 | L27: 1万㎡以上 | Q27: 10,000㎡以上 | R27: 3450
C28: ④家電量販店 | D28: =H12 -> 0 | E28: 2280 | F28: 2740 | G28: 3500 | H28: 4170 | I28: =R28 -> 3140 | Q28: 家電量販店 | R28: 3140
C29: ⑤コンビニエンス・ストア | D29: =I12 -> 0.625 | E29: 10740 | F29: 12410 | G29: 15360 | H29: 17470 | I29: =R29 -> 14180 | Q29: コンビニエンス・ストア | R29: 14180
C30: ⑥店舗の事務管理エリア | D30: =J12 -> 0 | E30: 1040 | F30: 1370 | G30: 1780 | H30: 2330 | I30: =R30 -> 1676 | Q30: 店舗の事務管理エリア | R30: =IF(J11<10000,R31,IF(J11<30000,R32,R33)) -> 1676
Q31: 10,000㎡未満 | R31: 1676
Q32: 10,000～30,000㎡ | R32: 2068
Q33: 30,000㎡以上 | R33: 2526
C34: ⑦その他（通路等；物販と同等） | D34: =K12 -> 0 | E34: 1450 | F34: 2080 | G34: 2900 | H34: 3790 | I34: =R34 -> 2739 | Q34: その他 | R34: 2739
C35: 対象店舗（駐車場を除く） | E35: =SUMPRODUCT($D$22:$D$34,E22:E34) -> 10627.5 | F35: =SUMPRODUCT($D$22:$D$34,F22:F34) -> 13557.5 | G35: =SUMPRODUCT($D$22:$D$34,G22:G34) -> 18247.5 | H35: =SUMPRODUCT($D$22:$D$34,H22:H34) -> 22922.5
B38: ２．水
B39: 2.1 | C39: 水使用量（計算値） | D39: =SUMPRODUCT($E$12:$L$12,E39:L39) -> 0 | L39: ←用途別に評価結果（15～25点）を入力(注)
B40: 2.3 | C40: 水使用量（実績値） | D40: =SUMPRODUCT($E$12:$L$12,E40:L40) -> 0 | L40: ←用途別に評価結果（1～5点）を入力
C42: 上水消費量基準境界値（店舗業態別） | G42: 単位：L/ｍ2・年
D43: 構成比 | E43: 25％点 | F43: 50％点 | G43: 75％点 | H43: 90％点 | J43: 評価建物
C44: ①物販店舗 | D44: =E12 -> 0 | E44: 404 | F44: 1102 | G44: 1731 | H44: 3089 | K44: ←用途別に水消費量の実績値（L/㎡年）を入力
C45: ②飲食店舗 | D45: =F12 -> 0.375 | E45: 14205 | F45: 21053 | G45: 30404 | H45: 36641
C46: ③デパート・スーパー | D46: =G12 -> 0 | E46: 1267 | F46: 1901 | G46: 2780 | H46: 3800
C47: ④家電量販店（物販と同等とする） | D47: =H12 -> 0 | E47: 404 | F47: 1102 | G47: 1731 | H47: 3089
C48: ⑤コンビニエンス・ストア | D48: =I12 -> 0.625 | E48: 2000 | F48: 2700 | G48: 3750 | H48: 5000
C49: ⑥店舗の事務管理エリア | D49: =J12 -> 0 | E49: 490 | F49: 693 | G49: 975 | H49: 1293
C50: ⑦その他（通路等；物販と同等） | D50: =K12 -> 0 | E50: 404 | F50: 1102 | G50: 1731 | H50: 3089
C51: 対象店舗（駐車場を除く） | E51: =SUMPRODUCT($D$44:$D$50,E44:E50) -> 6576.875 | F51: =SUMPRODUCT($D$44:$D$50,F44:F50) -> 9582.375 | G51: =SUMPRODUCT($D$44:$D$50,G44:G50) -> 13745.25 | H51: =SUMPRODUCT($D$44:$D$50,H44:H50) -> 16865.375
E53: ①物販店舗 | F53: ②飲食店舗 | G53: ③デパート・スーパー | H53: ④家電量販店 | I53: ⑤コンビニエンス・ストア | J53: ⑥店舗の事務管理エリア | K53: ⑦その他（共用通路等；物販と同等とする） | M53: 合計
B54: ５．屋内環境
B55: 5.1 | C55: 昼光利用 | D55: =D56*2/3+D58*1/3 -> 5
B56: 5.1.1 | C56: 自然採光 | D56: =SUMPRODUCT(E57:L57,E56:L56)/M57 -> 5 | F56: 5 | I56: 5 | L56: ←用途別に評価結果（1～5点）を入力
C57: 対象面積 | F57: 3000 | I57: 5000 | M57: =SUM(E57:L57) -> 8000
B58: 5.1.2 | C58: 昼光利用設備 | D58: 5 | E58: ←評価結果（3～5点）を入力（業態別の入力は不要）
B59: 5.2 | C59: 自然換気性能 | D59: =SUMPRODUCT(E60:L60,E59:L59)/M60 -> 4 | F59: 4 | I59: 4 | L59: ←用途別に評価結果（1～5点）を入力
C60: 対象面積 | F60: 3000 | I60: 5000 | M60: =SUM(E60:L60) -> 8000
B61: 5.3 | C61: 眺望・視環境 | D61: =SUMPRODUCT(E62:L62,E61:L61)/M62 -> 0 | L61: ←用途別に評価結果（1～5点）を入力
C62: 対象面積 | F62: 3000 | I62: 5000 | M62: =SUM(E62:L62) -> 8000

Sheet ②店舗スコア表
A1: 【店舗の案分計算補助ワークシート】 | D1: 本シートは、複数の店舗の業態を有する建物について、評価結果の案分計算を支援するためのものです。
B2: シートは①と②の２つがあります。どちらか使い安い方を選んでください。 | O2: =オフィス評価結果!M5 -> v1.21
B4: ②エネルギーと水の実績値評価において、業態別の実績値がない（店舗全体でしか計量していない）場合
C6: 水色のセル | E6: に入力します。
D7: （注）1.1及び2.1について、業態別の計算値が無い（店舗全体しか計算していない）場合は、それぞれの用途の欄に同じ評価結果を入力すること。
C8: 緑色のセル | E8: に出力された数値を、「店舗評価結果」シートの評価点記入欄に転記します。
E10: ①物販店舗 | F10: ②飲食店舗 | G10: ③デパート・スーパー | H10: ④家電量販店 | I10: ⑤コンビニエンス・ストア | J10: ⑥店舗の事務管理エリア | K10: ⑦その他（共用通路等；物販と同等とする） | M10: 合計
B11: 構成比（駐車場除く） | D11: 延床面積 | F11: 3000 | I11: 5000 | M11: =SUM(E11:L11) -> 8000 | N11: ←用途別の床面積を入力
D12: 構成比 | E12: =E11/$M$11 -> 0 | F12: =F11/$M$11 -> 0.375 | G12: =G11/$M$11 -> 0 | H12: =H11/$M$11 -> 0 | I12: =I11/$M$11 -> 0.625 | J12: =J11/$M$11 -> 0 | K12: =K11/$M$11 -> 0 | M12: =SUM(E12:L12) -> 1
D14: 面積加重
B15: １．エネルギー／温暖化ガス
C16: ※以下の1.1（計算値）は、平成25年改正省エネ基準で算定されたBEIによりC/Sを求めた場合には、入力不要です。
B17: 1.1 | C17: 使用・排出原単位（計算値） | D17: =SUMPRODUCT($E$12:$L$12,E17:L17) -> 23.125 | F17: 20 | I17: 25 | L17: ←用途別に評価結果（15～25点）を入力(注)
B18: 1.2 | C18: 使用・排出原単位（実績値） | D18: ※本シートでは実績値によるスコアの入力は不要です。評価結果は「店舗評価結果」シートの評価点記入欄に入力してください。
C20: 1次エネルギ-消費量基準境界値（店舗業態別） | G20: 単位：MJ/ｍ2・年
D21: 構成比 | E21: 25％点 | F21: 50％点 | G21: 75％点 | H21: 90％点 | I21: 統計平均値 | J21: 評価建物 | Q21: 統計平均値
C22: ①物販店舗 | D22: =E12 -> 0 | E22: =①店舗スコア表!E22 -> 1450 | F22: =①店舗スコア表!F22 -> 2080 | G22: =①店舗スコア表!G22 -> 2900 | H22: =①店舗スコア表!H22 -> 3790 | I22: =R22 -> 2739 | Q22: 物販店舗 | R22: 2739
C23: ②飲食店舗 | D23: =F12 -> 0.375 | E23: =①店舗スコア表!E23 -> 10440 | F23: =①店舗スコア表!F23 -> 15470 | G23: =①店舗スコア表!G23 -> 23060 | H23: =①店舗スコア表!H23 -> 32010 | I23: =R23 -> 19826 | Q23: 飲食店舗 | R23: 19826
C24: ③デパート・スーパー（規模別） | D24: =G12 -> 0 | E24: =①店舗スコア表!E24 -> 6120 | F24: =①店舗スコア表!F24 -> 7440 | G24: =①店舗スコア表!G24 -> 8760 | H24: =①店舗スコア表!H24 -> 10230 | I24: =R24 -> 8190 | K24: 規模 | L24: =IF(G11<K25,L25,IF(G11<K26,L26,L27)) -> 2千㎡未満 | Q24: デパート・スーパー | R24: =IF(G11<2000,R25,IF(G11<10000,R26,R27)) -> 8190
E25: =①店舗スコア表!E25 -> 6120 | F25: =①店舗スコア表!F25 -> 7440 | G25: =①店舗スコア表!G25 -> 8760 | H25: =①店舗スコア表!H25 -> 10230 | K25: 2000 | L25: 2千㎡未満 | Q25: 2,000㎡未満 | R25: 8190
E26: =①店舗スコア表!E26 -> 3740 | F26: =①店舗スコア表!F26 -> 4900 | G26: =①店舗スコア表!G26 -> 6350 | H26: =①店舗スコア表!H26 -> 7240 | K26: 10000 | L26: 2千～1万㎡未満 | Q26: 2,000～10,000㎡ | R26: 5735
E27: =①店舗スコア表!E27 -> 2460 | F27: =①店舗スコア表!F27 -> 3080 | G27: =①店舗スコア表!G27 -> 3700 | H27: =①店舗スコア表!H27 -> 4390 | L27: 1万㎡以上 | Q27: 10,000㎡以上 | R27: 3450
C28: ④家電量販店 | D28: =H12 -> 0 | E28: =①店舗スコア表!E28 -> 2280 | F28: =①店舗スコア表!F28 -> 2740 | G28: =①店舗スコア表!G28 -> 3500 | H28: =①店舗スコア表!H28 -> 4170 | I28: =R28 -> 3140 | Q28: 家電量販店 | R28: 3140
C29: ⑤コンビニエンス・ストア | D29: =I12 -> 0.625 | E29: =①店舗スコア表!E29 -> 10740 | F29: =①店舗スコア表!F29 -> 12410 | G29: =①店舗スコア表!G29 -> 15360 | H29: =①店舗スコア表!H29 -> 17470 | I29: =R29 -> 14180 | Q29: コンビニエンス・ストア | R29: 14180
C30: ⑥店舗の事務管理エリア | D30: =J12 -> 0 | E30: =①店舗スコア表!E30 -> 1040 | F30: =①店舗スコア表!F30 -> 1370 | G30: =①店舗スコア表!G30 -> 1780 | H30: =①店舗スコア表!H30 -> 2330 | I30: =R30 -> 1676 | Q30: 店舗の事務管理エリア | R30: =IF(J11<10000,R31,IF(J11<30000,R32,R33)) -> 1676
Q31: 10,000㎡未満 | R31: 1676
Q32: 10,000～30,000㎡ | R32: 2068
Q33: 30,000㎡以上 | R33: 2526
C34: ⑦その他（通路等；物販と同等） | D34: =K12 -> 0 | E34: =①店舗スコア表!E34 -> 1450 | F34: =①店舗スコア表!F34 -> 2080 | G34: =①店舗スコア表!G34 -> 2900 | H34: =①店舗スコア表!H34 -> 3790 | I34: =R34 -> 2739 | Q34: その他 | R34: 2739
C35: 対象店舗（駐車場を除く） | E35: =SUMPRODUCT($D$22:$D$34,E22:E34) -> 10627.5 | F35: =SUMPRODUCT($D$22:$D$34,F22:F34) -> 13557.5 | G35: =SUMPRODUCT($D$22:$D$34,G22:G34) -> 18247.5 | H35: =SUMPRODUCT($D$22:$D$34,H22:H34) -> 22922.5 | I35: =SUMPRODUCT(D22:D34,I22:I34) -> 16297.25 | J35: 22500
J36: ↑店舗全体の一次エネルギー消費量の実績値（MJ/㎡年）を入力
B38: ２．水
B39: 2.1 | C39: 水使用量（計算値） | D39: =SUMPRODUCT($E$12:$L$12,E39:L39) -> 0 | L39: ←用途別に評価結果（1～5点）を入力(注)
B40: 2.3 | C40: 水使用量（実績値） | D40: ※本シートでは実績値によるスコアの入力は不要です。評価結果は「店舗評価結果」シートの評価点記入欄に入力してください。
C42: 上水消費量基準境界値（店舗業態別） | G42: 単位：L/ｍ2・年
D43: 構成比 | E43: 25％点 | F43: 50％点 | G43: 75％点 | H43: 90％点 | J43: 評価建物
C44: ①物販店舗 | D44: =E12 -> 0 | E44: =①店舗スコア表!E44 -> 404 | F44: =①店舗スコア表!F44 -> 1102 | G44: =①店舗スコア表!G44 -> 1731 | H44: =①店舗スコア表!H44 -> 3089
C45: ②飲食店舗 | D45: =F12 -> 0.375 | E45: =①店舗スコア表!E45 -> 14205 | F45: =①店舗スコア表!F45 -> 21053 | G45: =①店舗スコア表!G45 -> 30404 | H45: =①店舗スコア表!H45 -> 36641
C46: ③デパート・スーパー | D46: =G12 -> 0 | E46: =①店舗スコア表!E46 -> 1267 | F46: =①店舗スコア表!F46 -> 1901 | G46: =①店舗スコア表!G46 -> 2780 | H46: =①店舗スコア表!H46 -> 3800
C47: ④家電量販店（物販と同等とする） | D47: =H12 -> 0 | E47: =①店舗スコア表!E47 -> 404 | F47: =①店舗スコア表!F47 -> 1102 | G47: =①店舗スコア表!G47 -> 1731 | H47: =①店舗スコア表!H47 -> 3089
C48: ⑤コンビニエンス・ストア | D48: =I12 -> 0.625 | E48: =①店舗スコア表!E48 -> 2000 | F48: =①店舗スコア表!F48 -> 2700 | G48: =①店舗スコア表!G48 -> 3750 | H48: =①店舗スコア表!H48 -> 5000
C49: ⑥店舗の事務管理エリア | D49: =J12 -> 0 | E49: =①店舗スコア表!E49 -> 490 | F49: =①店舗スコア表!F49 -> 693 | G49: =①店舗スコア表!G49 -> 975 | H49: =①店舗スコア表!H49 -> 1293
C50: ⑦その他（通路等；物販と同等） | D50: =K12 -> 0 | E50: =①店舗スコア表!E50 -> 404 | F50: =①店舗スコア表!F50 -> 1102 | G50: =①店舗スコア表!G50 -> 1731 | H50: =①店舗スコア表!H50 -> 3089
C51: 対象店舗（駐車場を除く） | E51: =SUMPRODUCT($D$44:$D$50,E44:E50) -> 6576.875 | F51: =SUMPRODUCT($D$44:$D$50,F44:F50) -> 9582.375 | G51: =SUMPRODUCT($D$44:$D$50,G44:G50) -> 13745.25 | H51: =SUMPRODUCT($D$44:$D$50,H44:H50) -> 16865.375
J52: ↑店舗全体の水消費量の実績値（L/㎡年）を入力
E53: ①物販店舗 | F53: ②飲食店舗 | G53: ③デパート・スーパー | H53: ④家電量販店 | I53: ⑤コンビニエンス・ストア | J53: ⑥店舗の事務管理エリア | K53: ⑦その他（共用通路等；物販と同等とする） | M53: 合計
B54: ５．屋内環境
B55: 5.1 | C55: 昼光利用 | D55: =D56*2/3+D58*1/3 -> 5
B56: 5.1.1 | C56: 自然採光 | D56: =SUMPRODUCT(E57:L57,E56:L56)/M57 -> 5 | F56: 5 | I56: 5 | L56: ←用途別に評価結果（1～5点）を入力
C57: 対象面積 | F57: 3000 | I57: 5000 | M57: =SUM(E57:L57) -> 8000
B58: 5.1.2 | C58: 昼光利用設備 | D58: 5 | E58: ←評価結果（3～5点）を入力（業態別の入力は不要）
B59: 5.2 | C59: 自然換気性能 | D59: =SUMPRODUCT(E60:L60,E59:L59)/M60 -> 4 | F59: 4 | I59: 4 | L59: ←用途別に評価結果（1～5点）を入力
C60: 対象面積 | F60: 3000 | I60: 5000 | M60: =SUM(E60:L60) -> 8000
B61: 5.3 | C61: 眺望・視環境 | D61: =SUMPRODUCT(E62:L62,E61:L61)/M62 -> 0 | L61: ←用途別に評価結果（1～5点）を入力
C62: 対象面積 | F62: 3000 | I62: 5000 | M62: =SUM(E62:L62) -> 8000

Sheet 店舗水計算ソフト
B2: 店舗の水使用量算定
C3: ※空調用冷却塔補給水、植栽散水は計算から除外する | I3: （ご注意）
F4: ：入力項目 | I4: 使用する場合は、赤枠の欄に数値を入力してください。
F5: ：文献等による規定値 | I5: デフォルトで入力されている数値はサンプルです。入力の際には一度全て消去してから使用してください。
F6: ：計算値
B9: 1) | C9: 常勤者 | F9: 人
C10: 来場者 | F10: 人
B11: 2) | C11: 延床面積(駐車場除く) | F11: ㎡
B12: 3) | C12: 営業日数 | F12: 日
B13: 4) | C13: 男女比 | D13: 男子 | F13: ％ | G13: 女子 | H13: =100-E13 -> 100 | I13: ％
C14: (常勤者） | D14: 男子 | E14: =$E$9*E13/100 -> 0 | F14: 人 | G14: 女子 | H14: =$E$9*H13/100 -> 0 | I14: 人
C15: 男女比 | D15: 男子 | F15: ％ | G15: 女子 | H15: =100-E15 -> 100 | I15: ％
C16: (来場者） | D16: 男子 | E16: =$E$10*E15/100 -> 0 | F16: 人 | G16: 女子 | H16: =$E$10*H15/100 -> 0 | I16: 人
B18: 5) | C18: 水使用量の算定
C19: ①常勤者による便所・洗面・湯沸かし
E20: 衛生器具吐水量 | G20: 器具使用回数*1) | I20: 滞在時間 | K20: 使用人員
C21: 男子大便器 | F21: L/回× | G21: 0.047 | H21: 回/h× | J21: h× | K21: =E$14 -> 0 | L21: 人＝ | M21: =E21*G21*I21*K21 -> 0 | N21: L/日 | S21: 雑用水 | T21: =M21*O$28 -> 0
C22: 男子小便器 | F22: L/回× | G22: 0.32 | H22: 回/h× | J22: h× | K22: =E$14 -> 0 | L22: 人＝ | M22: =E22*G22*I22*K22 -> 0 | N22: L/日 | S22: 雑用水 | T22: =M22*O$28 -> 0
C23: 男子洗面器 | F23: L/回× | G23: =G21+G22 -> 0.367 | H23: 回/h× | J23: h× | K23: =E$14 -> 0 | L23: 人＝ | M23: =E23*G23*I23*K23 -> 0 | N23: L/日 | S23: 上水 | T23: =M23*O$28 -> 0
C24: 女子大便器 | F24: L/回× | G24: 0.326 | H24: 回/h× | J24: h× | K24: =H$14 -> 0 | L24: 人＝ | M24: =E24*G24*I24*K24 -> 0 | N24: L/日 | S24: 雑用水 | T24: =M24*O$28 -> 0
C25: 女子洗面器 | F25: L/回× | G25: =G24 -> 0.326 | H25: 回/h× | J25: h× | K25: =H$14 -> 0 | L25: 人＝ | M25: =E25*G25*I25*K25 -> 0 | N25: L/日 | S25: 上水 | T25: =M25*O$28 -> 0
C26: 湯沸し*4) | F26: L/回× | G26: 3 | H26: 回/日× | K26: =$E9 -> 0 | L26: 人＝ | M26: =E26*G26*K26 -> 0 | N26: L/日（飲用・茶器洗いなど） | S26: 上水 | T26: =M26*O$28 -> 0
O27: 稼動日数
E28: ※洗面の使用回数は男子は大+小、女子は大と同じ | L28: 小計 | M28: =SUM(M21:M26) -> 0 | N28: L/日× | O28: =$E$12 -> 0 | P28: 日/年＝ | Q28: =M28*O28 -> 0 | R28: L/年 | S28: 小計 | T28: =SUM(T21:T27) -> 0 | U28: ① | V28: =T28/E9/E12 -> #DIV/0! | W28: L/人・日
L29: ( | M29: =M28/$E$9 -> #DIV/0! | N29: L/人・日） | P29: ( | Q29: =Q28/$E$11 -> #DIV/0! | R29: L/㎡・年）
C31: ②来場者による便所・洗面
E32: 衛生器具吐水量 | G32: 器具使用回数*1) | I32: 滞在時間 | K32: 使用人員
C33: 男子大便器 | F33: L/回× | G33: 0.047 | H33: 回/h× | J33: h× | K33: =E$16 -> 0 | L33: 人＝ | M33: =E33*G33*I33*K33 -> 0 | N33: L/日 | S33: 雑用水 | T33: =M33*O$28 -> 0
C34: 男子小便器 | F34: L/回× | G34: 0.32 | H34: 回/h× | J34: h× | K34: =E$16 -> 0 | L34: 人＝ | M34: =E34*G34*I34*K34 -> 0 | N34: L/日 | S34: 雑用水 | T34: =M34*O$28 -> 0
C35: 男子洗面器 | F35: L/回× | G35: =G33+G34 -> 0.367 | H35: 回/h× | J35: h× | K35: =E$16 -> 0 | L35: 人＝ | M35: =E35*G35*I35*K35 -> 0 | N35: L/日 | S35: 上水 | T35: =M35*O$28 -> 0
C36: 女子大便器 | F36: L/回× | G36: 0.326 | H36: 回/h× | J36: h× | K36: =H$16 -> 0 | L36: 人＝ | M36: =E36*G36*I36*K36 -> 0 | N36: L/日 | S36: 雑用水 | T36: =M36*O$28 -> 0
C37: 女子洗面器 | F37: L/回× | G37: =G36 -> 0.326 | H37: 回/h× | J37: h× | K37: =H$16 -> 0 | L37: 人＝ | M37: =E37*G37*I37*K37 -> 0 | N37: L/日 | S37: 上水 | T37: =M37*O$28 -> 0
O38: 稼動日数
E39: ※洗面の使用回数は男子は大+小、女子は大と同じ | L39: 小計 | M39: =SUM(M33:M37) -> 0 | N39: L/日× | O39: =$E$12 -> 0 | P39: 日/年＝ | Q39: =M39*O39 -> 0 | R39: L/年 | S39: 小計 | T39: =SUM(T33:T38) -> 0 | U39: ② | V39: =T39/E10/E12 -> #DIV/0! | W39: L/人・日
L40: ( | M40: =M39/$E$9 -> #DIV/0! | N40: L/人・日） | P40: ( | Q40: =Q39/$E$11 -> #DIV/0! | R40: L/㎡・年）
C43: ③器具清掃用 | E43: 延床面積 | G43: 衛生器具数原単位*2) | I43: 器具数
C44: 大便器 | E44: =E11 -> 0 | F44: ㎡× | G44: 0.0023 | H44: 個/㎡＝ | I44: =E44*G44 -> 0 | J44: 個
C45: 小便器 | E45: =E11 -> 0 | F45: ㎡× | G45: 0.0011 | H45: 個/㎡＝ | I45: =E45*G45 -> 0 | J45: 個
C46: 洗面器 | E46: =E11 -> 0 | F46: ㎡× | G46: 0.0024 | H46: 個/㎡＝ | I46: =E46*G46 -> 0 | J46: 個
E48: 器具数 | G48: 衛生器具吐水量 | I48: 洗浄時の回数
C49: 大便器 | E49: =I44 -> 0 | F49: 個× | G49: =E21 -> 0 | H49: L/回× | I49: 6 | J49: 回/日＝ | K49: =E49*G49*I49 -> 0 | L49: L/日 | S49: 雑用水 | T49: =K49*M$52 -> 0
C50: 小便器 | E50: =I45 -> 0 | F50: 個× | G50: =E22 -> 0 | H50: L/回× | I50: 6 | J50: 回/日＝ | K50: =E50*G50*I50 -> 0 | L50: L/日 | S50: 雑用水 | T50: =K50*M$52 -> 0
C51: 洗面器 | E51: =I46 -> 0 | F51: 個× | G51: =E23 -> 0 | H51: L/回× | I51: 6 | J51: 回/日＝ | K51: =E51*G51*I51 -> 0 | L51: L/日 | M51: 稼動日数 | S51: 上水 | T51: =K51*M$52 -> 0 | V51: ①+②+③
J52: 小計 | K52: =SUM(K49:K51) -> 0 | L52: L/日× | M52: =$E$12 -> 0 | N52: 日/年＝ | O52: =K52*M52 -> 0 | P52: L/年 | S52: 小計 | T52: =SUM(T49:T51) -> 0 | U52: ③ | V52: =(T28+T39+T52)/(E9+E10)/E12 -> #DIV/0! | W52: L/人・日
C54: ④飲食店舗 | G54: 客1人あたりの水量*3) | I54: 客数※ | M54: 稼動日数
E55: 喫茶・軽食 | G55: 15 | H55: L/人・日× | J55: 人＝ | K55: =G55*I55 -> 0 | L55: L/日 | M55: =$E$12 -> 0 | N55: 日/年＝ | O55: =K55*M55 -> 0 | P55: L/年 | S55: 上水 | T55: =K55*M55 -> 0
E56: 中華・麺類・焼肉 | G56: 30 | H56: L/人・日× | J56: 人＝ | K56: =G56*I56 -> 0 | L56: L/日 | M56: =$E$12 -> 0 | N56: 日/年＝ | O56: =K56*M56 -> 0 | P56: L/年 | S56: 上水 | T56: =K56*M56 -> 0
E57: 和食 | G57: 70 | H57: L/人・日× | J57: 人＝ | K57: =G57*I57 -> 0 | L57: L/日 | M57: =$E$12 -> 0 | N57: 日/年＝ | O57: =K57*M57 -> 0 | P57: L/年 | S57: 上水 | T57: =K57*M57 -> 0
E58: 洋食 | G58: 50 | H58: L/人・日× | J58: 人＝ | K58: =G58*I58 -> 0 | L58: L/日 | M58: =$E$12 -> 0 | N58: 日/年＝ | O58: =K58*M58 -> 0 | P58: L/年 | S58: 上水 | T58: =K58*M58 -> 0
H59: 小計 | I59: =SUM(I55:I58) -> 0 | J59: 人＝ | S59: 小計 | T59: =SUM(T55:T58) -> 0 | U59: ④ | V59: =(T59)/(I59)/E12 -> #DIV/0! | W59: L/客数・日
G60: ※客数が不明な場合には、客席数×回転数の計画値を入力しても良い。
B62: 6)水使用量集計
N63: 上水 | O63: =T23+T25+T26+T35+T37+T51+T59 -> 0 | P63: L/年 | Q63: ①
N64: 雑用水 | O64: =T21+T22+T24+T33+T34+T36+T49+T50 -> 0 | P64: L/年 | Q64: ② | U64: 検算
N65: 合計(全体) | O65: =O63+O64 -> 0 | P65: L/年 | Q65: ③=①+② | T65: =T28+T39+T52+T59 -> 0 | U65: ①+②+③+④ | V65: =T65/(E9+E10)/E12 -> #DIV/0! | W65: L/人・日
N66: ( | O66: =O65/$E$11 -> #DIV/0! | P66: L/㎡・年）
B67: 7) | C67: 雨水・排水再利用による上水使用量削減
C68: 雨水・排水再利用による上水代替率もしくは再利用率 | I68: ％ | N68: 再利用量 | O68: =O65*H68/100 -> 0 | P68: L/年 | Q68: ④=③×%
C69: (水使用量の合計値に対する割合） | N69: 上限チェック | O69: =IF(O68<O64,O68,O64) -> 0 | P69: L/年 | Q69: ⑤：④<②が条件
M71: 上水 | O71: =O63 -> 0 | P71: L/年 | Q71: ①
M72: 雑用水（上水補給分） | O72: =O64-O69 -> 0 | P72: L/年 | Q72: ⑥：②-⑤
N73: 合計(上水)￥ | O73: =SUM(O71:O72) -> 0 | P73: L/年
N74: ( | O74: =O73/$E$11 -> #DIV/0! | P74: L/㎡・年）
C75: 出典）
C76: 1)（社）空気調和・衛生工学会 給排水衛生設備委員会／設計データ見直し小委員会
C77: 「水使用行為を基にした使用水量計算法（新しい設計給水量原単位の提案）」シンポジウム資料 P48、表3.3.2 「職場」（回/h）
C78: 2)同上 P60 表3.4.26 「百貨店」の値を参照
C79: 3)同上 P25 表2.2.9-9～14 各飲食用途の平均値を採用
C80: 4)給排水衛生設備学 中級編水まわりの実務／紀谷文樹 TOTO出版 P60表-3備考欄「湯沸し」より

Sheet ホテル水計算ソフト
B2: ホテルの水使用量算定
C3: ※空調用冷却塔補給水、植栽散水は計算から除外する | I3: （ご注意）
F4: ：入力項目 | I4: 使用する場合は、赤枠の欄に数値を入力してください。
F5: ：文献等による規定値 | I5: デフォルトで入力されている数値はサンプルです。入力の際には一度全て消去してから使用してください。
F6: ：計算値
B9: 1) | C9: 常勤者 | E9: 35 | F9: 人
C10: 宿泊者 | E10: 195 | F10: 人/日 | G10: ←宿泊者は、年間宿泊人数を営業日数で割った値を入力する。難しい場合は、最大宿泊人数に年間の平均宿泊率を想定し、それを乗じて1日当たりの宿泊人数を入力する。
B11: 2) | C11: 延床面積(駐車場除く) | E11: 3477 | F11: ㎡ | H11: =E11/E10 -> 17.830769 | I11: ㎡/人
B12: 3) | C12: 営業日数 | E12: 365 | F12: 日
B13: 4) | C13: 男女比 | D13: 男子 | E13: 70 | F13: ％ | G13: 女子 | H13: =100-E13 -> 30 | I13: ％
C14: (常勤者） | D14: 男子 | E14: =$E$9*E13/100 -> 24.5 | F14: 人/日 | G14: 女子 | H14: =$E$9*H13/100 -> 10.5 | I14: 人/日
C15: 男女比 | D15: 男子 | E15: 70 | F15: ％ | G15: 女子 | H15: =100-E15 -> 30 | I15: ％
C16: (宿泊者） | D16: 男子 | E16: =$E$10*E15/100 -> 136.5 | F16: 人/日 | G16: 女子 | H16: =$E$10*H15/100 -> 58.5 | I16: 人/日
B18: 5) | C18: 水使用量の算定
C19: ①常勤者による便所・洗面・湯沸かし
E20: 衛生器具吐水量 | G20: 器具使用回数*1) | I20: 滞在時間 | K20: 使用人員
C21: 男子大便器 | E21: 6 | F21: L/回× | G21: 0.047 | H21: 回/h× | I21: 12 | J21: h× | K21: =E$14 -> 24.5 | L21: 人＝ | M21: =E21*G21*I21*K21 -> 82.908 | N21: L/日 | O21: =G21*I21 -> 0.564 | S21: 雑用水 | T21: =M21*O$28 -> 30261.42
C22: 男子小便器 | E22: 4 | F22: L/回× | G22: 0.32 | H22: 回/h× | I22: 12 | J22: h× | K22: =E$14 -> 24.5 | L22: 人＝ | M22: =E22*G22*I22*K22 -> 376.32 | N22: L/日 | O22: =G22*I22 -> 3.84 | S22: 雑用水 | T22: =M22*O$28 -> 137356.8
C23: 男子洗面器 | E23: 2 | F23: L/回× | G23: =G21+G22 -> 0.367 | H23: 回/h× | I23: 12 | J23: h× | K23: =E$14 -> 24.5 | L23: 人＝ | M23: =E23*G23*I23*K23 -> 215.796 | N23: L/日 | O23: =G23*I23 -> 4.404 | S23: 上水 | T23: =M23*O$28 -> 78765.54
C24: 女子大便器 | E24: 6 | F24: L/回× | G24: 0.326 | H24: 回/h× | I24: 12 | J24: h× | K24: =H$14 -> 10.5 | L24: 人＝ | M24: =E24*G24*I24*K24 -> 246.456 | N24: L/日 | O24: =G24*I24 -> 3.912 | S24: 雑用水 | T24: =M24*O$28 -> 89956.44
C25: 女子洗面器 | E25: 2 | F25: L/回× | G25: =G24 -> 0.326 | H25: 回/h× | I25: 12 | J25: h× | K25: =H$14 -> 10.5 | L25: 人＝ | M25: =E25*G25*I25*K25 -> 82.152 | N25: L/日 | O25: =G25*I25 -> 3.912 | S25: 上水 | T25: =M25*O$28 -> 29985.48
C26: 湯沸し*4) | E26: 2.5 | F26: L/回× | G26: 3 | H26: 回/日× | K26: =$E9 -> 35 | L26: 人＝ | M26: =E26*G26*K26 -> 262.5 | N26: L/日（飲用・茶器洗いなど） | S26: 上水 | T26: =M26*O$28 -> 95812.5
O27: 稼動日数
E28: ※洗面の使用回数は男子は大+小、女子は大と同じ | L28: 小計 | M28: =SUM(M21:M26) -> 1266.132 | N28: L/日× | O28: =$E$12 -> 365 | P28: 日/年＝ | Q28: =M28*O28 -> 462138.18 | R28: L/年 | S28: 小計 | T28: =SUM(T21:T27) -> 462138.18 | U28: ① | V28: =T28/E9/E12 -> 36.1752 | W28: L/人・日
L29: ( | M29: =M28/$E$9 -> 36.1752 | N29: L/人・日） | P29: ( | Q29: =Q28/$E$11 -> 132.91291 | R29: L/㎡・年）
C31: ②宿泊者による便所・洗面
E32: 衛生器具吐水量 | G32: 器具使用回数*1) | I32: 滞在時間 | K32: 使用人員
C33: 男子大便器 | E33: 6 | F33: L/回× | G33: 0.047 | H33: 回/h× | I33: 15 | J33: h× | K33: =E$16 -> 136.5 | L33: 人＝ | M33: =E33*G33*I33*K33 -> 577.395 | N33: L/日 | O33: =G33*I33 -> 0.705 | S33: 雑用水 | T33: =M33*O$28 -> 210749.18
C34: 男子小便器 | E34: 4 | F34: L/回× | G34: 0.32 | H34: 回/h× | I34: 15 | J34: h× | K34: =E$16 -> 136.5 | L34: 人＝ | M34: =E34*G34*I34*K34 -> 2620.8 | N34: L/日 | O34: =G34*I34 -> 4.8 | S34: 雑用水 | T34: =M34*O$28 -> 956592
C35: 男子洗面器 | E35: 2 | F35: L/回× | G35: =G33+G34 -> 0.367 | H35: 回/h× | I35: 15 | J35: h× | K35: =E$16 -> 136.5 | L35: 人＝ | M35: =E35*G35*I35*K35 -> 1502.865 | N35: L/日 | O35: =G35*I35 -> 5.505 | S35: 上水 | T35: =M35*O$28 -> 548545.72
C36: 女子大便器 | E36: 6 | F36: L/回× | G36: 0.326 | H36: 回/h× | I36: 15 | J36: h× | K36: =H$16 -> 58.5 | L36: 人＝ | M36: =E36*G36*I36*K36 -> 1716.39 | N36: L/日 | O36: =G36*I36 -> 4.89 | S36: 雑用水 | T36: =M36*O$28 -> 626482.35
C37: 女子洗面器 | E37: 2 | F37: L/回× | G37: =G36 -> 0.326 | H37: 回/h× | I37: 15 | J37: h× | K37: =H$16 -> 58.5 | L37: 人＝ | M37: =E37*G37*I37*K37 -> 572.13 | N37: L/日 | O37: =G37*I37 -> 4.89 | S37: 上水 | T37: =M37*O$28 -> 208827.45
O38: 稼動日数
E39: ※洗面の使用回数は男子は大+小、女子は大と同じ | L39: 小計 | M39: =SUM(M33:M37) -> 6989.58 | N39: L/日× | O39: =$E$12 -> 365 | P39: 日/年＝ | Q39: =M39*O39 -> 2551196.7 | R39: L/年 | S39: 小計 | T39: =SUM(T33:T38) -> 2551196.7 | U39: ② | V39: =T39/E10/E12 -> 35.844 | W39: L/人・日
L40: ( | M40: =M39/$E$10 -> 35.844 | N40: L/人・日） | P40: ( | Q40: =Q39/$E$11 -> 733.73503 | R40: L/㎡・年）
C43: ③器具清掃用 | E43: 延床面積 | G43: 衛生器具数原単位*2) | I43: 器具数
C44: 大便器 | E44: =E11 -> 3477 | F44: ㎡× | G44: 0.0023 | H44: 個/㎡＝ | I44: =E44*G44 -> 7.9971 | J44: 個
C45: 小便器 | E45: =E11 -> 3477 | F45: ㎡× | G45: 0.0011 | H45: 個/㎡＝ | I45: =E45*G45 -> 3.8247 | J45: 個
C46: 洗面器 | E46: =E11 -> 3477 | F46: ㎡× | G46: 0.0024 | H46: 個/㎡＝ | I46: =E46*G46 -> 8.3448 | J46: 個
E48: 器具数 | G48: 衛生器具吐水量 | I48: 洗浄時の回数
C49: 大便器 | E49: =I44 -> 7.9971 | F49: 個× | G49: =E21 -> 6 | H49: L/回× | I49: 6 | J49: 回/日＝ | K49: =E49*G49*I49 -> 287.8956 | L49: L/日 | S49: 雑用水 | T49: =K49*M$52 -> 105081.89
C50: 小便器 | E50: =I45 -> 3.8247 | F50: 個× | G50: =E22 -> 4 | H50: L/回× | I50: 6 | J50: 回/日＝ | K50: =E50*G50*I50 -> 91.7928 | L50: L/日 | S50: 雑用水 | T50: =K50*M$52 -> 33504.372
C51: 洗面器 | E51: =I46 -> 8.3448 | F51: 個× | G51: =E23 -> 2 | H51: L/回× | I51: 6 | J51: 回/日＝ | K51: =E51*G51*I51 -> 100.1376 | L51: L/日 | M51: 稼動日数 | S51: 上水 | T51: =K51*M$52 -> 36550.224 | V51: ①+②+③
J52: 小計 | K52: =SUM(K49:K51) -> 479.826 | L52: L/日× | M52: =$E$12 -> 365 | N52: 日/年＝ | O52: =K52*M52 -> 175136.49 | P52: L/年 | S52: 小計 | T52: =SUM(T49:T51) -> 175136.49 | U52: ③ | V52: =(T28+T39+T52)/(E9+E10)/E12 -> 37.9806 | W52: L/人・日
C55: ④浴室用給水 | G55: 宿泊者1人あたりの水量 | M55: 稼動日数
G56: 250 | H56: L/回× | I56: =E10 -> 195 | J56: 人= | K56: =G56*I56 -> 48750 | L56: L/日× | M56: =$E$12 -> 365 | N56: 日/年＝ | O56: =K56*M56 -> 17793750 | P56: L/年 | S56: 上水 | T56: =O56 -> 17793750
E57: バス、シャワー、洗面
G58: 男女合計の大浴場の容積 | M58: 稼動日数
H59: m3 | M59: =$E$12 -> 365 | N59: 日/年＝ | O59: =G59*M59*1000 -> 0 | P59: L/年 | S59: 上水 | T59: =O59 -> 0
C61: ⑤飲食店舗 | G61: 客1人あたりの水量*3) | I61: 客数※ | M61: 稼動日数
E62: 喫茶・軽食 | G62: 15 | H62: L/人・日× | I62: 195 | J62: 人＝ | K62: =G62*I62 -> 2925 | L62: L/日 | M62: =$E$12 -> 365 | N62: 日/年＝ | O62: =K62*M62 -> 1067625 | P62: L/年 | S62: 上水 | T62: =K62*M62 -> 1067625
E63: 中華・麺類・焼肉 | G63: 30 | H63: L/人・日× | J63: 人＝ | K63: =G63*I63 -> 0 | L63: L/日 | M63: =$E$12 -> 365 | N63: 日/年＝ | O63: =K63*M63 -> 0 | P63: L/年 | S63: 上水 | T63: =K63*M63 -> 0
E64: 和食 | G64: 70 | H64: L/人・日× | J64: 人＝ | K64: =G64*I64 -> 0 | L64: L/日 | M64: =$E$12 -> 365 | N64: 日/年＝ | O64: =K64*M64 -> 0 | P64: L/年 | S64: 上水 | T64: =K64*M64 -> 0
E65: 洋食 | G65: 50 | H65: L/人・日× | J65: 人＝ | K65: =G65*I65 -> 0 | L65: L/日 | M65: =$E$12 -> 365 | N65: 日/年＝ | O65: =K65*M65 -> 0 | P65: L/年 | S65: 上水 | T65: =K65*M65 -> 0
H66: 小計 | I66: =SUM(I62:I65) -> 195 | J66: 人＝ | S66: 小計 | T66: =SUM(T62:T65) -> 1067625 | U66: ④ | V66: =(T66)/(I66)/E12 -> 15 | W66: L/客数・日
G67: ※客数が不明な場合には、客席数×回転数の計画値を入力しても良い。
B69: 6)水使用量集計
N70: 上水 | O70: =T23+T25+T26+T35+T37+T51+T56+T59+T66 -> 19859862 | P70: L/年 | Q70: ①
K71: WC、浴室 | N71: 雑用水 | O71: =T21+T22+T24+T33+T34+T36+T49+T50 -> 2189984.5 | P71: L/年 | Q71: ② | U71: 検算
J72: 検算 | K72: =M28+M39+K52+K56 -> 57485.538 | L72: L/日 | N72: 合計(全体) | O72: =O70+O71 -> 22049846 | P72: L/年 | Q72: ③=①+② | T72: =T28+T39+T52+T66 -> 4256096.4 | U72: ①+②+③+④ | V72: =T72/(E9+E10)/E12 -> 50.697991 | W72: L/人・日
J73: 宿泊者当り | K73: =K72/E10 -> 294.79763 | L73: L/人・日 | N73: ( | O73: =O72/$E$11 -> 6341.6297 | P73: L/㎡・年）
B74: 7) | C74: 雨水・排水再利用による上水使用量削減 | K74: =K72/E11 -> 16.533085 | L74: L/㎡・日
C75: 雨水・排水再利用による上水代替率もしくは再利用率 | I75: ％ | N75: 再利用量 | O75: =O72*H75/100 -> 0 | P75: L/年 | Q75: ④=③×%
C76: (水使用量の合計値に対する割合） | J76: SHASE提案値 | K76: 280 | L76: L/人・日 | N76: 上限チェック | O76: =IF(O75<O71,O75,O71) -> 0 | P76: L/年 | Q76: ⑤：④<②が条件
K77: 12.5 | L77: L/㎡・日
K78: =K76/K77 -> 22.4 | L78: ㎡/人 | M78: 上水 | O78: =O70 -> 19859862 | P78: L/年 | Q78: ①
M79: 雑用水（上水補給分） | O79: =O71-O76 -> 2189984.5 | P79: L/年 | Q79: ⑥：②-⑤
N80: 合計(上水)￥ | O80: =SUM(O78:O79) -> 22049846 | P80: L/年
N81: ( | O81: =O80/$E$11 -> 6341.6297 | P81: L/㎡・年）
C82: 出典） | O82: =O81/365 -> 17.374328 | P82: L/㎡・日 | Q82: WC、浴室、飲食 | T82: 清掃用水、散水を含まず
C83: 1)（社）空気調和・衛生工学会 給排水衛生設備委員会／設計データ見直し小委員会 | N83: 宿泊者当り | O83: =O82*E11/E10 -> 309.79763 | P83: L/人・日
C84: 「水使用行為を基にした使用水量計算法（新しい設計給水量原単位の提案）」シンポジウム資料 P48、表3.3.2 「職場」（回/h）
C85: 2)同上 P60 表3.4.26 「百貨店」の値を参照
C86: 3)同上 P25 表2.2.9-9～14 各飲食用途の平均値を採用
C87: 4)給排水衛生設備学 中級編水まわりの実務／紀谷文樹 TOTO出版 P60表-3備考欄「湯沸し」より
C88: 5)国交省官庁営繕部監修 建築設備設計基準（令和3年版）各種衛生器具・水栓の特徴, P623
C89: 6)空気調和・衛生工学 学会誌 2024年5月号 ネット・ゼロ・ウォータの実現に向けて ｰ水の新しい原単位の提案ｰ P425

Sheet 複合スコア表
B2: 建物名称
A4: 【複合用途ビルのスコア計算補助ワークシート】 | G4: 注1）
C5: オフィス | D5: 店舗 | E5: 物流 | F5: ホテル | G5: 集合住宅 | H5: オフィス改修 | I5: 店舗改修
B6: 延床面積 | C6: =オフィス評価結果!I9 -> ○○○ | D6: =店舗評価結果!I9 -> ○○○ | E6: =物流評価結果!I9 -> ○○○ | F6: =ホテル評価結果!I9 -> ○○○ | G6: =集合住宅評価結果!I9 -> ○○○ | H6: =オフィス改修評価結果!I9 -> ○○○ | I6: =店舗改修評価結果!I9 -> ○○○
B7: 構成比 | C7: =IFERROR(C6/$C$13,0) -> 0 | D7: =IFERROR(D6/$C$13,0) -> 0 | E7: =IFERROR(E6/$C$13,0) -> 0 | F7: =IFERROR(F6/$C$13,0) -> 0 | G7: =IFERROR(G6/$C$13,0) -> 0 | H7: =IFERROR(H6/$C$13,0) -> 0 | I7: =IFERROR(I6/$C$13,0) -> 0
B9: スコア | C9: =オフィス評価結果!C17 -> 58.75 | D9: =店舗評価結果!C17 -> 61.75 | E9: =物流評価結果!C17 -> 61.75 | F9: =ホテル評価結果!C17 -> 63.75 | G9: =集合住宅評価結果!C17 -> 61.416667 | H9: =オフィス改修評価結果!C17 -> 61.75 | I9: =店舗改修評価結果!C17 -> 64.75
B12: 合計
B13: 延床面積 | C13: =SUM(C6:I6) -> 0 | D13: 注1）
B14: 構成比 | C14: =SUM(C7:I7) -> 0
B15: 総合
B16: スコア/ランク | C16: =SUMPRODUCT(C7:I7,C9:I9) -> 0 | D16: =IF(C16>=78,"Sランク",IF(C16>=66,"Aランク",IF(C16>=60,"B+ランク",IF(C16>=50,"Bランク","－")))) -> － | E16: =IF(C16>=78,"★★★★★",IF(C16>=66,"★★★★",IF(C16>=60,"★★★",IF(C16>=50,"★★","－")))) -> －
B18: S ランク；★★★★★ | D18: ≧ | E18: 78
B19: A ランク；★★★★ | D19: ≧ | E19: 66
B20: B+ランク；★★★ | D20: ≧ | E20: 60
B21: B ランク；★★ | D21: ≧ | E21: 50
B22: ポイントは小数点第1位までの表示とする
B24: 注1）評価対象用途に集合住宅を含む場合、評価対象の面積が「区分所有法」の共用部分を含むため、
B25: 表示方法によっては建築確認申請等の面積と異なる場合がございます。

Sheet クレジット
