Workbook

Sheet オフィス評価結果
I2: 【オフィス】
I5: ■使用評価マニュアル： | J5: CASBEE-不動産【オフィス】 (2016年版) | M5: v1.3
C6: 建物概要
C7: 建物名称 | D7: ○○ビル | H7: 敷地面積 | I7: ○○○ | J7: m2 | K7: 評価の段階 | L7: 運用段階評価 | O7: 項目 | P7: 充足率
C8: 建設地 | D8: ○○県○○市XXXXXX | H8: 建築面積 | I8: ○○○ | J8: m2 | K8: 評価の実施日 | L8: 20XX/XX/XX | O8: =C22 -> １．エネルギー／温暖化ガス | P8: =C39/D39 -> 0
C9: 用途地域 | D9: 商業地域、防火地域 | H9: 延床面積 | J9: m2 | K9: 作成者 | L9: ○○○ | O9: =C41 -> ２．水 | P9: =C51/D51 -> 0
C10: 建物用途 | D10: 事務所 | H10: 階数 | I10: 地上○○F | K10: 不動産評価員番号 | O10: =C53 -> ３．資源利用／安全 | P10: =C77/D77 -> 0
C11: 竣工年月 | D11: 19XX/XX/XX | H11: 構造 | I11: RC造 | K11: 確認日 | L11: 20XX/XX/XX | O11: =C79 -> ４．生物多様性／敷地 | P11: =C95/D95 -> 0
C12: 直近の大規模改修実施年月 | F12: 20XX/XX/XX | H12: 平均居住人員 | I12: XXX | J12: 人 | K12: 確認者 | L12: ○○○ | O12: =C97 -> ５．屋内環境 | P12: =C111/D111 -> 0
H13: 年間使用時間 | I13: XXX | J13: 時間/年 | K13: 不動産評価員番号
C15: 評価結果
K16: S ランク；★★★★★ | L16: ≧ | M16: 78 | O16: 赤星 | P16: 点星
C17: =C39+C51+C77+C95+C111 -> 0 | D17: /100 | E17: 合計 | K17: A ランク；★★★★ | L17: ≧ | M17: 66 | O17: =IF(C17>=M16,5,IF(C17>=M17,4,IF(C17>=M18,3,IF(C17>=M19,2,0)))) -> 0 | P17: =5-O17 -> 5
C18: （得点 | D18: / 満点） | K18: B+ランク；★★★ | L18: ≧ | M18: 60
K19: B ランク；★★ | L19: ≧ | M19: 50 | O19: 適合
C20: ポイントは小数点第1位までの表示とする | O20: 不適合
C22: １．エネルギー／温暖化ガス | S22: 2016年DECC
C23: 評価 | D23: 最大加点 | J23: 指標 | K23: (*は参考値) | L23: 評価値 | O23: 延床面積 | P23: =IF($I$9>=30000,V23,IF($I$9>=10000,U23,T23)) -> 10,000㎡未満 | Q23: 評価建物 | S23: 延床面積 | T23: 10,000㎡未満 | U23: 10,000m2以上30,000m2未満 | V23: 30,000m2以上
E24: 必須項目 | G24: ；省エネルギー基準への適合、目標設定、モニタリング、運用管理体制 | O24: =S24 -> 0 | P24: =IF($I$9>=30000,V24,IF($I$9>=10000,U24,T24)) -> 6 | Q24: =IF(AND($L$32>=O24,$L$32<O25),P24,0) -> 6 | S24: 0 | T24: 6 | U24: 0 | V24: 0
D25: 加点 1 | F25: 根拠等 | J25: 一次エネルギー(目標値) | M25: MJ/m2・年 | O25: =S25 -> 200 | P25: =IF($I$9>=30000,V25,IF($I$9>=10000,U25,T25)) -> 44 | Q25: =IF(AND($L$32>=O25,$L$32<O26),P25,0) -> 0 | S25: 200 | T25: 44 | U25: 0 | V25: 2
O26: =S26 -> 400 | P26: =IF($I$9>=30000,V26,IF($I$9>=10000,U26,T26)) -> 62 | Q26: =IF(AND($L$32>=O26,$L$32<O27),P26,0) -> 0 | S26: 400 | T26: 62 | U26: 4 | V26: 3
D27: 25 | E27: 1.1 | F27: 使用・排出原単位（計算値） | O27: =S27 -> 600 | P27: =IF($I$9>=30000,V27,IF($I$9>=10000,U27,T27)) -> 88 | Q27: =IF(AND($L$32>=O27,$L$32<O28),P27,0) -> 0 | S27: 600 | T27: 88 | U27: 8 | V27: 4
F28: 根拠等 | J28: 一次エネルギー(計画値） | M28: MJ/m2・年 | O28: =S28 -> 800 | P28: =IF($I$9>=30000,V28,IF($I$9>=10000,U28,T28)) -> 163 | Q28: =IF(AND($L$32>=O28,$L$32<O29),P28,0) -> 0 | S28: 800 | T28: 163 | U28: 19 | V28: 8
J29: 二次エネルギー(*) | M29: kWh/m2・年 | O29: =S29 -> 1000 | P29: =IF($I$9>=30000,V29,IF($I$9>=10000,U29,T29)) -> 226 | Q29: =IF(AND($L$32>=O29,$L$32<O30),P29,0) -> 0 | S29: 1000 | T29: 226 | U29: 43 | V29: 7
J30: CO2排出量(*) | M30: kg-CO2/m2・年 | O30: =S30 -> 1200 | P30: =IF($I$9>=30000,V30,IF($I$9>=10000,U30,T30)) -> 233 | Q30: =IF(AND($L$32>=O30,$L$32<O31),P30,0) -> 0 | S30: 1200 | T30: 233 | U30: 71 | V30: 13
D31: 5 | E31: 1.2 | F31: 使用・排出原単位（実績値） | O31: =S31 -> 1400 | P31: =IF($I$9>=30000,V31,IF($I$9>=10000,U31,T31)) -> 219 | Q31: =IF(AND($L$32>=O31,$L$32<O32),P31,0) -> 0 | S31: 1400 | T31: 219 | U31: 94 | V31: 16
F32: 根拠等 | J32: 一次エネルギー(実績値） | M32: MJ/m2・年 | O32: =S32 -> 1600 | P32: =IF($I$9>=30000,V32,IF($I$9>=10000,U32,T32)) -> 157 | Q32: =IF(AND($L$32>=O32,$L$32<O33),P32,0) -> 0 | S32: 1600 | T32: 157 | U32: 83 | V32: 26
J33: 二次エネルギー(*) | M33: kWh/m2・年 | O33: =S33 -> 1800 | P33: =IF($I$9>=30000,V33,IF($I$9>=10000,U33,T33)) -> 115 | Q33: =IF(AND($L$32>=O33,$L$32<O34),P33,0) -> 0 | S33: 1800 | T33: 115 | U33: 65 | V33: 34
J34: CO2排出量(*) | M34: kg-CO2/m2・年 | O34: =S34 -> 2000 | P34: =IF($I$9>=30000,V34,IF($I$9>=10000,U34,T34)) -> 79 | Q34: =IF(AND($L$32>=O34,$L$32<O35),P34,0) -> 0 | S34: 2000 | T34: 79 | U34: 56 | V34: 42
D35: 0 | E35: 1.3 | F35: 省エネルギー（仕様評価） | I35: 評価しない | O35: =S35 -> 2200 | P35: =IF($I$9>=30000,V35,IF($I$9>=10000,U35,T35)) -> 52 | Q35: =IF(AND($L$32>=O35,$L$32<O36),P35,0) -> 0 | S35: 2200 | T35: 52 | U35: 47 | V35: 30
F36: 根拠等 | J36: 導入された対策項目数 | M36: 項目 | O36: =S36 -> 2400 | P36: =IF($I$9>=30000,V36,IF($I$9>=10000,U36,T36)) -> 36 | Q36: =IF(AND($L$32>=O36,$L$32<O37),P36,0) -> 0 | S36: 2400 | T36: 36 | U36: 29 | V36: 19
D37: 5 | E37: 1.4 | F37: 自然エネルギー | O37: =S37 -> 2600 | P37: =IF($I$9>=30000,V37,IF($I$9>=10000,U37,T37)) -> 24 | Q37: =IF(AND($L$32>=O37,$L$32<O38),P37,0) -> 0 | S37: 2600 | T37: 24 | U37: 18 | V37: 21
F38: 根拠等 | J38: 利用率 | M38: % | O38: =S38 -> 2800 | P38: =IF($I$9>=30000,V38,IF($I$9>=10000,U38,T38)) -> 22 | Q38: =IF(AND($L$32>=O38,$L$32<O39),P38,0) -> 0 | S38: 2800 | T38: 22 | U38: 26 | V38: 15
C39: =C25+C27+C31+C35+C37 -> 0 | D39: 35 | E39: 合計 | O39: =S39 -> 3000 | P39: =IF($I$9>=30000,V39,IF($I$9>=10000,U39,T39)) -> 10 | Q39: =IF(AND($L$32>=O39,$L$32<O40),P39,0) -> 0 | S39: 3000 | T39: 10 | U39: 8 | V39: 5
O40: =S40 -> 3200 | P40: =IF($I$9>=30000,V40,IF($I$9>=10000,U40,T40)) -> 11 | Q40: =IF(AND($L$32>=O40,$L$32<O41),P40,0) -> 0 | S40: 3200 | T40: 11 | U40: 6 | V40: 6
C41: ２．水 | O41: =S41 -> 3400 | P41: =IF($I$9>=30000,V41,IF($I$9>=10000,U41,T41)) -> 7 | Q41: =IF(AND($L$32>=O41,$L$32<O42),P41,0) -> 0 | S41: 3400 | T41: 7 | U41: 8 | V41: 11
C42: 評価 | D42: 最大加点 | J42: 指標 | L42: 評価値 | O42: =S42 -> 3600 | P42: =IF($I$9>=30000,V42,IF($I$9>=10000,U42,T42)) -> 10 | Q42: =IF(AND($L$32>=O42,$L$32<O43),P42,0) -> 0 | S42: 3600 | T42: 10 | U42: 4 | V42: 4
E43: 必須項目 | G43: ；目標設定、モニタリング、運用管理体制 | O43: =S43 -> 3800 | P43: =IF($I$9>=30000,V43,IF($I$9>=10000,U43,T43)) -> 5 | Q43: =IF(AND($L$32>=O43,$L$32<O44),P43,0) -> 0 | S43: 3800 | T43: 5 | U43: 5 | V43: 5
F44: 根拠等 | J44: 水使用量（目標値） | M44: L/m2・年 | O44: =S44 -> 4000 | P44: =IF($I$9>=30000,V44,IF($I$9>=10000,U44,T44)) -> 6 | Q44: =IF(AND($L$32>=O44,$L$32<O45),P44,0) -> 0 | S44: 4000 | T44: 6 | U44: 5 | V44: 4
D45: 5 | E45: 2.1 | F45: 水使用量（計算値） | O45: =S45 -> 4200 | P45: =IF($I$9>=30000,V45,IF($I$9>=10000,U45,T45)) -> 4 | Q45: =IF(AND($L$32>=O45,$L$32<O46),P45,0) -> 0 | S45: 4200 | T45: 4 | U45: 6 | V45: 1
...

Sheet 店舗評価結果
I2: 【店舗】
I5: ■使用評価マニュアル： | J5: CASBEE-不動産【店舗】 (2016年版) | M5: =オフィス評価結果!M5 -> v1.3
C6: 建物概要
C7: 建物名称 | D7: ○○ビル | H7: 敷地面積 | J7: m2 | K7: 評価の段階 | L7: 運用段階評価 | O7: 項目 | P7: 充足率
C8: 建設地 | H8: 建築面積 | J8: m2 | K8: 評価の実施日 | L8: 20XX/XX/XX | O8: =C22 -> １．エネルギー／温暖化ガス | P8: =C39/D39 -> 0
C9: 用途地域 | D9: 商業地域、防火地域 | H9: 延床面積 | J9: m2 | K9: 作成者 | O9: =C41 -> ２．水 | P9: =C51/D51 -> 0
C10: 建物用途 | H10: 階数 | K10: 不動産評価員番号 | O10: =C53 -> ３．資源利用／安全 | P10: =C77/D77 -> 0
C11: 竣工年月 | H11: 構造 | K11: 確認日 | L11: 20XX/XX/XX | O11: =C79 -> ４．生物多様性／敷地 | P11: =C95/D95 -> 0
C12: 直近の大規模改修実施年月 | F12: なし | H12: 常勤者・来場者 | I12: XXX, XXX | J12: 人 | K12: 確認者 | O12: =C97 -> ５．屋内環境 | P12: =C111/D111 -> 0
H13: 年間使用日数 | I13: XXX | J13: 日/年 | K13: 不動産評価員番号
C15: 評価結果
K16: S ランク；★★★★★ | L16: ≧ | M16: 78 | O16: 赤星 | P16: 点星
C17: =C39+C51+C77+C95+C111 -> 0 | D17: /100 | E17: 合計 | K17: A ランク；★★★★ | L17: ≧ | M17: 66 | O17: =IF(C17>=M16,5,IF(C17>=M17,4,IF(C17>=M18,3,IF(C17>=M19,2,0)))) -> 0 | P17: =5-O17 -> 5
C18: （得点 | D18: / 満点） | K18: B+ランク；★★★ | L18: ≧ | M18: 60
K19: B ランク；★★ | L19: ≧ | M19: 50 | O19: 適合
C20: ポイントは小数点第1位までの表示とする | O20: 不適合
C22: １．エネルギー／温暖化ガス | S22: 2016年DECC
C23: 評価 | D23: 最大加点 | J23: 指標 | K23: (*は参考値) | L23: 評価値 | O23: 延床面積 | P23: =IF($I$9>=30000,V23,IF($I$9>=10000,U23,T23)) -> 10,000㎡未満 | Q23: 評価建物 | S23: 延床面積 | T23: 10,000㎡未満 | U23: 10,000m2以上30,000m2未満 | V23: 30,000m2以上
E24: 必須項目 | G24: ；省エネルギー基準への適合、目標設定、モニタリング、運用管理体制 | O24: =S24 -> 0 | P24: =IF($I$9>=30000,V24,IF($I$9>=10000,U24,T24)) -> 6 | Q24: =IF(AND($L$32>=O24,$L$32<O25),P24,0) -> 6 | S24: 0 | T24: 6 | U24: 0 | V24: 0
D25: 加点 1 | F25: 根拠等 | J25: 一次エネルギー(目標値) | M25: MJ/m2・年 | O25: =S25 -> 200 | P25: =IF($I$9>=30000,V25,IF($I$9>=10000,U25,T25)) -> 44 | Q25: =IF(AND($L$32>=O25,$L$32<O26),P25,0) -> 0 | S25: 200 | T25: 44 | U25: 0 | V25: 2
O26: =S26 -> 400 | P26: =IF($I$9>=30000,V26,IF($I$9>=10000,U26,T26)) -> 62 | Q26: =IF(AND($L$32>=O26,$L$32<O27),P26,0) -> 0 | S26: 400 | T26: 62 | U26: 4 | V26: 3
D27: 25 | E27: 1.1 | F27: 使用・排出原単位（計算値） | O27: =S27 -> 600 | P27: =IF($I$9>=30000,V27,IF($I$9>=10000,U27,T27)) -> 88 | Q27: =IF(AND($L$32>=O27,$L$32<O28),P27,0) -> 0 | S27: 600 | T27: 88 | U27: 8 | V27: 4
F28: 根拠等 | J28: 一次エネルギー(計画値） | M28: MJ/m2・年 | O28: =S28 -> 800 | P28: =IF($I$9>=30000,V28,IF($I$9>=10000,U28,T28)) -> 163 | Q28: =IF(AND($L$32>=O28,$L$32<O29),P28,0) -> 0 | S28: 800 | T28: 163 | U28: 19 | V28: 8
J29: 二次エネルギー(*) | M29: kWh/m2・年 | O29: =S29 -> 1000 | P29: =IF($I$9>=30000,V29,IF($I$9>=10000,U29,T29)) -> 226 | Q29: =IF(AND($L$32>=O29,$L$32<O30),P29,0) -> 0 | S29: 1000 | T29: 226 | U29: 43 | V29: 7
J30: CO2排出量(*) | M30: kg-CO2/m2・年 | O30: =S30 -> 1200 | P30: =IF($I$9>=30000,V30,IF($I$9>=10000,U30,T30)) -> 233 | Q30: =IF(AND($L$32>=O30,$L$32<O31),P30,0) -> 0 | S30: 1200 | T30: 233 | U30: 71 | V30: 13
D31: 5 | E31: 1.2 | F31: 使用・排出原単位（実績値） | O31: =S31 -> 1400 | P31: =IF($I$9>=30000,V31,IF($I$9>=10000,U31,T31)) -> 219 | Q31: =IF(AND($L$32>=O31,$L$32<O32),P31,0) -> 0 | S31: 1400 | T31: 219 | U31: 94 | V31: 16
F32: 根拠等 | J32: 一次エネルギー(実績値） | M32: MJ/m2・年 | O32: =S32 -> 1600 | P32: =IF($I$9>=30000,V32,IF($I$9>=10000,U32,T32)) -> 157 | Q32: =IF(AND($L$32>=O32,$L$32<O33),P32,0) -> 0 | S32: 1600 | T32: 157 | U32: 83 | V32: 26
J33: 二次エネルギー(*) | M33: kWh/m2・年 | O33: =S33 -> 1800 | P33: =IF($I$9>=30000,V33,IF($I$9>=10000,U33,T33)) -> 115 | Q33: =IF(AND($L$32>=O33,$L$32<O34),P33,0) -> 0 | S33: 1800 | T33: 115 | U33: 65 | V33: 34
J34: CO2排出量(*) | M34: kg-CO2/m2・年 | O34: =S34 -> 2000 | P34: =IF($I$9>=30000,V34,IF($I$9>=10000,U34,T34)) -> 79 | Q34: =IF(AND($L$32>=O34,$L$32<O35),P34,0) -> 0 | S34: 2000 | T34: 79 | U34: 56 | V34: 42
D35: 0 | E35: 1.3 | F35: 省エネルギー（仕様評価） | I35: 評価しない | O35: =S35 -> 2200 | P35: =IF($I$9>=30000,V35,IF($I$9>=10000,U35,T35)) -> 52 | Q35: =IF(AND($L$32>=O35,$L$32<O36),P35,0) -> 0 | S35: 2200 | T35: 52 | U35: 47 | V35: 30
F36: 根拠等 | J36: 導入された対策項目数 | M36: 項目 | O36: =S36 -> 2400 | P36: =IF($I$9>=30000,V36,IF($I$9>=10000,U36,T36)) -> 36 | Q36: =IF(AND($L$32>=O36,$L$32<O37),P36,0) -> 0 | S36: 2400 | T36: 36 | U36: 29 | V36: 19
D37: 5 | E37: 1.4 | F37: 自然エネルギー | O37: =S37 -> 2600 | P37: =IF($I$9>=30000,V37,IF($I$9>=10000,U37,T37)) -> 24 | Q37: =IF(AND($L$32>=O37,$L$32<O38),P37,0) -> 0 | S37: 2600 | T37: 24 | U37: 18 | V37: 21
F38: 根拠等 | J38: 利用率 | M38: % | O38: =S38 -> 2800 | P38: =IF($I$9>=30000,V38,IF($I$9>=10000,U38,T38)) -> 22 | Q38: =IF(AND($L$32>=O38,$L$32<O39),P38,0) -> 0 | S38: 2800 | T38: 22 | U38: 26 | V38: 15
C39: =C25+C27+C31+C35+C37 -> 0 | D39: 35 | E39: 合計 | O39: =S39 -> 3000 | P39: =IF($I$9>=30000,V39,IF($I$9>=10000,U39,T39)) -> 10 | Q39: =IF(AND($L$32>=O39,$L$32<O40),P39,0) -> 0 | S39: 3000 | T39: 10 | U39: 8 | V39: 5
O40: =S40 -> 3200 | P40: =IF($I$9>=30000,V40,IF($I$9>=10000,U40,T40)) -> 11 | Q40: =IF(AND($L$32>=O40,$L$32<O41),P40,0) -> 0 | S40: 3200 | T40: 11 | U40: 6 | V40: 6
C41: ２．水 | O41: =S41 -> 3400 | P41: =IF($I$9>=30000,V41,IF($I$9>=10000,U41,T41)) -> 7 | Q41: =IF(AND($L$32>=O41,$L$32<O42),P41,0) -> 0 | S41: 3400 | T41: 7 | U41: 8 | V41: 11
C42: 評価 | D42: 最大加点 | J42: 指標 | L42: 評価値 | O42: =S42 -> 3600 | P42: =IF($I$9>=30000,V42,IF($I$9>=10000,U42,T42)) -> 10 | Q42: =IF(AND($L$32>=O42,$L$32<O43),P42,0) -> 0 | S42: 3600 | T42: 10 | U42: 4 | V42: 4
E43: 必須項目 | G43: ；目標設定、モニタリング、運用管理体制 | O43: =S43 -> 3800 | P43: =IF($I$9>=30000,V43,IF($I$9>=10000,U43,T43)) -> 5 | Q43: =IF(AND($L$32>=O43,$L$32<O44),P43,0) -> 0 | S43: 3800 | T43: 5 | U43: 5 | V43: 5
F44: 根拠等 | J44: 水使用量（目標値） | M44: L/m2・年 | O44: =S44 -> 4000 | P44: =IF($I$9>=30000,V44,IF($I$9>=10000,U44,T44)) -> 6 | Q44: =IF(AND($L$32>=O44,$L$32<O45),P44,0) -> 0 | S44: 4000 | T44: 6 | U44: 5 | V44: 4
D45: 5 | E45: 2.1 | F45: 水使用量（計算値） | O45: =S45 -> 4200 | P45: =IF($I$9>=30000,V45,IF($I$9>=10000,U45,T45)) -> 4 | Q45: =IF(AND($L$32>=O45,$L$32<O46),P45,0) -> 0 | S45: 4200 | T45: 4 | U45: 6 | V45: 1
...

Sheet 物流評価結果
I2: 【物流施設】
I5: ■使用評価マニュアル： | J5: CASBEE-不動産【物流施設】 (2016年版) | M5: =オフィス評価結果!M5 -> v1.3
C6: 建物概要
C7: 建物名称 | D7: ○○配送センター | H7: 敷地面積 | I7: ○○○ | J7: m2 | K7: 評価の段階 | L7: 運用段階評価 | O7: 項目 | P7: 充足率
C8: 建設地 | D8: ○○県○○市XXXXXX | H8: 建築面積 | I8: ○○○ | J8: m2 | K8: 評価の実施日 | L8: 20XX/XX/XX | O8: =C22 -> １．エネルギー／温暖化ガス | P8: =C39/D39 -> 0
C9: 用途地域 | D9: 商業地域、防火地域 | H9: 延床面積 | J9: m2 | K9: 作成者 | L9: ○○○ | O9: =C41 -> ２．水 | P9: =C51/D51 -> 0
C10: 建物用途 | D10: 物流施設 | H10: 階数 | I10: 地上○○F | K10: 不動産評価員番号 | O10: =C53 -> ３．資源利用／安全 | P10: =C77/D77 -> 0
C11: 竣工年月 | D11: 19XX/XX/XX | H11: 構造 | I11: RC造 | K11: 確認日 | L11: 20XX/XX/XX | O11: =C79 -> ４．生物多様性／敷地 | P11: =C95/D95 -> 0
C12: 直近の大規模改修実施年月 | F12: 20XX/XX/XX | H12: 平均居住人員 | I12: XXX | J12: 人 | K12: 確認者 | L12: ○○○ | O12: =C97 -> ５．屋内環境 | P12: =C111/D111 -> 0
H13: 年間使用時間 | I13: XXX | J13: 時間/年 | K13: 不動産評価員番号
C15: 評価結果
K16: S ランク；★★★★★ | L16: ≧ | M16: 78 | O16: 赤星 | P16: 点星
C17: =C39+C51+C77+C95+C111 -> 0 | D17: /100 | E17: 合計 | K17: A ランク；★★★★ | L17: ≧ | M17: 66 | O17: =IF(C17>=M16,5,IF(C17>=M17,4,IF(C17>=M18,3,IF(C17>=M19,2,0)))) -> 0 | P17: =5-O17 -> 5
C18: （得点 | D18: / 満点） | K18: B+ランク；★★★ | L18: ≧ | M18: 60
K19: B ランク；★★ | L19: ≧ | M19: 50 | O19: 適合
C20: ポイントは小数点第1位までの表示とする | O20: 不適合
C22: １．エネルギー／温暖化ガス | S22: 2016年DECC
C23: 評価 | D23: 最大加点 | J23: 指標 | K23: (*は参考値) | L23: 評価値 | O23: 延床面積 | P23: =IF($I$9>=30000,V23,IF($I$9>=10000,U23,T23)) -> 10,000㎡未満 | Q23: 評価建物 | S23: 延床面積 | T23: 10,000㎡未満 | U23: 10,000m2以上30,000m2未満 | V23: 30,000m2以上
E24: 必須項目 | G24: ；省エネルギー基準への適合、目標設定、モニタリング、運用管理体制 | O24: =S24 -> 0 | P24: =IF($I$9>=30000,V24,IF($I$9>=10000,U24,T24)) -> 6 | Q24: =IF(AND($L$32>=O24,$L$32<O25),P24,0) -> 6 | S24: 0 | T24: 6 | U24: 0 | V24: 0
D25: 加点 1 | F25: 根拠等 | J25: 一次エネルギー(目標値) | M25: MJ/m2・年 | O25: =S25 -> 200 | P25: =IF($I$9>=30000,V25,IF($I$9>=10000,U25,T25)) -> 44 | Q25: =IF(AND($L$32>=O25,$L$32<O26),P25,0) -> 0 | S25: 200 | T25: 44 | U25: 0 | V25: 2
O26: =S26 -> 400 | P26: =IF($I$9>=30000,V26,IF($I$9>=10000,U26,T26)) -> 62 | Q26: =IF(AND($L$32>=O26,$L$32<O27),P26,0) -> 0 | S26: 400 | T26: 62 | U26: 4 | V26: 3
D27: 20 | E27: 1.1 | F27: 使用・排出原単位（計算値） | O27: =S27 -> 600 | P27: =IF($I$9>=30000,V27,IF($I$9>=10000,U27,T27)) -> 88 | Q27: =IF(AND($L$32>=O27,$L$32<O28),P27,0) -> 0 | S27: 600 | T27: 88 | U27: 8 | V27: 4
F28: 根拠等 | J28: 一次エネルギー(計画値） | M28: MJ/m2・年 | O28: =S28 -> 800 | P28: =IF($I$9>=30000,V28,IF($I$9>=10000,U28,T28)) -> 163 | Q28: =IF(AND($L$32>=O28,$L$32<O29),P28,0) -> 0 | S28: 800 | T28: 163 | U28: 19 | V28: 8
J29: 二次エネルギー(*) | M29: kWh/m2・年 | O29: =S29 -> 1000 | P29: =IF($I$9>=30000,V29,IF($I$9>=10000,U29,T29)) -> 226 | Q29: =IF(AND($L$32>=O29,$L$32<O30),P29,0) -> 0 | S29: 1000 | T29: 226 | U29: 43 | V29: 7
J30: CO2排出量(*) | M30: kg-CO2/m2・年 | O30: =S30 -> 1200 | P30: =IF($I$9>=30000,V30,IF($I$9>=10000,U30,T30)) -> 233 | Q30: =IF(AND($L$32>=O30,$L$32<O31),P30,0) -> 0 | S30: 1200 | T30: 233 | U30: 71 | V30: 13
D31: 5 | E31: 1.2 | F31: 使用・排出原単位（実績値） | O31: =S31 -> 1400 | P31: =IF($I$9>=30000,V31,IF($I$9>=10000,U31,T31)) -> 219 | Q31: =IF(AND($L$32>=O31,$L$32<O32),P31,0) -> 0 | S31: 1400 | T31: 219 | U31: 94 | V31: 16
F32: 根拠等 | J32: 水道光熱費 | M32: 円/m2・年 | O32: =S32 -> 1600 | P32: =IF($I$9>=30000,V32,IF($I$9>=10000,U32,T32)) -> 157 | Q32: =IF(AND($L$32>=O32,$L$32<O33),P32,0) -> 0 | S32: 1600 | T32: 157 | U32: 83 | V32: 26
O33: =S33 -> 1800 | P33: =IF($I$9>=30000,V33,IF($I$9>=10000,U33,T33)) -> 115 | Q33: =IF(AND($L$32>=O33,$L$32<O34),P33,0) -> 0 | S33: 1800 | T33: 115 | U33: 65 | V33: 34
O34: =S34 -> 2000 | P34: =IF($I$9>=30000,V34,IF($I$9>=10000,U34,T34)) -> 79 | Q34: =IF(AND($L$32>=O34,$L$32<O35),P34,0) -> 0 | S34: 2000 | T34: 79 | U34: 56 | V34: 42
D35: 5 | E35: 1.3 | F35: 省エネルギー（仕様評価） | I35: 省エネ計算対象外の倉庫エリア等 | O35: =S35 -> 2200 | P35: =IF($I$9>=30000,V35,IF($I$9>=10000,U35,T35)) -> 52 | Q35: =IF(AND($L$32>=O35,$L$32<O36),P35,0) -> 0 | S35: 2200 | T35: 52 | U35: 47 | V35: 30
F36: 根拠等 | J36: 導入された対策項目数 | M36: 項目 | O36: =S36 -> 2400 | P36: =IF($I$9>=30000,V36,IF($I$9>=10000,U36,T36)) -> 36 | Q36: =IF(AND($L$32>=O36,$L$32<O37),P36,0) -> 0 | S36: 2400 | T36: 36 | U36: 29 | V36: 19
D37: 5 | E37: 1.4 | F37: 自然エネルギー | O37: =S37 -> 2600 | P37: =IF($I$9>=30000,V37,IF($I$9>=10000,U37,T37)) -> 24 | Q37: =IF(AND($L$32>=O37,$L$32<O38),P37,0) -> 0 | S37: 2600 | T37: 24 | U37: 18 | V37: 21
F38: 根拠等 | J38: 利用率 | M38: % | O38: =S38 -> 2800 | P38: =IF($I$9>=30000,V38,IF($I$9>=10000,U38,T38)) -> 22 | Q38: =IF(AND($L$32>=O38,$L$32<O39),P38,0) -> 0 | S38: 2800 | T38: 22 | U38: 26 | V38: 15
C39: =C25+C27+C31+C35+C37 -> 0 | D39: 35 | E39: 合計 | O39: =S39 -> 3000 | P39: =IF($I$9>=30000,V39,IF($I$9>=10000,U39,T39)) -> 10 | Q39: =IF(AND($L$32>=O39,$L$32<O40),P39,0) -> 0 | S39: 3000 | T39: 10 | U39: 8 | V39: 5
O40: =S40 -> 3200 | P40: =IF($I$9>=30000,V40,IF($I$9>=10000,U40,T40)) -> 11 | Q40: =IF(AND($L$32>=O40,$L$32<O41),P40,0) -> 0 | S40: 3200 | T40: 11 | U40: 6 | V40: 6
C41: ２．水 | O41: =S41 -> 3400 | P41: =IF($I$9>=30000,V41,IF($I$9>=10000,U41,T41)) -> 7 | Q41: =IF(AND($L$32>=O41,$L$32<O42),P41,0) -> 0 | S41: 3400 | T41: 7 | U41: 8 | V41: 11
C42: 評価 | D42: 最大加点 | J42: 指標 | L42: 評価値 | O42: =S42 -> 3600 | P42: =IF($I$9>=30000,V42,IF($I$9>=10000,U42,T42)) -> 10 | Q42: =IF(AND($L$32>=O42,$L$32<O43),P42,0) -> 0 | S42: 3600 | T42: 10 | U42: 4 | V42: 4
E43: 必須項目 | G43: ；目標設定、モニタリング、運用管理体制 | O43: =S43 -> 3800 | P43: =IF($I$9>=30000,V43,IF($I$9>=10000,U43,T43)) -> 5 | Q43: =IF(AND($L$32>=O43,$L$32<O44),P43,0) -> 0 | S43: 3800 | T43: 5 | U43: 5 | V43: 5
F44: 根拠等 | J44: 水使用量（目標値） | M44: L/m2・年 | O44: =S44 -> 4000 | P44: =IF($I$9>=30000,V44,IF($I$9>=10000,U44,T44)) -> 6 | Q44: =IF(AND($L$32>=O44,$L$32<O45),P44,0) -> 0 | S44: 4000 | T44: 6 | U44: 5 | V44: 4
D45: 0 | E45: 2.1 | F45: 水使用量（計算値） | I45: 評価しない | O45: =S45 -> 4200 | P45: =IF($I$9>=30000,V45,IF($I$9>=10000,U45,T45)) -> 4 | Q45: =IF(AND($L$32>=O45,$L$32<O46),P45,0) -> 0 | S45: 4200 | T45: 4 | U45: 6 | V45: 1
...

Sheet オフィス水計算ソフト
B2: 事務所ビルの水使用量算定
C3: ※空調用冷却塔補給水、植栽散水は計算から除外する | I3: （ご注意）
F4: ：入力項目 | I4: 使用する場合は、赤枠の欄に数値を入力してください。
F5: ：文献等による規定値 | I5: デフォルトで入力されている数値はサンプルです。入力の際には一度全て消去してから使用してください。
F6: ：計算値
B9: 1) | C9: 収容人員 | E9: 2200 | F9: 人
B10: 2) | C10: 延床面積 | E10: 30000 | F10: ㎡
B11: 3) | C11: 男女比 | D11: 男子 | E11: 70 | F11: ％ | G11: 女子 | H11: =100-E11 -> 30 | I11: ％
D12: 男子 | E12: =$E$9*E11/100 -> 1540 | F12: 人 | G12: 女子 | H12: =$E$9*H11/100 -> 660 | I12: 人
B14: 4) | C14: 水使用量の算定
C15: ①便所・洗面・湯沸かし
E16: 衛生器具吐水量 | G16: 器具使用回数*1) | I16: 使用人員
C17: 男子大便器 | E17: 8 | F17: L/回× | G17: 0.42 | H17: 回/日× | I17: =E$12 -> 1540 | J17: 人＝ | K17: =E17*G17*I17 -> 5174.4 | L17: L/日 | Q17: 雑用水 | R17: =K17*M$24 -> 1552320
C18: 男子小便器 | E18: 4 | F18: L/回× | G18: 2.88 | H18: 回/日× | I18: =E$12 -> 1540 | J18: 人＝ | K18: =E18*G18*I18 -> 17740.8 | L18: L/日 | Q18: 雑用水 | R18: =K18*M$24 -> 5322240
C19: 男子洗面器 | E19: 2 | F19: L/回× | G19: =G17+G18 -> 3.3 | H19: 回/日× | I19: =E$12 -> 1540 | J19: 人＝ | K19: =E19*G19*I19 -> 10164 | L19: L/日 | Q19: 上水 | R19: =K19*M$24 -> 3049200
C20: 女子大便器 | E20: 8 | F20: L/回× | G20: 2.93 | H20: 回/日× | I20: =H$12 -> 660 | J20: 人＝ | K20: =E20*G20*I20 -> 15470.4 | L20: L/日 | Q20: 雑用水 | R20: =K20*M$24 -> 4641120
C21: 女子洗面器 | E21: 2 | F21: L/回× | G21: 3.3 | H21: 回/日× | I21: =H$12 -> 660 | J21: 人＝ | K21: =E21*G21*I21 -> 4356 | L21: L/日 | Q21: 上水 | R21: =K21*M$24 -> 1306800
C22: 湯沸し*4) | E22: 2.5 | F22: L/回× | G22: 3 | H22: 回/日× | I22: =$E9 -> 2200 | J22: 人＝ | K22: =E22*G22*I22 -> 16500 | L22: L/日（飲用・茶器洗いなど） | Q22: 上水 | R22: =K22*M$24 -> 4950000
M23: 稼動日数
E24: ※洗面の使用回数は男子は大+小、女子は大と同じ | J24: 小計 | K24: =SUM(K17:K22) -> 69405.6 | L24: L/日× | M24: 300 | N24: 日/年＝ | O24: =K24*M24 -> 20821680 | P24: L/年 | Q24: 小計 | R24: =SUM(R17:R23) -> 20821680
J25: ( | K25: =K24/$E$9 -> 31.548 | L25: L/人・日） | N25: ( | O25: =O24/$E$10 -> 694.056 | P25: L/㎡・年）
C27: ②器具清掃用 | E27: 延床面積 | G27: 衛生器具数原単位*2) | I27: 器具数
C28: 大便器 | E28: =E10 -> 30000 | F28: ㎡× | G28: 0.0047 | H28: 個/㎡＝ | I28: =E28*G28 -> 141 | J28: 個
C29: 小便器 | E29: =E10 -> 30000 | F29: ㎡× | G29: 0.0025 | H29: 個/㎡＝ | I29: =E29*G29 -> 75 | J29: 個
C30: 洗面器 | E30: =E10 -> 30000 | F30: ㎡× | G30: 0.0047 | H30: 個/㎡＝ | I30: =E30*G30 -> 141 | J30: 個
E32: 器具数 | G32: 衛生器具吐水量 | I32: 洗浄時の回数
C33: 大便器 | E33: =I28 -> 141 | F33: 個× | G33: =E17 -> 8 | H33: L/回× | I33: 3 | J33: 回/日＝ | K33: =E33*G33*I33 -> 3384 | L33: L/日 | Q33: 雑用水 | R33: =K33*M$36 -> 812160
C34: 小便器 | E34: =I29 -> 75 | F34: 個× | G34: =E18 -> 4 | H34: L/回× | I34: 3 | J34: 回/日＝ | K34: =E34*G34*I34 -> 900 | L34: L/日 | Q34: 雑用水 | R34: =K34*M$36 -> 216000
C35: 洗面器 | E35: =I30 -> 141 | F35: 個× | G35: =E19 -> 2 | H35: L/回× | I35: 3 | J35: 回/日＝ | K35: =E35*G35*I35 -> 846 | L35: L/日 | M35: 稼動日数 | Q35: 上水 | R35: =K35*M$36 -> 203040
J36: 小計 | K36: =SUM(K33:K35) -> 5130 | L36: L/日× | M36: 240 | N36: 日/年＝ | O36: =K36*M36 -> 1231200 | P36: L/年 | Q36: 小計 | R36: =SUM(R33:R35) -> 1231200 | T36: =(O24+O36)/E9/M36 -> 41.766818 | U36: L/人・日
C38: ③食堂 | G38: 1食あたりの水量*3) | I38: 食数 | M38: 稼動日数
G39: 35 | H39: L/食・日× | I39: 800 | J39: 食＝ | K39: =G39*I39 -> 28000 | L39: L/日 | M39: 240 | N39: 日/年＝ | O39: =K39*M39 -> 6720000 | P39: L/年 | Q39: 上水 | R39: =K39*M39 -> 6720000
B44: 5)水使用量集計
O45: =R19+R21+R22+R35+R39 -> 16229040 | P45: L/年 | Q45: ①
O46: =R17+R18+R20+R33+R34 -> 12543840 | P46: L/年 | Q46: ②
K47: ( | N47: 合計 | O47: =O24+O36+O39 -> 28772880 | P47: L/年 | Q47: ③=①+② | T47: =O47/E9/M39 -> 54.494091 | U47: L/人・日
N48: ( | O48: =O47/$E$10 -> 959.096 | P48: L/㎡・年）
B49: 6) | C49: 雨水・排水再利用による上水使用量削減
C50: 雨水・排水再利用による上水代替率もしくは再利用率 | H50: 20 | I50: ％ | N50: 再利用量 | O50: =O47*H50/100 -> 5754576 | P50: L/年 | Q50: ④=③×%
C51: (水使用量の合計値に対する割合） | N51: 上限チェック | O51: =IF(O50<O46,O50,O46) -> 5754576 | P51: L/年 | Q51: ⑤：④<②が条件
...

Sheet ①店舗スコア表
A1: 【店舗の案分計算補助ワークシート】 | D1: 本シートは、複数の店舗の業態を有する建物について、評価結果の案分計算を支援するためのものです。
B2: シートは①と②の２つがあります。どちらか使い安い方を選んでください。
B4: ①エネルギーと水の実績値評価において、業態別の実績値がある場合
C6: 水色のセル | E6: に入力します。
C7: 緑色のセル | E7: に出力された数値を、「店舗評価結果」シートの評価点記入欄に転記します。
E9: ①物販店舗 | F9: ②飲食店舗 | G9: ③デパート・スーパー | H9: ④家電量販店 | I9: ⑤コンビニエンス・ストア | J9: ⑥店舗の事務管理エリア | K9: ⑦その他（物販と同等とする） | M9: 合計
B10: 構成比（駐車場除く） | D10: 延床面積 | F10: 3000 | I10: 5000 | M10: =SUM(E10:L10) -> 8000 | N10: ←用途別の床面積を入力
D11: 構成比 | E11: =E10/$M$10 -> 0 | F11: =F10/$M$10 -> 0.375 | G11: =G10/$M$10 -> 0 | H11: =H10/$M$10 -> 0 | I11: =I10/$M$10 -> 0.625 | J11: =J10/$M$10 -> 0 | K11: =K10/$M$10 -> 0 | M11: =SUM(E11:L11) -> 1
D13: 面積加重
B14: １．エネルギー／温暖化ガス
C15: ※以下の1.1（計算値）は、平成25年改正省エネ基準で算定されたBEIによりC/Sを求めた場合には、入力不要です。
B16: 1.1 | C16: 使用・排出原単位（計算値） | D16: =SUMPRODUCT($E$11:$L$11,E16:L16) -> 0 | L16: ←用途別に評価結果（15～25点）を入力
B17: 1.2 | C17: 使用・排出原単位（実績値） | D17: =SUMPRODUCT($E$11:$L$11,E17:L17) -> 0 | L17: ←用途別に評価結果（1～5点）を入力
C19: 1次エネルギ-消費量基準境界値（店舗業態別） | G19: 単位：MJ/ｍ2・年
D20: 25％点 | E20: 50％点 | F20: 75％点 | G20: 90％点 | H20: 評価建物
C21: ①物販店舗 | D21: 1450 | E21: 2080 | F21: 2900 | G21: 3790 | I21: ←用途別に一次エネルギー消費量の実績値（MJ/㎡年）を入力
C22: ②飲食店舗 | D22: 10440 | E22: 15470 | F22: 23060 | G22: 32010
C23: ③デパート・スーパー（規模別） | D23: =IF($K$23=$K$24,D24,IF($K$23=$K$25,D25,D26)) -> 6120 | E23: =IF($K$23=$K$24,E24,IF($K$23=$K$25,E25,E26)) -> 7440 | F23: =IF($K$23=$K$24,F24,IF($K$23=$K$25,F25,F26)) -> 8760 | G23: =IF($K$23=$K$24,G24,IF($K$23=$K$25,G25,G26)) -> 10230 | J23: 規模 | K23: =IF(G10<J24,K24,IF(G10<J25,K25,K26)) -> 2千㎡未満
C24: ③デパート・スーパー（-2k） | D24: 6120 | E24: 7440 | F24: 8760 | G24: 10230 | J24: 2000 | K24: 2千㎡未満
C25: ③デパート・スーパー（2k-10k） | D25: 3740 | E25: 4900 | F25: 6350 | G25: 7240 | J25: 10000 | K25: 2千～1万㎡未満
C26: ③デパート・スーパー（10k-） | D26: 2460 | E26: 3080 | F26: 3700 | G26: 4390 | K26: 1万㎡以上
C27: ④家電量販店 | D27: 2280 | E27: 2740 | F27: 3500 | G27: 4170
C28: ⑤コンビニエンス・ストア | D28: 10740 | E28: 12410 | F28: 15360 | G28: 17470
C29: ⑥店舗の事務管理エリア | D29: 1040 | E29: 1370 | F29: 1780 | G29: 2330
C30: ⑦その他（物販と同等とする） | D30: 1450 | E30: 2080 | F30: 2900 | G30: 3790
B32: ２．水
B33: 2.1 | C33: 水使用量（計算値） | D33: =SUMPRODUCT($E$11:$L$11,E33:L33) -> 0 | L33: ←用途別に評価結果（1～5点）を入力
B34: 2.2 | C34: 水使用量（実績値） | D34: =SUMPRODUCT($E$11:$L$11,E34:L34) -> 0 | L34: ←用途別に評価結果（1～5点）を入力
C36: 上水消費量基準境界値（店舗業態別） | G36: 単位：L/ｍ2・年
D37: 25％点 | E37: 50％点 | F37: 75％点 | G37: 90％点 | H37: 評価建物
C38: ①物販店舗 | D38: 404 | E38: 1102 | F38: 1731 | G38: 3089 | I38: ←用途別に水消費量の実績値（L/㎡年）を入力
C39: ②飲食店舗 | D39: 14205 | E39: 21053 | F39: 30404 | G39: 36641
C40: ③デパート・スーパー | D40: 1267 | E40: 1901 | F40: 2780 | G40: 3800
C41: ④家電量販店（物販と同等とする） | D41: 404 | E41: 1102 | F41: 1731 | G41: 3089
C42: ⑤コンビニエンス・ストア | D42: 2000 | E42: 2700 | F42: 3750 | G42: 5000
C43: ⑥店舗の事務管理エリア | D43: 490 | E43: 693 | F43: 975 | G43: 1293
C44: ⑦その他（物販と同等とする） | D44: 404 | E44: 1102 | F44: 1731 | G44: 3089
B47: ５．屋内環境
B48: 5.1 | C48: 昼光利用 | D48: =IF(D49*2/3+D50*1/3>4,4,D49*2/3+D50*1/3) -> 0
B49: 5.1.1 | C49: 自然採光 | D49: =SUMPRODUCT($E$11:$L$11,E49:L49) -> 0 | L49: ←用途別に評価結果（1～5点）を入力
...

Sheet ②店舗スコア表
A1: 【店舗の案分計算補助ワークシート】 | D1: 本シートは、複数の店舗の業態を有する建物について、評価結果の案分計算を支援するためのものです。
B2: シートは①と②の２つがあります。どちらか使い安い方を選んでください。
B4: ②エネルギーと水の実績値評価において、業態別の実績値がない（店舗全体でしか計量していない）場合
C6: 水色のセル | E6: に入力します。
C7: 緑色のセル | E7: に出力された数値を、「店舗評価結果」シートの評価点記入欄に転記します。
E9: ①物販店舗 | F9: ②飲食店舗 | G9: ③デパート・スーパー | H9: ④家電量販店 | I9: ⑤コンビニエンス・ストア | J9: ⑥店舗の事務管理エリア | K9: ⑦その他（物販と同等とする） | M9: 合計
B10: 構成比（駐車場除く） | D10: 延床面積 | F10: 3000 | I10: 5000 | M10: =SUM(E10:L10) -> 8000 | N10: ←用途別の床面積を入力
D11: 構成比 | E11: =E10/$M$10 -> 0 | F11: =F10/$M$10 -> 0.375 | G11: =G10/$M$10 -> 0 | H11: =H10/$M$10 -> 0 | I11: =I10/$M$10 -> 0.625 | J11: =J10/$M$10 -> 0 | K11: =K10/$M$10 -> 0 | M11: =SUM(E11:L11) -> 1
D13: 面積加重
B14: １．エネルギー／温暖化ガス
C15: ※以下の1.1（計算値）は、平成25年改正省エネ基準で算定されたBEIによりC/Sを求めた場合には、入力不要です。
B16: 1.1 | C16: 使用・排出原単位（計算値） | D16: =SUMPRODUCT($E$11:$L$11,E16:L16) -> 23.125 | F16: 20 | I16: 25 | L16: ←用途別に評価結果（15～25点）を入力
B17: 1.2 | C17: 使用・排出原単位（実績値） | D17: ※本シートでは実績値によるスコアの入力は不要です。評価結果は「店舗評価結果」シートの評価点記入欄に入力してください。
C19: 1次エネルギ-消費量基準境界値（店舗業態別） | G19: 単位：MJ/ｍ2・年
D20: 構成比 | E20: 25％点 | F20: 50％点 | G20: 75％点 | H20: 90％点 | I20: 評価建物
C21: ①物販店舗 | D21: =E11 -> 0 | E21: =①店舗スコア表!D21 -> 1450 | F21: =①店舗スコア表!E21 -> 2080 | G21: =①店舗スコア表!F21 -> 2900 | H21: =①店舗スコア表!G21 -> 3790
C22: ②飲食店舗 | D22: =F11 -> 0.375 | E22: =①店舗スコア表!D22 -> 10440 | F22: =①店舗スコア表!E22 -> 15470 | G22: =①店舗スコア表!F22 -> 23060 | H22: =①店舗スコア表!G22 -> 32010
C23: ③デパート・スーパー（規模別） | D23: =G11 -> 0 | E23: =IF($K$23=$K$24,E24,IF($K$23=$K$25,E25,E26)) -> 6120 | F23: =IF($K$23=$K$24,F24,IF($K$23=$K$25,F25,F26)) -> 7440 | G23: =IF($K$23=$K$24,G24,IF($K$23=$K$25,G25,G26)) -> 8760 | H23: =IF($K$23=$K$24,H24,IF($K$23=$K$25,H25,H26)) -> 10230 | J23: =①店舗スコア表!J23 -> 規模 | K23: =IF(G10<J24,K24,IF(G10<J25,K25,K26)) -> 2千㎡未満
C24: =①店舗スコア表!C24 -> ③デパート・スーパー（-2k） | E24: =①店舗スコア表!D24 -> 6120 | F24: =①店舗スコア表!E24 -> 7440 | G24: =①店舗スコア表!F24 -> 8760 | H24: =①店舗スコア表!G24 -> 10230 | J24: =①店舗スコア表!J24 -> 2000 | K24: =①店舗スコア表!K24 -> 2千㎡未満
C25: =①店舗スコア表!C25 -> ③デパート・スーパー（2k-10k） | E25: =①店舗スコア表!D25 -> 3740 | F25: =①店舗スコア表!E25 -> 4900 | G25: =①店舗スコア表!F25 -> 6350 | H25: =①店舗スコア表!G25 -> 7240 | J25: =①店舗スコア表!J25 -> 10000 | K25: =①店舗スコア表!K25 -> 2千～1万㎡未満
C26: =①店舗スコア表!C26 -> ③デパート・スーパー（10k-） | E26: =①店舗スコア表!D26 -> 2460 | F26: =①店舗スコア表!E26 -> 3080 | G26: =①店舗スコア表!F26 -> 3700 | H26: =①店舗スコア表!G26 -> 4390 | J26: =①店舗スコア表!J26 -> 0 | K26: =①店舗スコア表!K26 -> 1万㎡以上
C27: ④家電量販店 | D27: =H11 -> 0 | E27: =①店舗スコア表!D27 -> 2280 | F27: =①店舗スコア表!E27 -> 2740 | G27: =①店舗スコア表!F27 -> 3500 | H27: =①店舗スコア表!G27 -> 4170
C28: ⑤コンビニエンス・ストア | D28: =I11 -> 0.625 | E28: =①店舗スコア表!D28 -> 10740 | F28: =①店舗スコア表!E28 -> 12410 | G28: =①店舗スコア表!F28 -> 15360 | H28: =①店舗スコア表!G28 -> 17470
C29: ⑥店舗の事務管理エリア | D29: =J11 -> 0 | E29: =①店舗スコア表!D29 -> 1040 | F29: =①店舗スコア表!E29 -> 1370 | G29: =①店舗スコア表!F29 -> 1780 | H29: =①店舗スコア表!G29 -> 2330
C30: ⑦その他（物販と同等とする） | D30: =K11 -> 0 | E30: =①店舗スコア表!D30 -> 1450 | F30: =①店舗スコア表!E30 -> 2080 | G30: =①店舗スコア表!F30 -> 2900 | H30: =①店舗スコア表!G30 -> 3790
C31: 対象店舗（駐車場を除く） | E31: =SUMPRODUCT($D$21:$D$30,E21:E30) -> 10627.5 | F31: =SUMPRODUCT($D$21:$D$30,F21:F30) -> 13557.5 | G31: =SUMPRODUCT($D$21:$D$30,G21:G30) -> 18247.5 | H31: =SUMPRODUCT($D$21:$D$30,H21:H30) -> 22922.5 | I31: 22500 | J31: ←店舗全体の一次エネルギー消費量の実績値（MJ/㎡年）を入力
B33: ２．水
B34: 2.1 | C34: 水使用量（計算値） | D34: =SUMPRODUCT($E$11:$L$11,E34:L34) -> 0 | L34: ←用途別に評価結果（1～5点）を入力
B35: 2.2 | C35: 水使用量（実績値） | D35: ※本シートでは実績値によるスコアの入力は不要です。評価結果は「店舗評価結果」シートの評価点記入欄に入力してください。
C37: 上水消費量基準境界値（店舗業態別） | G37: 単位：L/ｍ2・年
D38: 構成比 | E38: 25％点 | F38: 50％点 | G38: 75％点 | H38: 90％点 | I38: 評価建物
C39: ①物販店舗 | D39: =E11 -> 0 | E39: =①店舗スコア表!D38 -> 404 | F39: =①店舗スコア表!E38 -> 1102 | G39: =①店舗スコア表!F38 -> 1731 | H39: =①店舗スコア表!G38 -> 3089
C40: ②飲食店舗 | D40: =F11 -> 0.375 | E40: =①店舗スコア表!D39 -> 14205 | F40: =①店舗スコア表!E39 -> 21053 | G40: =①店舗スコア表!F39 -> 30404 | H40: =①店舗スコア表!G39 -> 36641
C41: ③デパート・スーパー | D41: =G11 -> 0 | E41: =①店舗スコア表!D40 -> 1267 | F41: =①店舗スコア表!E40 -> 1901 | G41: =①店舗スコア表!F40 -> 2780 | H41: =①店舗スコア表!G40 -> 3800
C42: ④家電量販店（物販と同等とする） | D42: =H11 -> 0 | E42: =①店舗スコア表!D41 -> 404 | F42: =①店舗スコア表!E41 -> 1102 | G42: =①店舗スコア表!F41 -> 1731 | H42: =①店舗スコア表!G41 -> 3089
C43: ⑤コンビニエンス・ストア | D43: =I11 -> 0.625 | E43: =①店舗スコア表!D42 -> 2000 | F43: =①店舗スコア表!E42 -> 2700 | G43: =①店舗スコア表!F42 -> 3750 | H43: =①店舗スコア表!G42 -> 5000
C44: ⑥店舗の事務管理エリア | D44: =J11 -> 0 | E44: =①店舗スコア表!D43 -> 490 | F44: =①店舗スコア表!E43 -> 693 | G44: =①店舗スコア表!F43 -> 975 | H44: =①店舗スコア表!G43 -> 1293
C45: ⑦その他（物販と同等とする） | D45: =K11 -> 0 | E45: =①店舗スコア表!D44 -> 404 | F45: =①店舗スコア表!E44 -> 1102 | G45: =①店舗スコア表!F44 -> 1731 | H45: =①店舗スコア表!G44 -> 3089
C46: 対象店舗（駐車場を除く） | E46: =SUMPRODUCT($D$39:$D$45,E39:E45) -> 6576.875 | F46: =SUMPRODUCT($D$39:$D$45,F39:F45) -> 9582.375 | G46: =SUMPRODUCT($D$39:$D$45,G39:G45) -> 13745.25 | H46: =SUMPRODUCT($D$39:$D$45,H39:H45) -> 16865.375 | J46: ←店舗全体の水消費量の実績値（L/㎡年）を入力
B48: ５．屋内環境
...

Sheet 店舗水計算ソフト
B2: 店舗の水使用量算定
C3: ※空調用冷却塔補給水、植栽散水は計算から除外する | I3: （ご注意）
F4: ：入力項目 | I4: 使用する場合は、赤枠の欄に数値を入力してください。
F5: ：文献等による規定値 | I5: デフォルトで入力されている数値はサンプルです。入力の際には一度全て消去してから使用してください。
F6: ：計算値
B9: 1) | C9: 常勤者 | E9: 100 | F9: 人
C10: 来場者 | E10: 2000 | F10: 人
B11: 2) | C11: 延床面積(駐車場除く) | E11: 30000 | F11: ㎡
B12: 3) | C12: 営業日数 | E12: 320 | F12: 日
B13: 4) | C13: 男女比 | D13: 男子 | E13: 70 | F13: ％ | G13: 女子 | H13: =100-E13 -> 30 | I13: ％
C14: (常勤者） | D14: 男子 | E14: =$E$9*E13/100 -> 70 | F14: 人 | G14: 女子 | H14: =$E$9*H13/100 -> 30 | I14: 人
C15: 男女比 | D15: 男子 | E15: 70 | F15: ％ | G15: 女子 | H15: =100-E15 -> 30 | I15: ％
C16: (来場者） | D16: 男子 | E16: =$E$10*E15/100 -> 1400 | F16: 人 | G16: 女子 | H16: =$E$10*H15/100 -> 600 | I16: 人
B18: 5) | C18: 水使用量の算定
C19: ①常勤者による便所・洗面・湯沸かし
E20: 衛生器具吐水量 | G20: 器具使用回数*1) | I20: 滞在時間 | K20: 使用人員
C21: 男子大便器 | E21: 8 | F21: L/回× | G21: 0.047 | H21: 回/h× | I21: 12 | J21: h× | K21: =E$14 -> 70 | L21: 人＝ | M21: =E21*G21*I21*K21 -> 315.84 | N21: L/日 | S21: 雑用水 | T21: =M21*O$28 -> 101068.8
C22: 男子小便器 | E22: 4 | F22: L/回× | G22: 0.32 | H22: 回/h× | I22: 12 | J22: h× | K22: =E$14 -> 70 | L22: 人＝ | M22: =E22*G22*I22*K22 -> 1075.2 | N22: L/日 | S22: 雑用水 | T22: =M22*O$28 -> 344064
C23: 男子洗面器 | E23: 2 | F23: L/回× | G23: =G21+G22 -> 0.367 | H23: 回/h× | I23: 12 | J23: h× | K23: =E$14 -> 70 | L23: 人＝ | M23: =E23*G23*I23*K23 -> 616.56 | N23: L/日 | S23: 上水 | T23: =M23*O$28 -> 197299.2
C24: 女子大便器 | E24: 8 | F24: L/回× | G24: 0.326 | H24: 回/h× | I24: 12 | J24: h× | K24: =H$14 -> 30 | L24: 人＝ | M24: =E24*G24*I24*K24 -> 938.88 | N24: L/日 | S24: 雑用水 | T24: =M24*O$28 -> 300441.6
C25: 女子洗面器 | E25: 2 | F25: L/回× | G25: =G24 -> 0.326 | H25: 回/h× | I25: 12 | J25: h× | K25: =H$14 -> 30 | L25: 人＝ | M25: =E25*G25*I25*K25 -> 234.72 | N25: L/日 | S25: 上水 | T25: =M25*O$28 -> 75110.4
C26: 湯沸し*4) | E26: 2.5 | F26: L/回× | G26: 3 | H26: 回/日× | K26: =$E9 -> 100 | L26: 人＝ | M26: =E26*G26*K26 -> 750 | N26: L/日（飲用・茶器洗いなど） | S26: 上水 | T26: =M26*O$28 -> 240000
O27: 稼動日数
E28: ※洗面の使用回数は男子は大+小、女子は大と同じ | L28: 小計 | M28: =SUM(M21:M26) -> 3931.2 | N28: L/日× | O28: =$E$12 -> 320 | P28: 日/年＝ | Q28: =M28*O28 -> 1257984 | R28: L/年 | S28: 小計 | T28: =SUM(T21:T27) -> 1257984 | U28: ① | V28: =T28/E9/E12 -> 39.312 | W28: L/人・日
L29: ( | M29: =M28/$E$9 -> 39.312 | N29: L/人・日） | P29: ( | Q29: =Q28/$E$11 -> 41.9328 | R29: L/㎡・年）
C31: ②来場者による便所・洗面
E32: 衛生器具吐水量 | G32: 器具使用回数*1) | I32: 滞在時間 | K32: 使用人員
C33: 男子大便器 | E33: 8 | F33: L/回× | G33: 0.047 | H33: 回/h× | I33: 2 | J33: h× | K33: =E$16 -> 1400 | L33: 人＝ | M33: =E33*G33*I33*K33 -> 1052.8 | N33: L/日 | S33: 雑用水 | T33: =M33*O$28 -> 336896
C34: 男子小便器 | E34: 4 | F34: L/回× | G34: 0.32 | H34: 回/h× | I34: 2 | J34: h× | K34: =E$16 -> 1400 | L34: 人＝ | M34: =E34*G34*I34*K34 -> 3584 | N34: L/日 | S34: 雑用水 | T34: =M34*O$28 -> 1146880
C35: 男子洗面器 | E35: 2 | F35: L/回× | G35: =G33+G34 -> 0.367 | H35: 回/h× | I35: 2 | J35: h× | K35: =E$16 -> 1400 | L35: 人＝ | M35: =E35*G35*I35*K35 -> 2055.2 | N35: L/日 | S35: 上水 | T35: =M35*O$28 -> 657664
C36: 女子大便器 | E36: 8 | F36: L/回× | G36: 0.326 | H36: 回/h× | I36: 2 | J36: h× | K36: =H$16 -> 600 | L36: 人＝ | M36: =E36*G36*I36*K36 -> 3129.6 | N36: L/日 | S36: 雑用水 | T36: =M36*O$28 -> 1001472
C37: 女子洗面器 | E37: 2 | F37: L/回× | G37: =G36 -> 0.326 | H37: 回/h× | I37: 2 | J37: h× | K37: =H$16 -> 600 | L37: 人＝ | M37: =E37*G37*I37*K37 -> 782.4 | N37: L/日 | S37: 上水 | T37: =M37*O$28 -> 250368
O38: 稼動日数
E39: ※洗面の使用回数は男子は大+小、女子は大と同じ | L39: 小計 | M39: =SUM(M33:M37) -> 10604 | N39: L/日× | O39: =$E$12 -> 320 | P39: 日/年＝ | Q39: =M39*O39 -> 3393280 | R39: L/年 | S39: 小計 | T39: =SUM(T33:T38) -> 3393280 | U39: ② | V39: =T39/E10/E12 -> 5.302 | W39: L/人・日
L40: ( | M40: =M39/$E$9 -> 106.04 | N40: L/人・日） | P40: ( | Q40: =Q39/$E$11 -> 113.10933 | R40: L/㎡・年）
C43: ③器具清掃用 | E43: 延床面積 | G43: 衛生器具数原単位*2) | I43: 器具数
C44: 大便器 | E44: =E11 -> 30000 | F44: ㎡× | G44: 0.0023 | H44: 個/㎡＝ | I44: =E44*G44 -> 69 | J44: 個
C45: 小便器 | E45: =E11 -> 30000 | F45: ㎡× | G45: 0.0011 | H45: 個/㎡＝ | I45: =E45*G45 -> 33 | J45: 個
C46: 洗面器 | E46: =E11 -> 30000 | F46: ㎡× | G46: 0.0024 | H46: 個/㎡＝ | I46: =E46*G46 -> 72 | J46: 個
E48: 器具数 | G48: 衛生器具吐水量 | I48: 洗浄時の回数
...

Sheet クレジット
