Workbook

Sheet メイン
I3: 簡易版
B4: 評 価 ソ フ ト
B5: バージョン | C5: CASBEE-BD_EB_2014(v.3.03) | I5: １地域 | J5: 地域区分Ⅰ | K5: 1
B6: ■使用評価マニュアル： | C6: CASBEE-建築(既存)2014年版 | I6: ２地域 | J6: 地域区分Ⅱ | K6: 2
I7: ３地域 | J7: 地域区分Ⅲ | K7: 3
B8: 1）概要入力 | I8: ４地域 | J8: 地域区分Ⅳ | K8: 4
B9: ① 建物概要 | I9: ５地域 | J9: 地域区分Ⅴ | K9: 5
I10: ６地域 | J10: 地域区分Ⅵ | K10: 6
B11: ■建物名称 | C11: ○○ビル | I11: ７地域 | K11: 7
B12: ■建設地・地域区分 | C12: ○○県○○市 | I12: ８地域 | K12: 8
I13: ９地域
B14: ■地域・地区 | C14: 商業地域、防火地域
B15: ■竣工年 (予定/竣工) | C15: 42705 | K15: =VLOOKUP(F12,I5:K12,3) -> #N/A
B17: ■敷地面積 | C17: XXX | D17: ㎡
B18: ■建築面積 | C18: XXX | D18: ㎡
B19: ■延床面積 | C19: =SUM(C63:C64) -> 14500 | D19: ㎡
B20: ■建物用途名 | C20: ○○
C21: =O67 -> 事務所,学校,集会所,
B22: ■階数 | C22: 地上○○F
B23: ■構造 | C23: RC造 | I23: S造 | J23: RC造 | K23: SRC造 | L23: 木造
B24: ■平均居住人員 | C24: XX | D24: 人（想定値） | I24: =IF(OR(C23=I23,C23=L23),1,IF(C23=J23,2,3)) -> 2
B25: ■年間使用時間 | C25: XXX | D25: 時間/年（想定値）
B38: ② 評価の実施 | I38: 既存 | J38: 0 | L38: 新築 | M38: 既存学校版
B39: ■ 評価の実施 | C39: 41828 | I39: 基本設計段階 | J39: 1 | L39: 基本設計段階 | M39: 簡易評価
B40: ■ 作成者 | C40: ○○○ | I40: 実施設計段階 | J40: 2 | L40: 実施設計段階 | M40: 省エネルギー計画書による評価
B41: ■ 確認日 | C41: 41830 | I41: 竣工段階 | J41: 2 | L41: 竣工段階
B42: ■ 確認者 | C42: ○○○ | I42: 0
B43: ■LCCO2の計算 | C43: 標準計算 | D43: =IF(C43=I43,L43,L44) -> →LCCO2算定条件シート（標準計算）を入力 | I43: 標準計算 | L43: →LCCO2算定条件シート（標準計算）を入力
I44: 個別計算 | L44: →LCCO2算定条件シート（個別計算）を入力
B45: 2) 個別用途入力
B46: ①用途別延床面積 | J46: common | K46: ratio | L46: Residential
B47: 事務所 | C47: =E47+E48 -> 5000 | D47: ㎡ 事務所 | E47: 5000 | F47: ㎡ | I47: 事務所 | J47: =C47 -> 5000 | K47: =J47/$J$66 -> 0.34482759 | N47: =IF(J47=0,0,RANK(J47,$J$47:$J$64)) -> 1 | O47: =IF(AND(0<N47,N47<4),I47&",","") -> 事務所, | P47: 事務所 | Q47: 事務所 | R47: =E47 -> 5000
D48: 官公庁 | F48: ㎡ | N48: =IF(J48=0,0,RANK(J48,$J$47:$J$64)) -> 0 | O48: =IF(AND(0<N48,N48<4),I48&",","") | Q48: 官公庁 | R48: =E48 -> 0
B49: 学校 | C49: =SUM(E49:E53) -> 4000 | D49: ㎡ 幼稚園・保育園 | F49: ㎡ | I49: 学校 | J49: =C49 -> 4000 | K49: =J49/$J$66 -> 0.27586207 | N49: =IF(J49=0,0,RANK(J49,$J$47:$J$64)) -> 2 | O49: =IF(AND(0<N49,N49<4),I49&",","") -> 学校, | P49: 学校等 | Q49: 幼稚園・保育園 | R49: =E49 -> 0
D50: 小・中学校 (北海道) | F50: ㎡ | N50: =IF(J50=0,0,RANK(J50,$J$47:$J$64)) -> 0 | O50: =IF(AND(0<N50,N50<4),I50&",","") | Q50: 小中（北海道） | R50: =E50 -> 0
D51: 小・中学校 (北海道以外） | E51: 4000 | F51: ㎡ | N51: =IF(J51=0,0,RANK(J51,$J$47:$J$64)) -> 0 | O51: =IF(AND(0<N51,N51<4),I51&",","") | Q51: 小中（その他） | R51: =E51 -> 4000
D52: 高校 | F52: ㎡ | N52: =IF(J52=0,0,RANK(J52,$J$47:$J$64)) -> 0 | O52: =IF(AND(0<N52,N52<4),I52&",","") | Q52: 高校 | R52: =E52 -> 0
D53: 大学・専門学校 | F53: ㎡ | N53: =IF(J53=0,0,RANK(J53,$J$47:$J$64)) -> 0 | O53: =IF(AND(0<N53,N53<4),I53&",","") | Q53: 大学・専門学校 | R53: =E53 -> 0
B54: 物販店 | C54: =E54+E55 -> 0 | D54: ㎡ デパート・スーパー | F54: ㎡ | I54: 物販店 | J54: =C54 -> 0 | K54: =J54/$J$66 -> 0 | N54: =IF(J54=0,0,RANK(J54,$J$47:$J$64)) -> 0 | O54: =IF(AND(0<N54,N54<4),I54&",","") | P54: 物販店舗等 | Q54: デパート・スーパー | R54: =E54 -> 0
D55: その他物販 | F55: ㎡ | N55: =IF(J55=0,0,RANK(J55,$J$47:$J$64)) -> 0 | O55: =IF(AND(0<N55,N55<4),I55&",","") | Q55: その他物販 | R55: =E55 -> 0
...

Sheet 結果
Q2: ←
J5: ■使用評価マニュアル： | K5: =メイン!C6 -> CASBEE-建築(既存)2014年版 | M5: ■使用評価ソフト： | N5: =メイン!C5 -> CASBEE-BD_EB_2014(v.3.03)
B7: 1-1 建物概要 | L7: 1-2 外観 | R7: BEE rank | U7: radar chart
B8: 建物名称 | D8: =メイン!C11 -> ○○ビル | H8: 階数 | J8: =メイン!C22 -> 地上○○F | R8: SQ | S8: =スコア!Z8 -> 3.0127254 | V8: radar chart | W8: background | X8: 4 | Y8: 2 | Z8: Score(RoundDown) | AA8: std
B9: 建設地 | D9: =メイン!C12 -> ○○県○○市 | H9: 構造 | J9: =メイン!C23 -> RC造 | R9: SLR | S9: =スコア!Z116 -> #N/A | U9: Q2 | V9: Q2 サービス性能 | W9: 5 | X9: 4 | Y9: 2 | Z9: =V45 -> 3 | AA9: 3
B10: 用途地域 | D10: =メイン!C14 -> 商業地域、防火地域 | H10: 平均居住人員 | J10: =メイン!C24 -> XX | K10: 人 | R10: Q | S10: =25*(S8-1) -> 50.318135 | U10: Q3 | V10: Q3 室外環境 (敷地内) | W10: 5 | X10: 4 | Y10: 2 | Z10: =Y45 -> 3 | AA10: 3
B11: 地域区分 | D11: =IF(メイン!F12="","",メイン!F12) | H11: 年間使用時間 | J11: =メイン!C25 -> XXX | K11: 時間/年 | R11: L | S11: =25*(5-S9) -> #N/A | U11: LR3 | V11: LR3 敷地外環境 | W11: 5 | X11: 4 | Y11: 2 | Z11: =Y56 -> #N/A | AA11: 3
B12: 建物用途 | D12: =メイン!C21 -> 事務所,学校,集会所, | H12: 評価の段階 | J12: =IF(メイン!E39=0,"",メイン!E39&"評価") | M12: 外観パース等 | R12: BEE | S12: =S10/S11 -> #N/A | U12: LR2 | V12: LR2 資源・ マテリアル | W12: 5 | X12: 4 | Y12: 2 | Z12: =V56 -> 3 | AA12: 3
B13: 竣工年 | D13: =メイン!C15 -> 42705 | F13: =メイン!F15 -> 0 | H13: 評価の実施日 | J13: =IF(メイン!C39=0,"",メイン!C39) -> 41828 | M13: 図を貼り付けるときは | R13: BEE(Round) | S13: =ROUNDDOWN(S12,1) -> #N/A | U13: LR1 | V13: LR1 エネルギー | W13: 5 | X13: 4 | Y13: 2 | Z13: =S56 -> #N/A | AA13: 3
B14: 敷地面積 | E14: =メイン!C17 -> XXX | F14: ㎡ | H14: 作成者 | J14: =IF(メイン!C40=0,"",メイン!C40) -> ○○○ | M14: シートの保護を解除してください | U14: Q1 | V14: Q1 室内環境 | W14: 5 | X14: 4 | Y14: 2 | Z14: =IF(S45=0,1,S45) -> 3 | AA14: 3
B15: 建築面積 | E15: =メイン!C18 -> XXX | F15: ㎡ | H15: 確認日 | J15: =IF(メイン!C41=0,"",メイン!C41) -> 41830 | R15: Rank(red star) | S15: =IF(AND($S$10>=50,$S$12>=3),1,IF(S13<0.5,1,IF(S13<1,2,IF(S13<1.5,3,IF(S13<3,4,4))))/5) -> #N/A
B16: 延床面積 | E16: =メイン!J66 -> 14500 | F16: ㎡ | H16: 確認者 | J16: =IF(メイン!C42=0,"",メイン!C42) -> ○○○ | R16: (blank star) | S16: =1-S15 -> #N/A
B17: 改修工事期間 | L17: 改修対象項目 | M17: 躯体
B18: 改修目的 | M18: 外装
B19: 改修後の想定使用年数 | M19: 内装
B20: 現在までの主な改修履歴 | M20: 設備
B22: 2-1 建築物の環境効率（BEEランク&チャート） | H22: 2-2 ライフサイクルCO2(温暖化影響チャート） | L22: 2-3 大項目の評価（ﾚｰﾀﾞｰﾁｬｰﾄ） | R22: BEEグラフ | S22: 基準 | T22: 評価 | U22: 原点
R23: BEEの分母側(L) | T23: =S11 -> #N/A | U23: 0 | W23: X目盛線 | Z23: Y目盛線
C24: =S13 -> #N/A | R24: BEEの分子側(Q) | T24: =S10 -> 50.318135 | U24: 0 | W24: 50 | X24: 50 | Z24: 0 | AA24: 100
R25: 0 | S25: =T23 -> #N/A | T25: =T23 -> #N/A | U25: 0.1 | W25: 0 | X25: 100 | Z25: 50 | AA25: 50
R26: 0 | S26: 0 | T26: =T24 -> 50.318135 | U26: =T24 -> 50.318135
H27: =U35 -> 標準計算
R28: BEE | S28: X | T28: 0 | U28: =100/6 -> 16.666667 | V28: =U28*2 -> 33.333333 | W28: =U28*3 -> 50 | X28: =U28*4 -> 66.666667 | Y28: =U28*5 -> 83.333333 | Z28: 100
S29: S | T29: 100 | U29: 100 | V29: 100 | W29: 100 | X29: 100 | Y29: 100 | Z29: 100
R30: 3 | S30: A | T30: 50 | U30: =U$28*$R30 -> 50 | V30: =V$28*$R30 -> 100 | W30: 100 | X30: 100 | Y30: 100 | Z30: 100
R31: 1.5 | S31: B+ | T31: 0 | U31: =U$28*$R31 -> 25 | V31: =V$28*$R31 -> 50 | W31: =W$28*$R31 -> 75 | X31: =X$28*$R31 -> 100 | Y31: 100 | Z31: 100
R32: 1 | S32: B | T32: 0 | U32: =U$28*$R32 -> 16.666667 | V32: =V$28*$R32 -> 33.333333 | W32: =W$28*$R32 -> 50 | X32: =X$28*$R32 -> 66.666667 | Y32: =Y$28*$R32 -> 83.333333 | Z32: =Z$28*$R32 -> 100
R33: 0.5 | S33: B- | T33: 0 | U33: =U$28*$R33 -> 8.3333333 | V33: =V$28*$R33 -> 16.666667 | W33: =W$28*$R33 -> 25 | X33: =X$28*$R33 -> 33.333333 | Y33: =Y$28*$R33 -> 41.666667 | Z33: =Z$28*$R33 -> 50
R35: Rank(green star) | S35: =IF(T35<=0.3,1,IF(T35<=0.6,0.8,IF(T35<=0.8,0.6,IF(T35<=1,0.4,0.2)))) -> #N/A | T35: =IF(U35=W35,X41,X42) -> #N/A | U35: =メイン!C43 -> 標準計算 | V35: ④上記+ オフサイト手法 | W35: 標準計算 | X35: このグラフは、LR3中の「地球温暖化への配慮」の内容を、一般的な建物（参照値）と比べたライフサイクルCO2 排出量の目安で示したものです
H36: =IF(U35=W35,X35,X36) -> このグラフは、LR3中の「地球温暖化への配慮」の内容を、一般的な建物（参照値）と比べたライフサイクルCO2 排出量の目安で示したものです | R36: (blank star) | S36: =1-S35 -> #N/A | U36: ※個別計算 | V36: =IF(U35=W36,V35,"") | W36: 個別計算 | X36: このグラフは、一般的な建物（参照値）と比べたライフサイクルCO2 排出量を評価者自身の計算（個別計算）により算出した結果を示しています。LCCO2の算定条件等については、「LCCO2算定条件シート（個別計算）」を参照されたい
R38: LCCO2(kg-CO2/ym2) | S38: 建設 | T38: 修繕・更新・解体 | U38: 運用 | V38: オンサイト | W38: オフサイト | X38: ％ | Y38: Sum
B39: 2-4 中項目の評価（バーチャート） | R39: Ref | S39: =IF($U$35=$W$35,'条件(標準)'!$D9,'条件(個別)'!$D9) -> 13.77 | T39: =IF($U$35=$W$35,'条件(標準)'!$D34,'条件(個別)'!$D34) -> 13.322862 | U39: =IF($U$35=$W$35,'条件(標準)'!$D46,'条件(個別)'!$D46) -> #N/A | X39: 1 | Y39: =IF(COUNTIF(S39:W39,Z40)>0,Z40,SUM(S39:W39)) -> #N/A
B40: Q 環境品質 | M40: Qのスコア= | N40: =スコア!Q8 -> 3 | R40: Subjest1 | S40: =IF($U$35=$W$35,'条件(標準)'!$E9,'条件(個別)'!$E9) -> 13.77 | T40: =IF($U$35=$W$35,'条件(標準)'!$E34,'条件(個別)'!$E34) -> 13.322862 | U40: =IF($U$35=$W$35,'条件(標準)'!$E46,'条件(個別)'!$E46) -> #VALUE! | X40: =IF(OR(Y39=Z40,Y40=Z40),Z40,Y40/Y39) -> #N/A | Y40: =IF(COUNTIF(S40:W40,Z40)>0,Z40,SUM(S40:W40)) -> #VALUE! | Z40: =CO2計算!R115 -> N.A.
C41: =スコア!B9&" "&スコア!C9 -> Q1 室内環境 | H41: =" "&スコア!B61&" "&スコア!C61 -> Q2 サービス性能 | L41: =スコア!B109&" "&スコア!C109 -> Q3 室外環境（敷地内） | R41: Subjest2 | V41: =IF($U$35=$W$35,'条件(標準)'!E9+'条件(標準)'!E34+'条件(標準)'!E47,'条件(個別)'!E9+'条件(個別)'!E34+'条件(個別)'!E47) -> #VALUE! | X41: =IF(OR(Y39=Z41,Y41=Z41),Z41,Y41/Y39) -> #N/A | Y41: =IF(COUNTIF(S41:W41,Z41)>0,Z41,SUM(S41:W41)) -> #VALUE! | Z41: =CO2計算!R115 -> N.A.
G42: =S45 -> 3 | K42: =V45 -> 3 | O42: =Y45 -> 3 | R42: Subjest3 | W42: =IF($U$35=$W$35,'条件(標準)'!E9+'条件(標準)'!E34+'条件(標準)'!E52,'条件(個別)'!E9+'条件(個別)'!E34+'条件(個別)'!E52) -> #VALUE! | X42: =IF(OR(Y39=Z42,Y42=Z42),Z42,Y42/Y39) -> #N/A | Y42: =IF(COUNTIF(S42:W42,Z42)>0,Z42,SUM(S42:W42)) -> #VALUE! | Z42: =CO2計算!R115 -> N.A.
S44: Score(RoundDown) | T44: Score | V44: Score(RoundDown) | W44: Score | Y44: Score(RoundDown) | Z44: Score
R45: Q-1 室内環境 | S45: =スコア!Q9 -> 3 | T45: =スコア!Z9 -> 3 | U45: Q-2 サービス性能 | V45: =スコア!Q61 -> 3 | W45: =スコア!Z61 -> 3.042418 | X45: Q-3 室外環境(敷地内) | Y45: =スコア!Q109 -> 3 | Z45: =スコア!Z109 -> 3
S47: Score(RoundDown) | T47: NA | V47: Score(RoundDown) | W47: NA | Y47: Score(RoundDown) | Z47: NA
R48: 音環境 | S48: =スコア!Q10 -> 3 | T48: =IF(S48=0,"N.A.","") | U48: 機能性 | V48: =スコア!Q62 -> 3 | W48: =IF(V48=0,"N.A.","") | X48: 生物資源 | Y48: =スコア!Q110 -> 3 | Z48: =IF(Y48=0,"N.A.","")
R49: 温熱環境 | S49: =スコア!Q20 -> 3 | T49: =IF(S49=0,"N.A.","") | U49: 耐用性・信頼性 | V49: =スコア!Q75 -> 3.1 | W49: =IF(V49=0,"N.A.","") | X49: まちなみ景観 | Y49: =スコア!Q111 -> 3 | Z49: =IF(Y49=0,"N.A.","")
...

Sheet スコア
B2: =メイン!C6 -> CASBEE-建築(既存)2014年版 | G2: 色欄について、プルダウンメニューから選択、または数値・コメントを記入のこと | L2: ■使用評価マニュアル： | N2: =メイン!C6 -> CASBEE-建築(既存)2014年版 | AM2: ■使用評価マニュアル： | AP2: =メイン!C6 -> CASBEE-建築(既存)2014年版 | AW2: 事務所 | AX2: 学校 | AY2: 物販店 | AZ2: 飲食店 | BA2: 病院 | BB2: ホテル | BC2: 集合住宅 | BD2: 集会所 | BE2: 工場 | BF2: 学校
B3: =メイン!$C$11 -> ○○ビル | J3: 欄に数値またはコメントを記入 | L3: ■評価ソフト： | N3: =メイン!C5 -> CASBEE-BD_EB_2014(v.3.03) | AM3: ■評価ソフト： | AP3: =メイン!C5 -> CASBEE-BD_EB_2014(v.3.03) | AW3: =重み!S7 -> 0.34482759 | AX3: =重み!T7 -> 0 | AY3: =重み!U7 -> 0 | AZ3: =重み!V7 -> 0 | BA3: =重み!W7 -> 0 | BB3: =重み!X7 -> 0 | BC3: =重み!Y7 -> 0.17241379 | BD3: =重み!Z7 -> 0.20689655 | ... BF3: =重み!AB7 -> 0.27586207
B5: スコアシート | E5: =IF(メイン!E39=0,"",メイン!E39) | S5: 採点シートの 採点結果 | AB5: 建物全体・共用部分 | AD5: 住居・宿泊部分 | AF5: 用途別スコア入力 | AK5: ↓Q1とQ2の1は対象外の為、入力不要です。
M6: 建物全体・共用部分 | O6: 住居・宿泊部分 | V6: 建物全体 | X6: 住居宿泊 | AB6: =重み!D7 -> 0.86206897 | AD6: =重み!E7 -> 0.13793103 | AF6: 事務所 | AG6: 学校 | AH6: 物販店 | AI6: 飲食店 | AJ6: 集会所 | AK6: 工場 | AL6: 学校 (小中高) | AM6: 病院 | AN6: ホテル | AO6: 集合住宅 | AP6: 建物全体・共用部分 | AT6: 面積加重 | AW6: =AF6 -> 事務所 | AX6: =AG6 -> 学校 | AY6: =AH6 -> 物販店 | AZ6: =AI6 -> 飲食店 | BA6: =AJ6 -> 集会所 | BB6: =AK6 -> 工場 | BC6: =AL6 -> 学校 (小中高) | BD6: =AM6 -> 病院 | ... BF6: =AO6 -> 集合住宅
B7: 配慮項目 | H7: 環境配慮設計の概要記入欄 | M7: 評価点 | N7: 重み 係数 | O7: 評価点 | P7: 重み 係数 | Q7: 全体 | S7: 建物全体 | T7: 住居宿泊 | V7: 解説シートの 採点結果 | W7: 重み 係数 | X7: 解説シートの 採点結果 | Y7: 重み 係数 | Z7: 全体 | AB7: weight(set) | AD7: weight(set) | AF7: =AW7 -> 0.34482759 | AG7: =AX7 -> 0 | AH7: =AY7 -> 0 | AI7: =AZ7 -> 0 | AJ7: =BA7 -> 0.20689655 | AK7: =BB7 -> 0 | AL7: =BC7 -> 0.27586207 | AM7: =BD7 -> 0 | ... AO7: =BF7 -> 0.17241379 | AP7: 評価点 | AQ7: 重み 係数 | AR7: 全体 | AT7: 評価点 | AW7: =AW3 -> 0.34482759 | AX7: =AX3 -> 0 | AY7: =AY3 -> 0 | AZ7: =AZ3 -> 0 | BA7: =BD3 -> 0.20689655 | BB7: =BE3 -> 0 | BC7: =BF3 -> 0.27586207 | BD7: =BA3 -> 0 | BE7: =BB3 -> 0 | BF7: =BC3 -> 0.17241379
B8: Ｑ 建築物の環境品質 | Q8: =ROUNDDOWN(Z8,1) -> 3 | Z8: =W9*Z9+W61*Z61+W109*Z109 -> 3.0127254 | AB8: =重み!M8 -> 0 | AD8: =重み!N8 -> 0 | AR8: =ROUNDDOWN(AT8,1) -> 3.2 | AT8: =AQ9*AT9+AQ61*AT61+AQ109*AT109 -> 3.24
B9: Q1 | C9: 室内環境 | N9: =W9 -> 0.4 | P9: =Y9 -> 0 | Q9: =ROUNDDOWN(Z9,1) -> 3 | W9: =重み!D9 -> 0.4 | Z9: =Z10*W10+Z20*W20+Z34*W34+Z47*W47 -> 3 | AB9: =重み!M9 -> 0.4 | AD9: =重み!N9 -> 0 | AQ9: =N9 -> 0.4 | AR9: =ROUNDDOWN(AT9,1) -> 3 | AT9: =SUMPRODUCT(AQ10:AQ60,AT10:AT60) -> 3
B10: 1 | C10: 音環境 | M10: =ROUNDDOWN(V10,1) -> 3 | N10: =W10 -> 0.15 | O10: =ROUNDDOWN(X10,1) -> 3 | P10: =Y10 -> 1 | Q10: =ROUNDDOWN(Z10,1) -> 3 | V10: =V11*W11+V14*W14+V19*W19 -> 3 | W10: =重み!D10 -> 0.15 | X10: =X11*Y11+X14*Y14+X19*Y19 -> 3 | Y10: =SUM(Y11,Y14,Y19) -> 1 | Z10: =IF(X10=0,V10,IF(V10=0,X10,V10*AB$6+X10*AD$6)) -> 3 | AB10: =重み!M10 -> 0.15 | AD10: =SUM(AD11,AD14,AD19) -> 0.17241379 | AF10: 3 | AK10: 0 | AP10: =ROUNDDOWN(AT10,1) -> 3 | AQ10: =N10 -> 0.15 | AT10: =IF(AV10=0,0,SUMPRODUCT($AW$7:$BF$7,AF10:AO10)/AV10) -> 3 | AV10: =SUMPRODUCT($AW$7:$BF$7,AW10:BF10) -> 0.34482759 | AW10: =IF(AF10>0,1,0) -> 1 | AX10: =IF(AG10>0,1,0) -> 0 | AY10: =IF(AH10>0,1,0) -> 0 | AZ10: =IF(AI10>0,1,0) -> 0 | BA10: =IF(AJ10>0,1,0) -> 0 | BB10: =IF(AK10>0,1,0) -> 0 | BC10: =IF(AL10>0,1,0) -> 0 | BD10: =IF(AM10>0,1,0) -> 0 | ... BF10: =IF(AO10>0,1,0) -> 0
C11: 1.1 | D11: 騒音 | G11: 5 | M11: =ROUNDDOWN(V11,1) -> 3 | N11: =W11 -> 0.55172414 | O11: =ROUNDDOWN(X11,1) -> 3 | P11: =Y11 -> 0.4 | V11: =SUMPRODUCT(V12:V13,W12:W13) -> 3 | W11: =重み!D11 -> 0.55172414 | X11: =SUMPRODUCT(X12:X13,Y12:Y13) -> 3 | Y11: =重み!E11 -> 0.4 | AB11: =重み!M11 -> 0.55172414 | AD11: =重み!N11 -> 0.068965517
D12: 1 | E12: 室内騒音レベル | M12: =ROUNDDOWN(S12,1) -> 3 | N12: =W12 -> 1 | O12: =ROUNDDOWN(T12,1) -> 3 | P12: =Y12 -> 1 | S12: =IF(採点Q1!F9="対象外",0,採点Q1!F9) -> 3 | T12: =IF(採点Q1!L9="対象外",0,採点Q1!L9) -> 3 | V12: =M12 -> 3 | W12: =重み!D12 -> 1 | X12: =O12 -> 3 | Y12: =重み!E12 -> 1 | AB12: =重み!M12 -> 0.79310345 | AD12: =重み!N12 -> 0.17241379
D13: 2 | E13: 設備騒音対策 | M13: =ROUNDDOWN(S13,1) -> 0 | N13: =W13 -> 0 | O13: =ROUNDDOWN(T13,1) -> 0 | P13: =Y13 -> 0 | S13: =IF(採点Q1!F34="対象外",0,採点Q1!F34) -> 0 | T13: =採点Q1!K34 -> 0 | V13: =M13 -> 0 | W13: =重み!D13 -> 0 | X13: =O13 -> 0 | Y13: =重み!E13 -> 0 | AB13: =重み!M13 -> 0.20689655 | AD13: =重み!N13 -> 0
C14: 1.2 | D14: 遮音 | M14: =ROUNDDOWN(V14,1) -> 3 | N14: =W14 -> 0.24827586 | O14: =ROUNDDOWN(X14,1) -> 3 | P14: =Y14 -> 0.4 | V14: =SUMPRODUCT(V15:V18,W15:W18) -> 3 | W14: =重み!D14 -> 0.24827586 | X14: =SUMPRODUCT(X15:X18,Y15:Y18) -> 3 | Y14: =重み!E14 -> 0.4 | AB14: =重み!M14 -> 0.24827586 | AD14: =重み!N14 -> 0.068965517
D15: 1 | E15: 開口部遮音性能 | M15: =ROUNDDOWN(S15,1) -> 0 | N15: =W15 -> 0 | O15: =ROUNDDOWN(T15,1) -> 0 | P15: =Y15 -> 0 | S15: =IF(採点Q1!F69="対象外",0,採点Q1!F69) -> 0 | T15: =採点Q1!K69 -> 0 | V15: =M15 -> 0 | W15: =重み!D15 -> 0 | X15: =O15 -> 0 | Y15: =重み!E15 -> 0 | AB15: =重み!M15 -> 0 | AD15: =重み!N15 -> 0
D16: 2 | E16: 界壁遮音性能 | M16: =ROUNDDOWN(S16,1) -> 3 | N16: =W16 -> 0.73333333 | O16: =ROUNDDOWN(T16,1) -> 3 | P16: =Y16 -> 0.4 | S16: =IF(採点Q1!F85="対象外",0,採点Q1!F85) -> 3 | T16: =採点Q1!K85 -> 3 | V16: =M16 -> 3 | W16: =重み!D16 -> 0.73333333 | X16: =O16 -> 3 | Y16: =重み!E16 -> 0.4 | AB16: =重み!M16 -> 0.45517241 | AD16: =重み!N16 -> 0.068965517
D17: 3 | E17: 界床遮音性能（軽量衝撃源） | M17: =ROUNDDOWN(S17,1) -> 3 | N17: =W17 -> 0.13333333 | O17: =ROUNDDOWN(T17,1) -> 3 | P17: =Y17 -> 0.3 | S17: =IF(採点Q1!F101="対象外",0,採点Q1!F101) -> 3 | T17: =採点Q1!K101 -> 3 | V17: =M17 -> 3 | W17: =重み!D17 -> 0.13333333 | X17: =O17 -> 3 | Y17: =重み!E17 -> 0.3 | AB17: =重み!M17 -> 0.082758621 | AD17: =重み!N17 -> 0.051724138
D18: 4 | E18: 界床遮音性能（重量衝撃源） | M18: =ROUNDDOWN(S18,1) -> 3 | N18: =W18 -> 0.13333333 | O18: =ROUNDDOWN(T18,1) -> 3 | P18: =Y18 -> 0.3 | S18: =IF(採点Q1!F117="対象外",0,採点Q1!F117) -> 3 | T18: =採点Q1!K117 -> 3 | V18: =M18 -> 3 | W18: =重み!D18 -> 0.13333333 | X18: =O18 -> 3 | Y18: =重み!E18 -> 0.3 | AB18: =重み!M18 -> 0.082758621 | AD18: =重み!N18 -> 0.051724138
C19: 1.3 | D19: 吸音 | M19: =ROUNDDOWN(S19,1) -> 3 | N19: =W19 -> 0.2 | O19: =ROUNDDOWN(T19,1) -> 3 | P19: =Y19 -> 0.2 | S19: =IF(採点Q1!F133="対象外",0,採点Q1!F133) -> 3 | T19: =採点Q1!K133 -> 3 | V19: =M19 -> 3 | W19: =重み!D19 -> 0.2 | X19: =O19 -> 3 | Y19: =重み!E19 -> 0.2 | AB19: =重み!M19 -> 0.2 | AD19: =重み!N19 -> 0.034482759
B20: 2 | C20: 温熱環境 | M20: =ROUNDDOWN(V20,1) -> 3 | N20: =W20 -> 0.35 | O20: =ROUNDDOWN(X20,1) -> 3 | P20: =Y20 -> 1 | Q20: =ROUNDDOWN(Z20,1) -> 3 | V20: =V21*W21+V30*W30+V31*W31 -> 3 | W20: =重み!D20 -> 0.35 | X20: =X21*Y21+X30*Y30+X31*Y31 -> 3 | Y20: =SUM(Y21,Y30,Y31) -> 1 | Z20: =IF(X20=0,V20,IF(V20=0,X20,V20*AB$6+X20*AD$6)) -> 3 | AB20: =重み!M20 -> 0.35 | AD20: =SUM(AD21,AD30,AD31) -> 0.17241379 | AF20: 3 | AK20: 0 | AP20: =ROUNDDOWN(AT20,1) -> 3 | AQ20: =N20 -> 0.35 | AT20: =IF(AV20=0,0,SUMPRODUCT($AW$7:$BF$7,AF20:AO20)/AV20) -> 3 | AV20: =SUMPRODUCT($AW$7:$BF$7,AW20:BF20) -> 0.34482759 | AW20: =IF(AF20>0,1,0) -> 1 | AX20: =IF(AG20>0,1,0) -> 0 | AY20: =IF(AH20>0,1,0) -> 0 | AZ20: =IF(AI20>0,1,0) -> 0 | BA20: =IF(AJ20>0,1,0) -> 0 | BB20: =IF(AK20>0,1,0) -> 0 | BC20: =IF(AL20>0,1,0) -> 0 | BD20: =IF(AM20>0,1,0) -> 0 | ... BF20: =IF(AO20>0,1,0) -> 0
C21: 2.1 | D21: 室温制御 | G21: 5 | M21: =ROUNDDOWN(V21,1) -> 3 | N21: =W21 -> 0.5 | O21: =ROUNDDOWN(X21,1) -> 3 | P21: =Y21 -> 1 | V21: =SUMPRODUCT(V22:V29,W22:W29) -> 3 | W21: =重み!D21 -> 0.5 | X21: =SUMPRODUCT(X22:X29,Y22:Y29) -> 3 | Y21: =重み!E21 -> 1 | AB21: =重み!M21 -> 0.5 | AD21: =重み!N21 -> 0.17241379 | AP21: =ROUNDDOWN(AT21,1) -> 0
D22: 1 | E22: 室温 | M22: =ROUNDDOWN(S22,1) -> 3 | N22: =W22 -> 0.46634615 | O22: =ROUNDDOWN(T22,1) -> 0 | P22: =Y22 -> 0 | S22: =IF(採点Q1!F144="対象外",0,採点Q1!F144) -> 3 | T22: =採点Q1!M144 -> 0 | V22: =M22 -> 3 | W22: =重み!D22 -> 0.46634615 | X22: =O22 -> 0 | Y22: =重み!E22 -> 0 | AB22: =重み!M22 -> 0.33448276 | AD22: =重み!N22 -> 0 | AP22: =ROUNDDOWN(AT22,1) -> 0
D23: 2 | E23: 負荷変動・追従制御性 | M23: =ROUNDDOWN(S23,1) -> 0 | N23: =W23 -> 0 | O23: =ROUNDDOWN(T23,1) -> 0 | P23: =Y23 -> 0 | S23: =IF(採点Q1!F160="対象外",0,採点Q1!F160) -> 0 | V23: =M23 -> 0 | W23: =重み!D23 -> 0 | Y23: =重み!E23 -> 0 | AB23: =重み!M23 -> 0.11724138 | AD23: =重み!N23 -> 0 | AP23: =ROUNDDOWN(AT23,1) -> 0
D24: 2 | E24: 外皮性能 | M24: =ROUNDDOWN(S24,1) -> 3 | N24: =W24 -> 0.30288462 | O24: =ROUNDDOWN(T24,1) -> 3 | P24: =Y24 -> 1 | S24: =IF(採点Q1!F169="対象外",0,採点Q1!F169) -> 3 | T24: =採点Q1!K169 -> 3 | V24: =M24 -> 3 | W24: =重み!D24 -> 0.30288462 | X24: =O24 -> 3 | Y24: =重み!E24 -> 1 | AB24: =重み!M24 -> 0.21724138 | AD24: =重み!N24 -> 0.10344828 | AP24: =ROUNDDOWN(AT24,1) -> 0
D25: 3 | E25: ゾーン別制御性 | M25: =ROUNDDOWN(S25,1) -> 3 | N25: =W25 -> 0.23076923 | O25: =ROUNDDOWN(T25,1) -> 0 | P25: =Y25 -> 0 | S25: =IF(採点Q1!F185="対象外",0,採点Q1!F185) -> 3 | V25: =M25 -> 3 | W25: =重み!D25 -> 0.23076923 | Y25: =重み!E25 -> 0 | AB25: =重み!M25 -> 0.16551724 | AD25: =重み!N25 -> 0 | AP25: =ROUNDDOWN(AT25,1) -> 0
D26: 5 | E26: 温度・湿度制御 | M26: =ROUNDDOWN(S26,1) -> 0 | N26: =W26 -> 0 | O26: =ROUNDDOWN(T26,1) -> 0 | P26: =Y26 -> 0 | S26: =IF(採点Q1!F194="対象外",0,採点Q1!F194) -> 0 | T26: =採点Q1!K194 -> 0 | V26: =M26 -> 0 | W26: =重み!D26 -> 0 | X26: =O26 -> 0 | Y26: =重み!E26 -> 0 | AB26: =重み!M26 -> 0.11724138 | AD26: =重み!N26 -> 0 | AP26: =ROUNDDOWN(AT26,1) -> 0
D27: 6 | E27: 個別制御 | M27: =ROUNDDOWN(S27,1) -> 0 | N27: =W27 -> 0 | O27: =ROUNDDOWN(T27,1) -> 0 | P27: =Y27 -> 0 | T27: =採点Q1!F203 -> 0 | W27: =重み!D27 -> 0 | X27: =O27 -> 0 | Y27: =重み!E27 -> 0 | AB27: =重み!M27 -> 0 | AD27: =重み!N27 -> 0.068965517 | AP27: =ROUNDDOWN(AT27,1) -> 0
D28: 7 | E28: 時間外空調に対する配慮 | M28: =ROUNDDOWN(S28,1) -> 0 | N28: =W28 -> 0 | O28: =ROUNDDOWN(T28,1) -> 0 | P28: =Y28 -> 0 | S28: =IF(採点Q1!F212="対象外",0,採点Q1!F212) -> 0 | V28: =M28 -> 0 | W28: =重み!D28 -> 0 | Y28: =重み!E28 -> 0 | AB28: =重み!M28 -> 0.089655172 | AD28: =重み!N28 -> 0 | AP28: =ROUNDDOWN(AT28,1) -> 0
D29: 8 | E29: 監視システム | M29: =ROUNDDOWN(S29,1) -> 0 | N29: =W29 -> 0 | O29: =ROUNDDOWN(T29,1) -> 0 | P29: =Y29 -> 0 | S29: =IF(採点Q1!K212="対象外",0,採点Q1!K212) -> 0 | V29: =M29 -> 0 | W29: =重み!D29 -> 0 | Y29: =重み!E29 -> 0 | AB29: =重み!M29 -> 0 | AD29: =重み!N29 -> 0 | AP29: =ROUNDDOWN(AT29,1) -> 0
C30: 2.2 | D30: 湿度制御 | G30: 5 | M30: =ROUNDDOWN(S30,1) -> 3 | N30: =W30 -> 0.2 | O30: =ROUNDDOWN(T30,1) -> 0 | P30: =Y30 -> 0 | S30: =IF(採点Q1!F221="対象外",0,採点Q1!F221) -> 3 | T30: =採点Q1!K221 -> 0 | V30: =M30 -> 3 | W30: =重み!D30 -> 0.2 | X30: =O30 -> 0 | Y30: =重み!E30 -> 0 | AB30: =重み!M30 -> 0.2 | AD30: =重み!N30 -> 0 | AP30: =ROUNDDOWN(AT30,1) -> 0
C31: 2.3 | D31: 空調方式 | G31: 5 | M31: =ROUNDDOWN(V31,1) -> 3 | N31: =W31 -> 0.3 | O31: =ROUNDDOWN(X31,1) -> 0 | P31: =Y31 -> 0 | S31: =IF(採点Q1!F238="対象外",0,採点Q1!F238) -> 0 | T31: =採点Q1!K238 -> 0 | V31: =SUMPRODUCT(V32:V33,W32:W33) -> 3 | W31: =重み!D31 -> 0.3 | X31: =SUMPRODUCT(X32:X33,Y32:Y33) -> 0 | Y31: =重み!E31 -> 0 | AB31: =重み!M31 -> 0.3 | AD31: =重み!N31 -> 0 | AP31: =ROUNDDOWN(AT31,1) -> 0
D32: 1 | E32: 上下温度差 | M32: =ROUNDDOWN(S32,1) -> 3 | N32: =W32 -> 0.5 | O32: =ROUNDDOWN(X32,1) -> 0 | P32: =Y32 -> 0 | S32: =採点Q1!F255 -> 3 | V32: =M32 -> 3 | W32: =重み!D32 -> 0.5 | Y32: =重み!E32 -> 0 | AB32: =重み!M32 -> 0.5 | AD32: =重み!N32 -> 0 | AP32: =ROUNDDOWN(AT32,1) -> 0
D33: 2 | E33: 平均気流速度 | M33: =ROUNDDOWN(S33,1) -> 3 | N33: =W33 -> 0.5 | O33: =ROUNDDOWN(X33,1) -> 0 | P33: =Y33 -> 0 | S33: =採点Q1!K255 -> 3 | V33: =M33 -> 3 | W33: =重み!D33 -> 0.5 | Y33: =重み!E33 -> 0 | AB33: =重み!M33 -> 0.5 | AD33: =重み!N33 -> 0 | AP33: =ROUNDDOWN(AT33,1) -> 0
B34: 3 | C34: 光・視環境 | M34: =ROUNDDOWN(V34,1) -> 3 | N34: =W34 -> 0.25 | O34: =ROUNDDOWN(X34,1) -> 3 | P34: =Y34 -> 1 | Q34: =ROUNDDOWN(Z34,1) -> 3 | V34: =V35*W35+V39*W39+V43*W43+V46*W46 -> 3 | W34: =重み!D34 -> 0.25 | X34: =X35*Y35+X39*Y39+X43*Y43+X46*Y46 -> 3 | Y34: =SUM(Y35,Y39,Y43,Y46) -> 1 | Z34: =IF(X34=0,V34,IF(V34=0,X34,V34*AB$6+X34*AD$6)) -> 3 | AB34: =重み!M34 -> 0.25 | AD34: =SUM(AD35,AD39,AD43,AD46) -> 0.17241379 | AF34: 3 | AK34: 0 | AP34: =ROUNDDOWN(AT34,1) -> 3 | AQ34: =N34 -> 0.25 | AT34: =IF(AV34=0,0,SUMPRODUCT($AW$7:$BF$7,AF34:AO34)/AV34) -> 3 | AV34: =SUMPRODUCT($AW$7:$BF$7,AW34:BF34) -> 0.34482759 | AW34: =IF(AF34>0,1,0) -> 1 | AX34: =IF(AG34>0,1,0) -> 0 | AY34: =IF(AH34>0,1,0) -> 0 | AZ34: =IF(AI34>0,1,0) -> 0 | BA34: =IF(AJ34>0,1,0) -> 0 | BB34: =IF(AK34>0,1,0) -> 0 | BC34: =IF(AL34>0,1,0) -> 0 | BD34: =IF(AM34>0,1,0) -> 0 | ... BF34: =IF(AO34>0,1,0) -> 0
C35: 3.1 | D35: 昼光利用 | G35: 5 | M35: =ROUNDDOWN(V35,1) -> 3 | N35: =W35 -> 0.3 | O35: =ROUNDDOWN(X35,1) -> 3 | P35: =Y35 -> 0.3 | V35: =SUMPRODUCT(V36:V38,W36:W38) -> 3 | W35: =重み!D35 -> 0.3 | X35: =SUMPRODUCT(X36:X38,Y36:Y38) -> 3 | Y35: =重み!E35 -> 0.3 | AB35: =重み!M35 -> 0.3 | AD35: =重み!N35 -> 0.051724138 | AP35: =ROUNDDOWN(AT35,1) -> 0
D36: 1 | E36: 昼光率 | M36: =ROUNDDOWN(S36,1) -> 3 | N36: =W36 -> 0.6 | O36: =ROUNDDOWN(T36,1) -> 3 | P36: =Y36 -> 0.5 | S36: =IF(採点Q1!F266="対象外",0,採点Q1!F266) -> 3 | T36: =採点Q1!K266 -> 3 | V36: =M36 -> 3 | W36: =重み!D36 -> 0.6 | X36: =O36 -> 3 | Y36: =重み!E36 -> 0.5 | AB36: =重み!M36 -> 0.6 | AD36: =重み!N36 -> 0.086206897 | AP36: =ROUNDDOWN(AT36,1) -> 0
D37: 2 | E37: 方位別開口 | M37: =ROUNDDOWN(S37,1) -> 0 | N37: =W37 -> 0 | O37: =ROUNDDOWN(T37,1) -> 3 | P37: =Y37 -> 0.3 | T37: =採点Q1!F275 -> 3 | W37: =重み!D37 -> 0 | X37: =O37 -> 3 | Y37: =重み!E37 -> 0.3 | AB37: =重み!M37 -> 0 | AD37: =重み!N37 -> 0.051724138 | AP37: =ROUNDDOWN(AT37,1) -> 0
D38: 3 | E38: 昼光利用設備 | M38: =ROUNDDOWN(S38,1) -> 3 | N38: =W38 -> 0.4 | O38: =ROUNDDOWN(T38,1) -> 3 | P38: =Y38 -> 0.2 | S38: =IF(採点Q1!F284="対象外",0,採点Q1!F284) -> 3 | T38: =採点Q1!K284 -> 3 | V38: =M38 -> 3 | W38: =重み!D38 -> 0.4 | X38: =O38 -> 3 | Y38: =重み!E38 -> 0.2 | AB38: =重み!M38 -> 0.4 | AD38: =重み!N38 -> 0.034482759 | AP38: =ROUNDDOWN(AT38,1) -> 0
C39: 3.2 | D39: グレア対策 | G39: 5 | M39: =ROUNDDOWN(V39,1) -> 3 | N39: =W39 -> 0.23793103 | O39: =ROUNDDOWN(X39,1) -> 3 | P39: =Y39 -> 0.3 | V39: =SUMPRODUCT(V40:V42,W40:W42) -> 3 | W39: =重み!D39 -> 0.23793103 | X39: =SUMPRODUCT(X40:X42,Y40:Y42) -> 3 | Y39: =重み!E39 -> 0.3 | AB39: =重み!M39 -> 0.23793103 | AD39: =重み!N39 -> 0.051724138 | AP39: =ROUNDDOWN(AT39,1) -> 0
D40: 1 | E40: 照明器具のグレア | M40: =ROUNDDOWN(S40,1) -> 0 | N40: =W40 -> 0 | O40: =ROUNDDOWN(T40,1) -> 0 | P40: =Y40 -> 0 | S40: =IF(採点Q1!F294="対象外",0,採点Q1!F294) -> 0 | T40: =採点Q1!K294 -> 0 | V40: =M40 -> 0 | W40: =重み!D40 -> 0 | X40: =O40 -> 0 | Y40: =重み!E40 -> 0 | AB40: =重み!M40 -> 0.28965517 | AD40: =重み!N40 -> 0.068965517 | AP40: =ROUNDDOWN(AT40,1) -> 0
D41: 1 | E41: 昼光制御 | M41: =ROUNDDOWN(S41,1) -> 3 | N41: =W41 -> 0.83561644 | O41: =ROUNDDOWN(T41,1) -> 3 | P41: =Y41 -> 1 | S41: =IF(採点Q1!F303="対象外",0,採点Q1!F303) -> 3 | T41: =採点Q1!K303 -> 3 | V41: =M41 -> 3 | W41: =重み!D41 -> 0.83561644 | X41: =O41 -> 3 | Y41: =重み!E41 -> 1 | AB41: =重み!M41 -> 0.42068966 | AD41: =重み!N41 -> 0.10344828 | AP41: =ROUNDDOWN(AT41,1) -> 0
D42: 2 | E42: 映り込み対策 | M42: =ROUNDDOWN(S42,1) -> 3 | S42: =採点Q1!F312 -> 3 | V42: =M42 -> 3 | W42: =重み!D42 -> 0.16438356 | X42: =O42 -> 0 | Y42: =重み!E42 -> 0 | AB42: =重み!M42 -> 0.082758621 | AD42: =重み!N42 -> 0 | AP42: =ROUNDDOWN(AT42,1) -> 0
...

Sheet 配慮
B1: ■ 環境設計の配慮事項 | D1: ■建物名称 | E1: =メイン!C11 -> ○○ビル
C3: 計画上の配慮事項
B4: 総合 | C4: 注） 設計における総合的なコンセプトを簡潔に記載してください。
B5: Q1 室内環境 | C5: 注） 「Q1 室内環境」に対する配慮事項を簡潔に記載してください。
B6: Q2 サービス性能 | C6: 注） 「Q2 サービス性能」に対する配慮事項を簡潔に記載してください。
B7: Q3 室外環境（敷地内） | C7: 注） 「Q3 室外環境（敷地内）」に対する配慮事項を簡潔に記載してください。
B8: LR1 エネルギー | C8: 注） 「LR1 エネルギー」に対する配慮事項を簡潔に記載してください。
B9: LR2 資源・マテリアル | C9: 注） 「LR2 資源・マテリアル」に対する配慮事項を簡潔に記載してください。
B10: LR3 敷地外環境 | C10: 注） 「LR3 敷地外環境」に対する配慮事項を簡潔に記載してください。
B11: その他 | C11: 注） 上記の６つのカテゴリー以外に、建設工事における廃棄物削減・リサイクル、歴史的建造物の保存など、建物自体の環境性能としてＣＡＳＢＥＥで評価し難い環境配慮の取組みがあれば、ここに記載してください。

Sheet 係数
B2: 排出係数の設定
B3: 標準計算に用いる電力の排出係数（設定値） | H3: 平成２４年度の電気事業者別実排出係数等の公表値 | O3: 0 | P3: ←オプションボタン番号
C4: 電力事業社名/根拠等 | D4: 排出係数 | H4: ◇算定省令に基づく電気事業者ごとの実排出係数及び代替値
C5: =IF($O$7=0,"根拠を記入してください",$O$7) -> 根拠を記入してください | D5: =IF($P$7=0,O9,$P$7) -> N.A. | E5: ｔ-CO2/kWh | H5: [1]実排出係数
I6: =CO2データ!D105 -> 北海道電力株式会社 | J6: =CO2データ!I105 -> 0.000688 | O6: ↓事業社名 | P6: ↓排出係数
I7: =CO2データ!D106 -> 東北電力株式会社 | J7: =CO2データ!I106 -> 0.0006 | O7: =IF($O$3=1,C10,IF($O$3=2,C16,IF($O$3=3,C20,IF($O$3=4,C24,C28)))) -> 0 | P7: =IF($O$3=1,D10,IF($O$3=2,D16,IF($O$3=3,D20,IF($O$3=4,D24,D28)))) -> 0
B8: （１）評価条件として、与えられた排出係数を用いる場合 | I8: =CO2データ!D107 -> 東京電力株式会社 | J8: =CO2データ!I107 -> 0.000525
C9: 電力事業社名/根拠等 | D9: 排出係数 | I9: =CO2データ!D108 -> 中部電力株式会社 | J9: =CO2データ!I108 -> 0.000516 | O9: N.A.
E10: (t-CO2/kWh) | I10: =CO2データ!D109 -> 北陸電力株式会社 | J10: =CO2データ!I109 -> 0.000663
I11: =CO2データ!D110 -> 関西電力株式会社 | J11: =CO2データ!I110 -> 0.000514
B12: （２）温暖化対策推進法に基づく温室効果ガス排出量の算定方法を参考とする場合 | I12: =CO2データ!D111 -> 中国電力株式会社 | J12: =CO2データ!I111 -> 0.000738
B13: ① | C13: 電気事業者（一般電気事業者及び特定規模電気事業者（PPS））から供給された電気 | I13: =CO2データ!D112 -> 四国電力株式会社 | J13: =CO2データ!I112 -> 0.0007
I14: =CO2データ!D113 -> 九州電力株式会社 | J14: =CO2データ!I113 -> 0.000612
C15: 事業者名 | D15: 排出係数 | I15: =CO2データ!D114 -> 沖縄電力株式会社 | J15: =CO2データ!I114 -> 0.000903
D16: =VLOOKUP(C16,C50:D88,2) -> #N/A | E16: (t-CO2/kWh) | I16: =CO2データ!D115 -> イーレックス株式会社 | J16: =CO2データ!I115 -> 0.000603
I17: =CO2データ!D116 -> 出光グリーンパワー株式会社 | J17: =CO2データ!I116 -> 8.6e-05
B18: ② | C18: その他 | I18: =CO2データ!D117 -> 伊藤忠エネクス株式会社 | J18: =CO2データ!I117 -> 0.000676
C19: 電力事業社名/根拠等 | D19: 排出係数 | I19: =CO2データ!D118 -> エネサーブ株式会社 | J19: =CO2データ!I118 -> 0.000616
E20: (t-CO2/kWh) | I20: =CO2データ!D119 -> 荏原環境プラント株式会社 | J20: =CO2データ!I119 -> 0.000456
I21: =CO2データ!D120 -> 王子製紙株式会社 | J21: =CO2データ!I120 -> 0.000475
B22: ③ | C22: 代替値 | I22: =CO2データ!D121 -> オリックス株式会社 | J22: =CO2データ!I121 -> 0.000762
C23: 根拠等 | D23: 排出係数 | I23: =CO2データ!D122 -> 株式会社イーセル | J23: =CO2データ!I122 -> 0
C24: 代替値 | D24: =IF($O$3=4,J46,"") | E24: (t-CO2/kWh) | I24: =CO2データ!D123 -> 株式会社エネット | J24: =CO2データ!I123 -> 0.000429
I25: =CO2データ!D124 -> 株式会社Ｆ－Ｐｏｗｅｒ | J25: =CO2データ!I124 -> 0.000525
B26: （３）上記以外の場合 | I26: =CO2データ!D125 -> 株式会社Ｇ－Ｐｏｗｅｒ | J26: =CO2データ!I125 -> 0.000441
C27: 電力事業社名/根拠等 | D27: 排出係数 | I27: =CO2データ!D126 -> 株式会社日本セレモニー | J27: =CO2データ!I126 -> 0.000797
E28: (t-CO2/kWh) | I28: =CO2データ!D127 -> サミットエナジー株式会社 | J28: =CO2データ!I127 -> 0.000438
I29: =CO2データ!D128 -> ＪＸ日鉱日石エネルギー株式会社 | J29: =CO2データ!I128 -> 0.000367
I30: =CO2データ!D129 -> ＪＥＮホールディングス株式会社 | J30: =CO2データ!I129 -> 0.000494
I31: =CO2データ!D130 -> 志賀高原リゾート開発株式会社 | J31: =CO2データ!I130 -> 0.000312
I32: =CO2データ!D131 -> 昭和シェル石油株式会社 | J32: =CO2データ!I131 -> 0.000367
I33: =CO2データ!D132 -> 新日鉄住金エンジニアリング株式会社 | J33: =CO2データ!I132 -> 0.000655
I34: =CO2データ!D133 -> 泉北天然ガス発電株式会社 | J34: =CO2データ!I133 -> 0.000388
I35: =CO2データ!D134 -> ダイヤモンドパワー株式会社 | J35: =CO2データ!I134 -> 0.000431
I36: =CO2データ!D135 -> テス・エンジニアリング株式会社 | J36: =CO2データ!I135 -> 0.000494
I37: =CO2データ!D136 -> 東京エコサービス株式会社 | J37: =CO2データ!I136 -> 9.2e-05
I38: =CO2データ!D137 -> 日本テクノ株式会社 | J38: =CO2データ!I137 -> 0.000508
I39: =CO2データ!D138 -> 日本ロジテック協同組合 | J39: =CO2データ!I138 -> 0.000486
I40: =CO2データ!D139 -> パナソニック株式会社 | J40: =CO2データ!I139 -> 0.000498
I41: =CO2データ!D140 -> プレミアムグリーンパワー株式会社 | J41: =CO2データ!I140 -> 1.8e-05
...

Sheet 採点Q1
M1: ■建物名称 | N1: =メイン!C11 -> ○○ビル | R1: プルダウン選択肢
D3: Q1 室内環境 | J3: 色欄について、プルダウンメニューから選択、または数値・コメントを記入のこと | O3: =IF(メイン!E39=0,"",メイン!E39) | R3: <評価しない> | U3: =メイン!I39 -> 基本設計段階
S4: ○ | T4: ON | U4: =メイン!I40 -> 実施設計段階
D5: 1 | E5: 音環境 | U5: =メイン!I41 -> 竣工段階
D6: 1.1 | E6: 騒音 | O6: dB(A) | U6: =メイン!Q42 -> 0
F7: 1.1.1 室内騒音レベル | J7: =IF(OR(F9=0,AND(J8=0,O8=0)),$R$3,"") | O7: dB(A)
F8: 建物全体・共用部分 | I8: 重み係数(既定）＝ | J8: =重み!M12 -> 0.79310345 | L8: 住居・宿泊部分 | N8: 重み係数(既定）＝ | O8: =重み!N12 -> 0.17241379
F9: 3 | G9: 事・病(待)・ホ・工・住 | H9: 学(大学等)・ 会(図)・病(診) | I9: 物・飲 | J9: 会(その他) | K9: 学(小中高) | L9: 3 | M9: 病・ホ・住
B10: 1 | C10: 1 | F10: =IF(F9=$S$15,$T$10,IF(ROUNDDOWN(F9,0)=$S$10,$U$10,$T$10)) -> レベル 1 | G10: 50＜ [騒音レベル] （騒音を感じる） | H10: 45＜ [騒音レベル] （やや騒音を感じる） | I10: 55＜ [騒音レベル] （騒音を無視できない） | J10: 40＜ [騒音レベル] （特に気にならない） | K10: 60＜ [騒音レベル] | L10: =IF(L9=$S$15,$T$10,IF(ROUNDDOWN(L9,0)=$S$10,$U$10,$T$10)) -> レベル 1 | M10: 45＜ [騒音レベル] （やや騒音を感じる） | S10: 1 | T10: レベル 1 | U10: ■レベル 1
B11: 2 | C11: - | F11: =IF(F9=$S$15,$T$11,IF(ROUNDDOWN(F9,0)=$S$11,$U$11,$T$11)) -> レベル 2 | G11: (該当するレベルなし) | H11: (該当するレベルなし) | I11: (該当するレベルなし) | J11: (該当するレベルなし) | K11: 50＜ [騒音レベル] ≦60 | L11: =IF(L9=$S$15,$T$11,IF(ROUNDDOWN(L9,0)=$S$11,$U$11,$T$11)) -> レベル 2 | M11: (該当するレベルなし) | S11: 2 | T11: レベル 2 | U11: ■レベル 2
B12: 3 | C12: 3 | F12: =IF(F9=$S$15,$T$12,IF(ROUNDDOWN(F9,0)=$S$12,$U$12,$T$12)) -> ■レベル 3 | G12: 45＜ [騒音レベル] ≦50 （やや騒音を感じる） | H12: 40＜ [騒音レベル] ≦45 （特に気にならない） | I12: 50＜ [騒音レベル] ≦55 （騒音を感じる） | J12: 35＜ [騒音レベル] ≦40 （静か） | K12: 45＜ [騒音レベル] ≦50 | L12: =IF(L9=$S$15,$T$12,IF(ROUNDDOWN(L9,0)=$S$12,$U$12,$T$12)) -> ■レベル 3 | M12: 40＜ [騒音レベル] ≦45 （特に気にならない） | S12: 3 | T12: レベル 3 | U12: ■レベル 3
B13: 4 | C13: 4 | F13: =IF(F9=$S$15,$T$13,IF(ROUNDDOWN(F9,0)=$S$13,$U$13,$T$13)) -> レベル 4 | G13: 40＜ [騒音レベル] ≦45 | H13: 35＜ [騒音レベル] ≦40 | I13: 45＜ [騒音レベル] ≦50 | J13: 30＜ [騒音レベル] ≦35 | K13: 35＜ [騒音レベル] ≦45 | L13: =IF(L9=$S$15,$T$13,IF(ROUNDDOWN(L9,0)=$S$13,$U$13,$T$13)) -> レベル 4 | M13: 35＜ [騒音レベル] ≦40 | S13: 4 | T13: レベル 4 | U13: ■レベル 4
B14: 5 | C14: 5 | F14: =IF(F9=$S$15,$T$14,IF(ROUNDDOWN(F9,0)=$S$14,$U$14,$T$14)) -> レベル 5 | G14: [騒音レベル] ≦40 | H14: [騒音レベル] ≦35 | I14: [騒音レベル] ≦45 | J14: [騒音レベル] ≦30 | K14: [騒音レベル] ≦35 | L14: =IF(L9=$S$15,$T$14,IF(ROUNDDOWN(L9,0)=$S$14,$U$14,$T$14)) -> レベル 5 | M14: [騒音レベル] ≦35 | S14: 5 | T14: レベル 5 | U14: ■レベル 5
B15: 0 | C15: 0 | F15: 騒音： 室内許容騒音レベル＊ | S15: 0 | T15: レベル | U15: レベル
F16: dB(A) | G16: ２０ | H16: ２５ | I16: ３０ | J16: ３５ | K16: ４０ | L16: ４５ | M16: ５０ | N16: ５５ | O16: ６０
F17: ＮＣ～ＮＲ | G17: １０～１５ | H17: １５～２０ | I17: ２０～２５ | J17: ２５～３０ | K17: ３０～３５ | L17: ３５～４０ | M17: ４０～４５ | N17: ４５～５０ | O17: ５０～５５
F18: うるささ | G18: 無音感――― | H18: ―――――――――非常に静か――――――――― | K18: ―特に気にならない―――――― | M18: 騒音を感じる― | N18: ――――――騒音を無視できない
F19: 会話・電話への影響 | I19: ５ｍ離れてささ | K19: ――――１０ｍ離れて会議可能―――― | M19: ――普通会話（３ｍ以内）―――― | O19: 大声会話（３ｍ）
I20: やき声が聞こえる | K20: 電話は支障なし | L20: ―――――― | M20: 電話は可能― | N20: ―――――― | O20: 電話やや困難
F21: スタジオ | G21: 無音室 | H21: アナウンススタジオ | I21: ラジオスタジオ | J21: テレビスタジオ | K21: 主調整室 | L21: 一般事務室
F22: 集会・ホール | H22: 音楽堂 | I22: 劇場（中） | J22: 舞台劇場 | K22: 映画館・プラネタリウム | M22: ホテルロビー
F23: 病院 | H23: 聴力試験室 | I23: 特別病室 | J23: 手術室・病室 | K23: 診療室 | L23: 検査室 | M23: 待合室
F24: ホテル・住宅 | J24: 書斎 | K24: 寝室・客室 | L24: 宴会場 | M24: ロビー
F25: 一般事務室 | J25: 重役室・大会議室 | K25: 応接室 | L25: 小会議室 | M25: 一般事務室 | O25: タイプ・計算室
F26: 公共建物 | J26: 公会堂 | K26: 美術館・博物館 | L26: 図書閲覧室 | M26: 公会堂兼体育館 | N26: 屋内スポーツ施設（拡）
F27: 学校・教会 | J27: 音楽教室 | K27: 講堂・礼拝堂 | L27: 研究室・普通教室 | N27: 廊下
F28: 商業建物 | K28: 音楽喫茶店 | L28: 書籍店 | M28: 一般商店
K29: 宝石店・美術品店 | M29: 銀行・レストラン | N29: 食堂
O30: ＊）日本建築学会編：建築設計資料集成Ⅰ、環境、p13、丸善、1978
F32: 1.1.2 設備騒音対策 | J32: =IF(OR(F34=0,AND(J33=0,O33=0)),$R$3,"") -> <評価しない>
F33: 建物全体・共用部分 | I33: 重み係数(既定）＝ | J33: =重み!M13 -> 0.20689655 | K33: 住居・宿泊部分 | N33: 重み係数(既定）＝ | O33: =重み!N13 -> 0
F34: =IF(J33=0,0,F45) -> 0 | G34: 事・学・物・飲・会・病・ホ・工 | I34: 事・学・物・飲・会・病・ホ・工（2000㎡未満） | K34: =IF(O33=0,0,IF(O45+K57=0,0,ROUND(G45*O45/(O45+K57)+G57*K57/(O45+K57),0))) -> 0 | L34: 病・ホ | M34: 病・ホ（2000㎡未満） | N34: 住
F35: =IF(F34=$S$15,$T$10,IF(ROUNDDOWN(F34,0)=$S$10,$U$10,$T$10)) -> レベル 1 | G35: 騒音対策を行っていない（評価する取組みにおいてなんら取組みがない） | I35: 騒音対策を行っていない（評価する取組みにおいてなんら取組みがない） | K35: =IF(K34=$S$15,$T$10,IF(ROUNDDOWN(K34,0)=$S$10,$U$10,$T$10)) -> レベル 1 | L35: 騒音対策を行っていない（評価する取組みにおいてなんら取組みがない） | M35: 騒音対策を行っていない（評価する取組みにおいてなんら取組みがない） | N35: 騒音対策を行っていない（評価する取組みにおいてなんら取組みがない）
F36: =IF(F34=$S$15,$T$11,IF(ROUNDDOWN(F34,0)=$S$11,$U$11,$T$11)) -> レベル 2 | G36: 若干の対策を行っている（評価する取組みにおいて2項目以上を採用） | I36: 若干の対策を行っている（評価する取組みにおいて1項目以上を採用） | K36: =IF(K34=$S$15,$T$11,IF(ROUNDDOWN(K34,0)=$S$11,$U$11,$T$11)) -> レベル 2 | L36: 若干の対策を行っている（評価する取組みにおいて2項目以上を採用） | M36: 若干の対策を行っている（評価する取組みにおいて1項目以上を採用）
F37: =IF(F34=$S$15,$T$12,IF(ROUNDDOWN(F34,0)=$S$12,$U$12,$T$12)) -> レベル 3 | G37: 対策を行っている（評価する取組みにおいて4項目以上を採用） | I37: 対策を行っている（評価する取組みにおいて2項目以上を採用） | K37: =IF(K34=$S$15,$T$12,IF(ROUNDDOWN(K34,0)=$S$12,$U$12,$T$12)) -> レベル 3 | L37: 対策を行っている（評価する取組みにおいて4項目以上を採用） | M37: 対策を行っている（評価する取組みにおいて2項目以上を採用） | N37: 対策を行っている（評価する取組みにおいて2～3項目以上を採用）
F38: =IF(F34=$S$15,$T$13,IF(ROUNDDOWN(F34,0)=$S$13,$U$13,$T$13)) -> レベル 4 | G38: やや高度な対策を行っている（評価する取組みにおいて6項目以上を採用） | I38: やや高度な対策を行っている（評価する取組みにおいて3項目以上を採用） | K38: =IF(K34=$S$15,$T$13,IF(ROUNDDOWN(K34,0)=$S$13,$U$13,$T$13)) -> レベル 4 | L38: やや高度な対策を行っている（評価する取組みにおいて6項目以上を採用） | M38: やや高度な対策を行っている（評価する取組みにおいて3項目以上を採用）
F39: =IF(F34=$S$15,$T$14,IF(ROUNDDOWN(F34,0)=$S$14,$U$14,$T$14)) -> レベル 5 | G39: 高度な対策を行っている（評価する取組みにおいて全ての項目を採用） | I39: 高度な対策を行っている（評価する取組みにおいて全ての項目を採用） | K39: =IF(K34=$S$15,$T$14,IF(ROUNDDOWN(K34,0)=$S$14,$U$14,$T$14)) -> レベル 5 | L39: 高度な対策を行っている（評価する取組みにおいて全ての項目を採用） | M39: 高度な対策を行っている（評価する取組みにおいて全ての項目を採用） | N39: 高度な対策を行っている（評価する取組みにおいて全ての項目を採用）
F40: A.住宅以外の建築物における設備騒音対策の評価する取組み
G41: 2,000㎡未満の基準で評価する。
F43: .建物全体・共用部分 | G43: 住居・宿泊部分
...

Sheet 採点Q2
M1: ■建物名称 | N1: =メイン!C11 -> ○○ビル | R1: プルダウン選択肢
D3: Q2 サービス性能 | J3: 色欄について、プルダウンメニューから選択、または数値・コメントを記入のこと | O3: =IF(メイン!E39=0,"",メイン!E39) | R3: <評価しない> | S3: ○ | U3: =メイン!I39 -> 基本設計段階
T4: ON | U4: =メイン!I40 -> 実施設計段階 | V4: 特定建築物に該当する場合の取組みで評価する
D5: 1 | E5: 機能性 | U5: =メイン!I41 -> 竣工段階
D6: 1.1 | E6: 機能性・使いやすさ | S6: はい | U6: =メイン!Q42 -> 0
F7: 1.1.1 広さ・収納性 | J7: =IF(OR(F9=0,AND(J8=0,O8=0)),$R$3,"") | S7: いいえ
F8: 建物全体・共用部分 | I8: 重み係数(既定）＝ | J8: =重み!M64 -> 0.25287356 | K8: 住居・宿泊部分 | N8: 重み係数(既定）＝ | O8: =重み!N64 -> 0
F9: 3 | G9: 事・工 | I9: 学校 | K9: 3 | L9: 病 | N9: ホ
B10: 1 | C10: 1 | F10: =IF(F9=$S$15,$T$10,IF(ROUNDDOWN(F9,0)=$S$10,$U$10,$T$10)) -> レベル 1 | G10: レベル３を満たさない。 | I10: （該当するレベルなし） | K10: =IF(K9=$S$15,$T$10,IF(ROUNDDOWN(K9,0)=$S$10,$U$10,$T$10)) -> レベル 1 | L10: レベル３を満たさない。 | N10: レベル３を満たさない。 | S10: 1 | T10: レベル 1 | U10: ■レベル 1
B11: - | C11: - | F11: =IF(F9=$S$15,$T$11,IF(ROUNDDOWN(F9,0)=$S$11,$U$11,$T$11)) -> レベル 2 | G11: (該当するレベルなし) | I11: 教室の不足がある | K11: =IF(K9=$S$15,$T$11,IF(ROUNDDOWN(K9,0)=$S$11,$U$11,$T$11)) -> レベル 2 | L11: (該当するレベルなし) | N11: (該当するレベルなし) | S11: 2 | T11: レベル 2 | U11: ■レベル 2
B12: 3 | C12: 3 | F12: =IF(F9=$S$15,$T$12,IF(ROUNDDOWN(F9,0)=$S$12,$U$12,$T$12)) -> ■レベル 3 | G12: 1人当たりの執務スペースが6㎡以上。 | I12: 教室の不足がない | K12: =IF(K9=$S$15,$T$12,IF(ROUNDDOWN(K9,0)=$S$12,$U$12,$T$12)) -> ■レベル 3 | L12: 個室8㎡/床で、かつ多床室6㎡/床以上。 | N12: シングル15㎡以上、かつツイン22㎡以上。 | S12: 3 | T12: レベル 3 | U12: ■レベル 3
B13: 4 | C13: 4 | F13: =IF(F9=$S$15,$T$13,IF(ROUNDDOWN(F9,0)=$S$13,$U$13,$T$13)) -> レベル 4 | G13: 1人当たりの執務スペースが9㎡以上。 | I13: （該当するレベルなし） | K13: =IF(K9=$S$15,$T$13,IF(ROUNDDOWN(K9,0)=$S$13,$U$13,$T$13)) -> レベル 4 | L13: (該当するレベルなし) | N13: シングル22㎡以上、かつツイン32㎡以上。 | S13: 4 | T13: レベル 4 | U13: ■レベル 4
B14: 5 | C14: 5 | F14: =IF(F9=$S$15,$T$14,IF(ROUNDDOWN(F9,0)=$S$14,$U$14,$T$14)) -> レベル 5 | G14: 1人当たりの執務スペースが12㎡以上。 | I14: （該当するレベルなし） | K14: =IF(K9=$S$15,$T$14,IF(ROUNDDOWN(K9,0)=$S$14,$U$14,$T$14)) -> レベル 5 | L14: 個室10㎡/床で、かつ多床室8㎡/床以上。 | N14: シングル30㎡以上、かつツイン40㎡以上。 | S14: 5 | T14: レベル 5 | U14: ■レベル 5
B15: 0 | C15: 0 | S15: 0 | T15: レベル | U15: レベル
F16: 1.1.2 高度情報通信設備対応 | J16: =IF(OR(F18=0,AND(J17=0,O17=0)),$R$3,"")
F17: 建物全体・共用部分 | I17: 重み係数(既定）＝ | J17: =重み!M65 -> 0.11494253 | K17: 住居・宿泊部分 | N17: 重み係数(既定）＝ | O17: =重み!N65 -> 0.17241379
F18: 3 | G18: 事・工 | K18: 3 | L18: ホ・住
B19: 1 | C19: 1 | F19: =IF(F18=$S$15,$T$10,IF(ROUNDDOWN(F18,0)=$S$10,$U$10,$T$10)) -> レベル 1 | G19: レベル２を満たさない。 | K19: =IF(K18=$S$15,$T$10,IF(ROUNDDOWN(K18,0)=$S$10,$U$10,$T$10)) -> レベル 1 | L19: レベル２を満たさない。
B20: 2 | C20: 2 | F20: =IF(F18=$S$15,$T$11,IF(ROUNDDOWN(F18,0)=$S$11,$U$11,$T$11)) -> レベル 2 | G20: ＯＡフロア等によりレイアウト変更に対応できるようになっており、かつＯＡ機器用コンセント容量が30ＶＡ/ｍ2以上となっている。加えて、通信に関しては、ビル内へ光ファイバーが引き込まれている。 | K20: =IF(K18=$S$15,$T$11,IF(ROUNDDOWN(K18,0)=$S$11,$U$11,$T$11)) -> レベル 2 | L20: 各住戸または各客室に電話、放送に対応した通信回線が引き込まれている。
B21: 3 | C21: 3 | F21: =IF(F18=$S$15,$T$12,IF(ROUNDDOWN(F18,0)=$S$12,$U$12,$T$12)) -> ■レベル 3 | G21: ＯＡフロア等によりレイアウト変更に対応できるようになっており、かつＯＡ機器用コンセント容量が30ＶＡ/ｍ2以上となっている。加えて、通信に関しては、レベル２をみたすとともに、2.5坪当たり１台の情報通信機器（電話１台、PC１台）を想定した通信回線が各階に引き込まれている。 | K21: =IF(K18=$S$15,$T$12,IF(ROUNDDOWN(K18,0)=$S$12,$U$12,$T$12)) -> ■レベル 3 | L21: レベル２を満たすとともに、レベル４に満たないインターネットサービスが提供されている。
B22: 4 | C22: 4 | F22: =IF(F18=$S$15,$T$13,IF(ROUNDDOWN(F18,0)=$S$13,$U$13,$T$13)) -> レベル 4 | G22: ＯＡフロア等によりレイアウト変更に対応できるようになっており、かつＯＡ機器用コンセント容量が40ＶＡ/ｍ2以上となっている。加えて、通信に関しては、レベル３を満たすとともに、複数の通信事業者の回線がビル内へ引き込まれており、各階への通信事業者用配線スペースが別途、確保されている。また、これらの更新履歴が図面に反映され、保存されている。 | K22: =IF(K18=$S$15,$T$13,IF(ROUNDDOWN(K18,0)=$S$13,$U$13,$T$13)) -> レベル 4 | L22: 各住戸または各客室に100Mbitクラスのブロードバンドが利用可能な環境が整備されていること。また、これらの更新履歴が図面に反映され、保存されている。
B23: 5 | C23: 5 | F23: =IF(F18=$S$15,$T$14,IF(ROUNDDOWN(F18,0)=$S$14,$U$14,$T$14)) -> レベル 5 | G23: ＯＡフロア等によりレイアウト変更に対応できるようになっており、かつＯＡ機器用コンセント容量が50ＶＡ/ｍ2以上となっている。加えて、通信に関しては、レベル４を満たすとともに、各階へはGigabit通信回線が引き込まれており、別途、フロア間通信のためのテナントEPSが確保されている。また、これらの更新履歴が図面に反映され、保存されている。 | K23: =IF(K18=$S$15,$T$14,IF(ROUNDDOWN(K18,0)=$S$14,$U$14,$T$14)) -> レベル 5 | L23: 各住戸または各客室にGbitクラスのブロードバンドが利用可能な環境が整備されていること。また、これらの更新履歴が図面に反映され、保存されている。
B24: 0 | C24: 0
F25: 1.1.3 バリアフリー計画 | J25: =IF(OR(F27=0,AND(J26=0,O26=0)),$R$3,"")
F26: 建物全体・共用部分 | I26: 重み係数(既定）＝ | J26: =重み!M66 -> 0.63218391
F27: 3 | G27: 物・飲・会・病・ホ | K27: 事・学・工・住 | M27: 物・飲・会・病・ホ【<2000㎡】
B28: 1 | C28: 1 | F28: =IF(F27=$S$15,$T$10,IF(ROUNDDOWN(F27,0)=$S$10,$U$10,$T$10)) -> レベル 1 | G28: レベル３を満たさない。 | K28: レベル３を満たさない。
B29: - | C29: - | F29: =IF(F27=$S$15,$T$11,IF(ROUNDDOWN(F27,0)=$S$11,$U$11,$T$11)) -> レベル 2 | G29: (該当するレベルなし) | K29: (該当するレベルなし)
B30: 3 | C30: 3 | F30: =IF(F27=$S$15,$T$12,IF(ROUNDDOWN(F27,0)=$S$12,$U$12,$T$12)) -> ■レベル 3 | G30: バリアフリー新法の建築物移動等円滑化基準（最低限のレベル）を満たしている。 | K30: バリアフリー新法の建築物移動等円滑化基準項目の半分以上を満たしている。
B31: 4 | C31: 4 | F31: =IF(F27=$S$15,$T$13,IF(ROUNDDOWN(F27,0)=$S$13,$U$13,$T$13)) -> レベル 4 | G31: バリアフリー新法の建築物移動等円滑化誘導基準（望ましいレベル）を満たしている。 | K31: バリアフリー新法の建築物移動等円滑化基準（最低限のレベル）を満たしている。
B32: 5 | C32: 5 | F32: =IF(F27=$S$15,$T$14,IF(ROUNDDOWN(F27,0)=$S$14,$U$14,$T$14)) -> レベル 5 | G32: バリアフリー新法の建築物移動等円滑化誘導基準（望ましいレベル）を超えてさらに十分な配慮を行っており、ユニバーサルなデザインとなっている。 | K32: バリアフリー新法の建築物移動等円滑化誘導基準（望ましいレベル）を満たしている。
B33: 0 | C33: 0
D34: 1.2 | E34: 心理性・快適性
F35: 1.2.1 広さ感・景観 | J35: =IF(OR(F37=0,AND(J36=0,O36=0)),$R$3,"")
B36: 既存は事務所のみ評価 | F36: 建物全体・共用部分 | I36: 重み係数(既定）＝ | J36: =重み!M68 -> 0.11494253 | M36: 住居・宿泊部分 | N36: 重み係数(既定）＝ | O36: =重み!N68 -> 0
F37: 3 | G37: 事 | I37: 物・飲 | K37: 学(大学等) | L37: 学（小中高） | M37: 0 | N37: 病・ホ・住
B38: 1 | C38: 1 | F38: =IF(F37=$S$15,$T$10,IF(ROUNDDOWN(F37,0)=$S$10,$U$10,$T$10)) -> レベル 1 | G38: レベル３を満たさない。 | I38: レベル３を満たさない。 | K38: レベル２を満たさない。 | L38: レベル３を満たさない。 | M38: =IF(M37=$S$15,$T$10,IF(ROUNDDOWN(M37,0)=$S$10,$U$10,$T$10)) -> レベル 1 | N38: レベル３を満たさない。
B39: 2 | C39: - | F39: =IF(F37=$S$15,$T$11,IF(ROUNDDOWN(F37,0)=$S$11,$U$11,$T$11)) -> レベル 2 | G39: (該当するレベルなし) | I39: (該当するレベルなし) | K39: 教室の天井高2.7m以上。 | L39: (該当するレベルなし) | M39: =IF(M37=$S$15,$T$11,IF(ROUNDDOWN(M37,0)=$S$11,$U$11,$T$11)) -> レベル 2 | N39: (該当するレベルなし)
B40: 3 | C40: 3 | F40: =IF(F37=$S$15,$T$12,IF(ROUNDDOWN(F37,0)=$S$12,$U$12,$T$12)) -> ■レベル 3 | G40: 事務室の天井高2.5m以上となっており、かつ、すべての執務者が十分な屋外の情報を得られるように窓が設置されている。 | I40: 売場の天井高3.0m以上。 | K40: 教室の天井高3.0m以上。 | L40: 教室の天井高がおおむね2.7mである。 | M40: =IF(M37=$S$15,$T$12,IF(ROUNDDOWN(M37,0)=$S$12,$U$12,$T$12)) -> レベル 3 | N40: 住居・宿泊部の天井高2.3m以上。
B41: 4 | C41: 4 | F41: =IF(F37=$S$15,$T$13,IF(ROUNDDOWN(F37,0)=$S$13,$U$13,$T$13)) -> レベル 4 | G41: 事務室の天井高2.7m以上となっており、かつ、すべての執務者が十分な屋外の情報を得られるように窓が設置されている。 | I41: 売場の天井高3.3m以上。 | K41: 教室の天井高3.1m以上。 | L41: (該当するレベルなし) | M41: =IF(M37=$S$15,$T$13,IF(ROUNDDOWN(M37,0)=$S$13,$U$13,$T$13)) -> レベル 4 | N41: 住居・宿泊部の天井高2.5m以上。
...

Sheet 採点Q3
M1: ■建物名称 | N1: =メイン!C11 -> ○○ビル | R1: プルダウン選択肢
D3: Q3 室外環境（敷地内） | I3: 色欄について、プルダウンメニューから選択、または数値・コメントを記入のこと | O3: =IF(メイン!E39=0,"",メイン!E39) | R3: 0 | S3: ○ | U3: =メイン!I39 -> 基本設計段階
R4: 1 | T4: ON | U4: =メイン!I40 -> 実施設計段階
D5: 1 | E5: 生物環境の保全 | R5: 2 | U5: =メイン!I41 -> 竣工段階
M6: 重み係数(既定）＝ | O6: =重み!M110 -> 0.3 | S6: はい
F7: =ROUND(IF(H28<=2,1,IF(H28<=5,2,IF(H28<=8,3,IF(H28<=11,4,IF(H28>=12,5))))),0) -> 3 | G7: 事・学・物・飲・会・病・ホ・工・住 | R7: - | S7: いいえ
F8: =IF(ROUNDDOWN($F$7,0)=$S$10,$U$10,$T$10) -> レベル 1 | G8: 生物環境の保全に関して配慮に欠け、取り組みが不十分である。(評価ポイント0～2)
F9: =IF(ROUNDDOWN($F$7,0)=$S$11,$U$11,$T$11) -> レベル 2 | G9: 生物環境の保全に関して配慮されているが、取り組みが十分とはいえない。(評価ポイント3～5)
F10: =IF(ROUNDDOWN($F$7,0)=$S$12,$U$12,$T$12) -> ■レベル 3 | G10: 生物環境の保全に関して配慮されており、標準的な取り組みが行われている。(評価ポイント6～8) | S10: 1 | T10: レベル 1 | U10: ■レベル 1
F11: =IF(ROUNDDOWN($F$7,0)=$S$13,$U$13,$T$13) -> レベル 4 | G11: 生物環境の保全に関して配慮されており、比較的多くの取り組みが行われている。(評価ポイント9～11) | S11: 2 | T11: レベル 2 | U11: ■レベル 2
F12: =IF(ROUNDDOWN($F$7,0)=$S$14,$U$14,$T$14) -> レベル 5 | G12: 生物環境の保全に関して十分配慮されており、充実した取り組みが行われている。(評価ポイント12以上） | S12: 3 | T12: レベル 3 | U12: ■レベル 3
G13: 評価する取り組み | S13: 4 | T13: レベル 4 | U13: ■レベル 4
G14: 採点 | H14: 評価項目 | J14: 評価内容 | O14: 評価ポイント | S14: 5 | T14: レベル 5 | U14: ■レベル 5
B15: 既存はなし | G15: 1 | H15: I 生物資源の保存 | J15: 1) 地域の生態系にとって有益な生物資源を保存している。 | O15: 1 | S15: 0 | T15: レベル | U15: レベル
G16: 3 | H16: II 緑の量の確保 | J16: 1) 外構緑化指数が、10％以上20％未満を示す規模の外構緑化を行い、なおかつ中高木を植栽している。（1ポイント） | O16: 1～3
J17: 外構緑化指数が、20％以上50％未満を示す規模の外構緑化を行っている。 （2ポイント）
J18: 外構緑化指数が、50%以上を示す規模の外構緑化を行っている。（3ポイント）
G19: 2 | J19: 2)建物緑化指数が、5％以上20％未満を示す規模の建築物の緑化を行っている。 （1ポイント） | O19: 1～2
J20: 建物緑化指数が、20％以上を示す規模の建築物の緑化を行っている。 （2ポイント）
G21: 1 | H21: III 緑の質の維持 | J21: 1)自生種の保全に配慮した緑地が形成されている。 | O21: 1
G22: 0 | J22: 2)敷地や建物の植栽条件に応じた適切な緑地が形成されている。 | O22: 1
G23: 0 | J23: 3)野生小動物の生息域の確保に配慮した緑地が形成されている。 | O23: 1
G24: 0 | H24: IV 生物資源の管理と利用 | J24: 1)設計当初の緑化計画目標・方針、敷地及びその周辺における生物環境に関わる立地環境特性等を把握・確認し、管理・運営方針を継続的に見直している。 | O24: 1
G25: 0 | J25: 2)緑地等の適切な育成管理・維持管理の実施に加え、極力農薬等化学物質を使用しない維持管理手法を採用している。 | O25: 1
G26: 0 | J26: 3)建物利用者や地域住民が生物とふれあい自然に親しめる環境や施設等を確保している。 | O26: 1
G27: 0 | H27: V その他 | J27: 1)上記の評価項目以外に生物環境の保全と創出に資する独自の取り組みを行っている。 | O27: 1
G28: 合計＝ | H28: =SUM(G15:G27) -> 7
D30: 2 | E30: まちなみ・景観への配慮
M31: 重み係数(既定）＝ | O31: =重み!M111 -> 0.4
F32: =IF(I39="ON",G39,ROUND(IF(H50=0,1,IF(H50<=2,2,IF(H50<=3,3,IF(H50<=4,4,IF(H50>=5,5))))),0)) -> 3 | G32: 事・学・物・飲・会・病・ホ・工・住
F33: =IF(ROUNDDOWN($F$32,0)=$S$10,$U$10,$T$10) -> レベル 1 | G33: (評価ポイント0)
F34: =IF(ROUNDDOWN($F$32,0)=$S$11,$U$11,$T$11) -> レベル 2 | G34: 周辺のまちなみや景観に対して、取組みが十分とはいえない。(評価ポイント1～2）
F35: =IF(ROUNDDOWN($F$32,0)=$S$12,$U$12,$T$12) -> ■レベル 3 | G35: 周辺のまちなみや景観に対して、標準的な配慮が行われている。(評価ポイント3)
F36: =IF(ROUNDDOWN($F$32,0)=$S$13,$U$13,$T$13) -> レベル 4 | G36: 周辺のまちなみや景観に対して、標準以上の配慮が行われている。(評価ポイント4)
F37: =IF(ROUNDDOWN($F$32,0)=$S$14,$U$14,$T$14) -> レベル 5 | G37: 周辺のまちなみや景観に対して、充実した取組みが行われている。 （評価ポイント5以上、又は地域のまちなみ・景観に関する賞を受賞している）
G39: 3 | H39: ← 直接入力
G40: ①公共空間からほとんど見えないなど、まちなみ・景観に配慮しようがない場合はレベル3とする。 ②地域に独自のルール（まちなみガイドライン等）があり、それに基づいた取組みを行っている場合には、その内容を評価する。 ③地域の景観賞、受賞理由に景観が明記されている賞を受賞しているなど一定の評価を得ていると認められる場合、レベル５とする。
G41: 評価する取り組み
G42: 採点 | H42: 評価項目 | J42: 評価内容 | O42: 評価ポイント
G43: 2 | H43: 1）建物の配置・形態等のまちなみへの調和 | J43: 建物高さ、壁面位置、外装･屋根･庇･開口部･塀等の形状や色彩において、周辺のまちなみや風景にバランスよく調和させている。 | O43: 2
...

Sheet 採点LR1
M1: ■建物名称 | N1: =メイン!C11 -> ○○ビル | R1: プルダウン選択肢
D3: LR1 エネルギー | I3: 色欄について、プルダウンメニューから選択、または数値・コメントを記入のこと | O3: =IF(メイン!E39=0,"",メイン!E39) | R3: <評価しない> | S3: ○ | U3: =メイン!I39 -> 基本設計段階
T4: ON | U4: =メイン!I40 -> 実施設計段階
U5: =メイン!I41 -> 竣工段階
D6: 1 | E6: 建物外皮の熱負荷抑制
B7: 学校版基準 | I7: 重み係数(既定）＝ | J7: =重み!M110 -> 0.3
B8: 0 | F8: 3 | G8: 小中学校
B9: - | C9: 1 | G9: 一般地域 | I9: 寒冷地域 | K9: 暑熱地域
B10: 2 | C10: 3 | F10: =IF(F8=$S$15,$T$10,IF(ROUNDDOWN(F8,0)=$S$10,$U$10,$T$10)) -> レベル 1 | G10: (該当するレベルなし) | I10: (該当するレベルなし) | K10: (該当するレベルなし) | S10: 1 | T10: レベル 1 | U10: ■レベル 1
B11: 3 | C11: 3 | F11: =IF(F8=$S$15,$T$11,IF(ROUNDDOWN(F8,0)=$S$11,$U$11,$T$11)) -> レベル 2 | G11: レベル３に満たない | I11: レベル３に満たない | K11: レベル３に満たない | S11: 2 | T11: レベル 2 | U11: ■レベル 2
B12: 4 | C12: 4 | F12: =IF(F8=$S$15,$T$12,IF(ROUNDDOWN(F8,0)=$S$12,$U$12,$T$12)) -> ■レベル 3 | G12: 厚さが20mm以上の吹付け硬質ｳﾚﾀﾝﾌｫｰﾑ断熱材その他これに相当する断熱性能を使用し、且つ複層ガラスを使用している | I12: 厚さが40mm以上の吹付け硬質ｳﾚﾀﾝﾌｫｰﾑ断熱材その他これに相当する断熱性能を使用し、且つ複層ガラスを使用している | K12: 熱反ガラスを使用し、且つ水平庇１．０ｍ以上が計画されている。又は、高性能熱反ガラスを使用し、かつ水平庇0.5～1.0ｍが計画されている。 | S12: 3 | T12: レベル 3 | U12: ■レベル 3
B13: 5 | C13: 5 | F13: =IF(F8=$S$15,$T$13,IF(ROUNDDOWN(F8,0)=$S$13,$U$13,$T$13)) -> レベル 4 | G13: 厚さが20mm以上の吹付け硬質ｳﾚﾀﾝﾌｫｰﾑ断熱材その他これに相当する断熱性能を使用し、且つ低放射複層ガラスを使用している | I13: 厚さが40mm以上の吹付け硬質ｳﾚﾀﾝﾌｫｰﾑ断熱材その他これに相当する断熱性能を使用し、且つ低放射複層ガラスを使用している | K13: 高性能熱反ガラスを使用し、且つ水平庇１．０ｍ以上が計画されている。 | S13: 4 | T13: レベル 4 | U13: ■レベル 4
B14: 0 | C14: 0 | F14: =IF(F8=$S$15,$T$14,IF(ROUNDDOWN(F8,0)=$S$14,$U$14,$T$14)) -> レベル 5 | G14: レベル４に加え、ダブルスキン等の断熱に有効な手法が採用されている。 | I14: レベル４に加え、ダブルスキン等の断熱に有効な手法が採用されている。 | K14: レベル４に加え、外ルーバー等の日射遮蔽に有効な手法が採用されている。 | S14: 5 | T14: レベル 5 | U14: ■レベル 5
F15: 建物全体 | I15: 重み係数(既定）＝ | J15: =重み!M118 -> 0.2 | S15: 0 | T15: レベル | U15: レベル
F16: =IF(G32="ON",F32,ROUNDDOWN(計画書!H18,1)) -> 5 | G16: =ROUNDDOWN(計画書!J15,1) -> 1 | H16: 事・学・物・飲・会・病・ホ | O16: =メイン!J66-メイン!J60-K25 -> 12000
H17: [BPI]での評価 | L17: モデル建物法[BPIm]での評価
H18: １～７地域 | J18: ８地域 | L18: １～７地域 | N18: ８地域
F19: =IF(F16=$S$15,$T$10,IF(ROUNDDOWN(F16,0)=$S$10,$U$10,$T$10)) -> レベル 1 | G19: =IF(G16=$S$15,$T$10,IF(ROUNDDOWN(G16,0)=$S$10,$U$10,$T$10)) -> ■レベル 1 | H19: レベル1: [BPI] ≧ 1.03 | J19: レベル1: [BPI] ≧ 1.03 | L19: 1.00 ＜ [BPIm] | N19: 1.00 ＜ [BPIm]
F20: =IF(F16=$S$15,$T$11,IF(ROUNDDOWN(F16,0)=$S$11,$U$11,$T$11)) -> レベル 2 | G20: =IF(G16=$S$15,$T$11,IF(ROUNDDOWN(G16,0)=$S$11,$U$11,$T$11)) -> レベル 2 | H20: レベル2: [BPI] ＝ 1.00 | I20: ＜各レベル間を | J20: レベル2: [BPI] ＝ 1.00 | K20: ＜各レベル間を | L20: 0.97 ＜ [BPIm] ≦1.00 | N20: 0.97 ＜ [BPIm] ≦ 1.00
F21: =IF(F16=$S$15,$T$12,IF(ROUNDDOWN(F16,0)=$S$12,$U$12,$T$12)) -> レベル 3 | G21: =IF(G16=$S$15,$T$12,IF(ROUNDDOWN(G16,0)=$S$12,$U$12,$T$12)) -> レベル 3 | H21: レベル3: [BPI] ＝ 0.97 | I21: 直線補完し | J21: レベル3: [BPI] ＝ 0.97 | K21: 直線補完し | L21: 0.90 ＜ [BPIm] ≦ 0.97 | N21: 0.93 ＜ [BPIm] ≦ 0.97
F22: =IF(F16=$S$15,$T$13,IF(ROUNDDOWN(F16,0)=$S$13,$U$13,$T$13)) -> レベル 4 | G22: =IF(G16=$S$15,$T$13,IF(ROUNDDOWN(G16,0)=$S$13,$U$13,$T$13)) -> レベル 4 | H22: レベル4: [BPI] ＝ 0.90 | I22: 小数点を評価＞ | J22: レベル4: [BPI] ＝ 0.93 | K22: 小数点を評価＞ | L22: [BPIm] ≦ 0.90 | N22: [BPIm] ≦ 0.93
F23: =IF(F16=$S$15,$T$14,IF(ROUNDDOWN(F16,0)=$S$14,$U$14,$T$14)) -> ■レベル 5 | G23: =IF(G16=$S$15,$T$14,IF(ROUNDDOWN(G16,0)=$S$14,$U$14,$T$14)) -> レベル 5 | H23: レベル5: [BPI] ≦ 0.80 | J23: レベル5: [BPI] ≦ 0.85 | L23: （該当するレベルなし） | N23: （該当するレベルなし）
G25: =ROUNDDOWN(計画書!J16,1) -> 5 | H25: 住宅 | K25: =メイン!C64 -> 2500
G26: =IF(G25=$S$15,$T$10,IF(ROUNDDOWN(G25,0)=$S$10,$U$10,$T$10)) -> レベル 1 | H26: 日本住宅性能表示基準「5-1断熱等性能等級」における等級１に相当
G27: =IF(G25=$S$15,$T$11,IF(ROUNDDOWN(G25,0)=$S$11,$U$11,$T$11)) -> レベル 2 | H27: 日本住宅性能表示基準「5-1断熱等性能等級」における等級２に相当
G28: =IF(G25=$S$15,$T$12,IF(ROUNDDOWN(G25,0)=$S$12,$U$12,$T$12)) -> レベル 3 | H28: 日本住宅性能表示基準「5-1断熱等性能等級」における等級３に相当
G29: =IF(G25=$S$15,$T$13,IF(ROUNDDOWN(G25,0)=$S$13,$U$13,$T$13)) -> レベル 4 | H29: 日本住宅性能表示基準「5-1断熱等性能等級」における等級４に相当
G30: =IF(G25=$S$15,$T$14,IF(ROUNDDOWN(G25,0)=$S$14,$U$14,$T$14)) -> ■レベル 5 | H30: レベル４を超える水準の断熱性能を満たす
F31: 直接入力
F32: 3
D34: 2 | E34: 自然エネルギーの利用
D35: 2.1 | E35: 定量評価 | J35: =IF(OR(F37=0,AND(J36=0,O37=0)),$R$3,"") -> <評価しない>
I36: 重み係数(既定）＝ | J36: =重み!M120 -> 0
F37: =IF(I44<1,3,IF(I44<15,4,5)) -> 3 | G37: 事・学・物・飲・会・病・ホ・工 | O37: =計画書!H117 -> 0
F38: =IF(F37=$S$15,$T$10,IF(ROUNDDOWN(F37,0)=$S$10,$U$10,$T$10)) -> レベル 1 | G38: （該当するレベルなし） | N38: 自然エネルギーの直接利用量（採光や通風など）を評価する。太陽光発電やソーラーパネル等などの電気や熱に変換して利用するものについては、「3．設備システムの高効率化」で評価する。
F39: =IF(F37=$S$15,$T$11,IF(ROUNDDOWN(F37,0)=$S$11,$U$11,$T$11)) -> レベル 2 | G39: （該当するレベルなし）
F40: =IF(F37=$S$15,$T$12,IF(ROUNDDOWN(F37,0)=$S$12,$U$12,$T$12)) -> ■レベル 3 | G40: 0MJ/㎡・年≦ [利用量] ＜1MJ/㎡・年 ※利用なし、モニュメントの計画含む
F41: =IF(F37=$S$15,$T$13,IF(ROUNDDOWN(F37,0)=$S$13,$U$13,$T$13)) -> レベル 4 | G41: 1MJ/㎡・年≦ [利用量] ＜15MJ/㎡･年
F42: =IF(F37=$S$15,$T$14,IF(ROUNDDOWN(F37,0)=$S$14,$U$14,$T$14)) -> レベル 5 | G42: 15MJ/㎡・年≦ [利用量]
G44: 自然エネルギー直接利用量 | I44: 0 | J44: MＪ／年㎡ （変換利用量は含まない）
...

Sheet 計画書
C2: ■LR1 「省エネルギー計画書」等からの必要事項の転記 | M2: ■建物名称 | N2: =メイン!C11 -> ○○ビル
C5: 1 | D5: 外壁、窓等を通しての熱の損失の防止に関する事項 | U5: =IF($H$6<=V10,U11,IF($H$6<=V9,U10,IF($H$6<=V8,U9,IF($H$6<=V7,U8,1)))) -> 5 | W5: =VLOOKUP($U$5,U7:X11,3) -> -10 | X5: =VLOOKUP($U$5,U7:X11,4) -> 13 | Y5: =IF($H$6<=Z10,Y11,IF($H$6<=Z9,Y10,IF($H$6<=Z8,Y9,IF($H$6<=Z7,Y8,1)))) -> 5 | AA5: =VLOOKUP($Y$5,Y7:AB11,3) -> -12.5 | AB5: =VLOOKUP($Y$5,Y7:AB11,4) -> 15.625
E6: 非住宅部分 | G6: [BPI][BPIm] = | J6: =メイン!F12 -> 0 | L6: ＜１～７地域＞ | M6: =IF(H6="",1,IF(H6<=V11,U11,IF(H6>=V7,U7,H6*W5+X5))) -> 1 | T6: 対象外 | U6: レベル | V6: 1～7地域 | W6: a（傾き） | X6: ｂ（切片） | Y6: レベル | Z6: ８地域 | AA6: a（傾き） | AB6: ｂ（切片）
L7: ＜８地域＞ | M7: =IF(H6="",1,IF(H6<=Z11,Y11,IF(H6>=Z7,Y7,H6*AA5+AB5))) -> 1 | T7: 等級1 | U7: 1 | V7: 1.03 | W7: 0 | X7: 1 | Y7: 1 | Z7: 1.03 | AA7: 0 | AB7: 1
T8: 等級2 | U8: 2 | V8: 1 | W8: =(U8-U7)/(V8-V7) -> -33.333333 | X8: =U8-W8*V8 -> 35.333333 | Y8: 2 | Z8: 1 | AA8: =(Y8-Y7)/(Z8-Z7) -> -33.333333 | AB8: =Y8-AA8*Z8 -> 35.333333
E9: 住宅部分 | G9: 品確法 | H9: 等級4を超える | I9: 相当 ※1、2 | T9: 等級3 | U9: 3 | V9: 0.97 | W9: =(U9-U8)/(V9-V8) -> -33.333333 | X9: =U9-W9*V9 -> 35.333333 | Y9: 3 | Z9: 0.97 | AA9: =(Y9-Y8)/(Z9-Z8) -> -33.333333 | AB9: =Y9-AA9*Z9 -> 35.333333
E10: ※1 | F10: 各住戸の相当する等級が異なる場合には、住戸毎に評価を行い、算定されたレベルを住戸数で加重平均し、四捨五入で最も近いレベルを選択する。ただし、レベル5の「等級4を超える水準」については、各住戸の平均外皮性能値に基づき評価するため、加重平均を行う必要はない。 | T10: 等級4 | U10: 4 | V10: 0.9 | W10: =(U10-U9)/(V10-V9) -> -14.285714 | X10: =U10-W10*V10 -> 16.857143 | Y10: 4 | Z10: 0.93 | AA10: =(Y10-Y9)/(Z10-Z9) -> -25 | AB10: =Y10-AA10*Z10 -> 27.25
E11: ※2 | F11: 等級４を超える水準 | T11: 等級4を超える | U11: 5 | V11: 0.8 | W11: =(U11-U10)/(V11-V10) -> -10 | X11: =U11-W11*V11 -> 13 | Y11: 5 | Z11: 0.85 | AA11: =(Y11-Y10)/(Z11-Z10) -> -12.5 | AB11: =Y11-AA11*Z11 -> 15.625
F12: ＜１～７地域＞ | G12: 各住戸のUA値について①又は②の基準を満たし、且つ、ηAC値について等級4相当を満たすこと。 ①住戸の設計UA値が基準UA値に0.85を乗じた値以下であること。 ②外気に接する床の部位熱貫流率が下の値に0.85を乗じた値以下であり、かつ、住戸の設計UA値が基準UA値に0.9を乗じた値以下であること。 1～2地域；0.27、3地域；0.32、4～7地域；0.37 | T12: 等級未入力
F13: ＜８地域＞ | G13: 各住戸の開口部の平均日射熱取得率が12以下となること。 | T13: BPI未入力
G14: 床面積(㎡) | H14: 床面積比率
F15: 非住宅部分 | H15: =IF(G15+G16=0,0,G15/(G15+G16)) -> 0 | J15: =IF(H6="",1,IF(J6=Z6,M7,M6)) -> 1
F16: 住宅部分 | G16: =IF(H9=T6,0,メイン!C64) -> 2500 | H16: =IF(G15+G16=0,0,G16/(G15+G16)) -> 1 | J16: =IF(H9="",$T12,IF(H9=T11,U11,IF(H9=T10,U10,IF(H9=T9,U9,IF(H9=T8,U8,U7))))) -> 5
D18: LR1/1. 建物外皮の熱負荷抑制 | H18: =SUMPRODUCT(H15:H16,J15:J16) -> 5
C21: 2 | D21: 一次エネルギー消費性能（BEI等の転記）
D23: 建物全体のBEI | G23: [BEI][BEIm] = | J23: =IF(H35=0,0,IF($H$23<=V35,U35,IF(H23>=V31,U31,H23*W29+X29))) -> 5 | K23: 下記（１）（２）（３）で評価する場合は空欄
E24: <運用期間が1年未満の場合>
E25: 期間積算の基準一次エネルギー消費量に対する設計一次エネルギー消費量の比率 [BEITC] を[BEI]欄に入力
E27: 非住宅部分のBEI | G27: [BEI][BEIm] = | J27: 非住宅建築物は、建物全体のBEIと同じ数値を入力
J28: 下記（１）（２）（３）で評価する場合は複合用途の内の非住宅部分の（１）（２）の
J29: [BEI] [BEIm]の値を入力（LCCO2評価用） | U29: =IF($H$23<=V35,U35,IF($H$23<=V34,U34,IF($H$23<=V33,U33,IF($H$23<=V32,U32,U31)))) -> 5 | W29: =VLOOKUP($U$29,U31:X35,3) -> 0 | X29: =VLOOKUP($U$29,U31:X35,4) -> 0
E30: 以下の場合は、建物全体のBEI（BEIm）での評価になります。 ・非住宅建築物で、標準入力法(BEI)で評価した場合 ・非住宅建築物で、モデル建物法（BEIm）で評価した場合 ・住宅用途ないしは住宅を含む複合用途で、 専有部を算定プログラム（BEI）、共用部と非住宅部分を標準入力法（BEI）で評価した場合（共用部を評価しない場合も含む） | U30: レベル | V30: 評価建物 | W30: a（傾き） | X30: ｂ（切片）
D31: ■用途別BEI設定値 | G31: 床面積(㎡) | H31: 床面積比率 | J31: ﾚﾍﾞﾙ１ | K31: ﾚﾍﾞﾙ２ | L31: ﾚﾍﾞﾙ３ | M31: ﾚﾍﾞﾙ４ | N31: ﾚﾍﾞﾙ５ | U31: 1 | V31: =J35 -> 1.1172414 | W31: =(U32-U31)/(V32-V31) -> -10 | X31: =U32-W31*V32 -> 12.172414
F32: 事・学・工 | G32: =メイン!C47+メイン!C49+メイン!C60 -> 9000 | H32: =IF($G$35=0,0,G32/$G$35) -> 0.62068966 | J32: 1.1 | K32: 1 | L32: 0.8 | M32: 0.7 | N32: 0.6 | U32: 2 | V32: =K35 -> 1.0172414 | W32: =(U33-U32)/(V33-V32) -> -5.4716981 | X32: =U33-W32*V33 -> 7.5660377
F33: 物・飲・会・病・ホ | G33: =メイン!C54+メイン!C56+メイン!C57+メイン!C61+メイン!C62 -> 3000 | H33: =IF($G$35=0,0,G33/$G$35) -> 0.20689655 | J33: 1.1 | K33: 1 | L33: 0.8 | M33: 0.75 | N33: 0.7 | U33: 3 | V33: =L35 -> 0.83448276 | W33: =(U34-U33)/(V34-V33) -> -11.153846 | X33: =U34-W33*V34 -> 12.307692
F34: 住 | G34: =メイン!C64 -> 2500 | H34: =IF($G$35=0,0,G34/$G$35) -> 0.17241379 | J34: 1.2 | K34: 1.1 | L34: 1 | M34: 0.9 | N34: 0.85 | U34: 4 | V34: =M35 -> 0.74482759 | W34: =(U35-U34)/(V35-V34) -> -12.340426 | X34: =U35-W34*V35 -> 13.191489
F35: 評価建物 | G35: =SUM(G32:G34) -> 14500 | H35: =SUM(H32:H34) -> 1 | J35: =SUMPRODUCT(J32:J34,$H$32:$H$34) -> 1.1172414 | K35: =SUMPRODUCT(K32:K34,$H$32:$H$34) -> 1.0172414 | L35: =SUMPRODUCT(L32:L34,$H$32:$H$34) -> 0.83448276 | M35: =SUMPRODUCT(M32:M34,$H$32:$H$34) -> 0.74482759 | N35: =SUMPRODUCT(N32:N34,$H$32:$H$34) -> 0.6637931 | U35: 5 | V35: =N35 -> 0.6637931
D37: LR1/3.設備システムの高効率化 | H37: =IF(H23="",J77,J23) -> 0 | I37: 3.2(1) | J37: =IF(H37-1<1,1,H37-1) -> 1 | K37: (2) | L37: =境界値!I51 -> #N/A | M37: =IF(L37=1,"レベル上げる",IF(L37=-1,"レベル下げる","上下なし")) -> #N/A | O37: (3) | P37: =IF(境界値!I14>=0.8,H37,IF(0.5*ROUNDDOWN(J37/0.5,0)+L37<1,1,0.5*ROUNDDOWN(J37/0.5,0)+L37)) -> #N/A
D39: 次の場合は、以下の（１）（２）（３）で評価してください。 ・住宅を含む複合用途で、共用部を標準入力法（BEI）、非住宅部分をモデル建物法（BEIm）で評価した場合 ・住宅用途ないしは住宅を含む複合用途で、専有部を住宅仕様基準で評価した場合
D40: （１）BEIによる評価
G41: [BEI] = | J41: =IF(H41="",S41,IF(H41<=V48,U48,IF(H41>=V44,U44,H41*W42+X42))) -> BEI未入力 | K41: 住宅の共用部、住戸部分も含めたBEIを入力 | S41: BEI未入力
E42: ■用途別評価対象面積の入力 | U42: =IF($H$41<=V48,U48,IF($H$41<=V47,U47,IF($H$41<=V46,U46,IF($H$41<=V45,U45,U44)))) -> #DIV/0! | W42: =VLOOKUP($U$42,U44:X48,3) -> #DIV/0! | X42: =VLOOKUP($U$42,U44:X48,4) -> #DIV/0!
F43: 床面積(㎡) | G43: 対象面積(㎡) | H43: 床面積比率 | J43: ﾚﾍﾞﾙ１ | K43: ﾚﾍﾞﾙ２ | L43: ﾚﾍﾞﾙ３ | M43: ﾚﾍﾞﾙ４ | N43: ﾚﾍﾞﾙ５ | U43: レベル | V43: 評価建物 | W43: a（傾き） | X43: ｂ（切片）
E44: 事・学・工 | F44: =G32 -> 9000 | H44: =G44/G47 -> #DIV/0! | J44: 1.1 | K44: 1 | L44: 0.8 | M44: 0.7 | N44: 0.6 | U44: 1 | V44: =J47 -> #DIV/0! | W44: =(U45-U44)/(V45-V44) -> #DIV/0! | X44: =U45-W44*V45 -> #DIV/0!
E45: 物・飲・会・病・ホ | F45: =G33 -> 3000 | H45: =G45/G47 -> #DIV/0! | J45: 1.1 | K45: 1 | L45: 0.8 | M45: 0.75 | N45: 0.7 | U45: 2 | V45: =K47 -> #DIV/0! | W45: =(U46-U45)/(V46-V45) -> #DIV/0! | X45: =U46-W45*V46 -> #DIV/0!
E46: 住 | F46: =G34 -> 2500 | H46: =G46/G47 -> #DIV/0! | J46: 1.2 | K46: 1.1 | L46: 1 | M46: 0.9 | N46: 0.85 | U46: 3 | V46: =L47 -> #DIV/0! | W46: =(U47-U46)/(V47-V46) -> #DIV/0! | X46: =U47-W46*V47 -> #DIV/0!
E47: 評価対象面積 | F47: =SUM(F44:F46) -> 14500 | G47: =SUM(G44:G46) -> 0 | H47: =SUM(H44:H46) -> #DIV/0! | J47: =SUMPRODUCT(J44:J46,$H$44:$H$46) -> #DIV/0! | K47: =SUMPRODUCT(K44:K46,$H$44:$H$46) -> #DIV/0! | L47: =SUMPRODUCT(L44:L46,$H$44:$H$46) -> #DIV/0! | M47: =SUMPRODUCT(M44:M46,$H$44:$H$46) -> #DIV/0! | N47: =SUMPRODUCT(N44:N46,$H$44:$H$46) -> #DIV/0! | U47: 4 | V47: =M47 -> #DIV/0! | W47: =(U48-U47)/(V48-V47) -> #DIV/0! | X47: =U48-W47*V48 -> #DIV/0!
U48: 5 | V48: =N47 -> #DIV/0!
D49: （２）BEImによる評価
G50: [BEIm] = | J50: =IF(H50="",S50,IF(H50<=V57,U57,IF(H50>=V53,U53,H50*W51+X51))) -> BEI未入力 | S50: BEI未入力
...

Sheet 境界値
L1: ■建物名称 | N1: =メイン!C11 -> ○○ビル
B2: ■エネルギー消費実績に基づくレベルの加点・減点（工場、集合住宅を除く）
K4: 色欄について、プルダウンメニューから選択、または数値を記入
C5: 1. エネルギー消費量実績の入力
D6: 1) 建物全体のエネルギー消費量実績の入力
E7: ①非住宅部分全体（集合住宅除く） | K7: GJ/年 | L7: ※備考； 省エネルギー計算対象の工場用途面積
E8: ②工場部分（省エネルギー計算対象部分）※ | J8: 0 | K8: GJ/年 | L8: =メイン!E60 -> 0 | M8: ㎡
E9: ③評価対象となる建物のエネルギー種別一次エネルギー構成比率（集合住宅除く）※
E10: ※運用CO2算定のための入力項目 | H10: 電気 | I10: ガス | J10: その他
D13: 2) 除外部分の入力 | G13: 室用途 | H13: 除外部分の床面積(㎡) | J13: エネルギー消費量 | L13: ※備考； 非住宅部分の延床面積
G14: 工場 | H14: =メイン!R60 -> 0 | I14: =IF(H14=0,0,+H14/$L$14) -> 0 | K14: GJ/年 | L14: =メイン!C63 -> 12000 | M14: ㎡
G15: 電算室 | I15: =IF(H15=0,0,+H15/$L$14) -> 0 | K15: GJ/年
G16: 厨房 | I16: =IF(H16=0,0,+H16/$L$14) -> 0 | K16: GJ/年
I17: =IF(H17=0,0,+H17/$L$14) -> 0 | K17: GJ/年
I18: =IF(H18=0,0,+H18/$L$14) -> 0 | K18: GJ/年
D20: 3) 実績評価の対象となるエネルギー消費量 | J20: =+J7-SUM(J14:J18) -> 0 | K20: GJ/年
C22: 2. 使用状況に準じた延床面積の構成比率の入力 | J22: 3. 地区の選択
D23: 1) 実績評価の対象面積 | G23: 2) 延床面積の構成比率入力 | K23: 地区選択に基づく境界値aおよびb
D24: 用途 | E24: 用途別面積(㎡) | G24: 用途 | H24: 構成比率 | K24: 用途 | L24: 境界値a | M24: 境界値b | T24: 北海道 | U24: 関西 | V24: e
K25: =VLOOKUP(L22,U24:V30,2) -> #N/A | T25: 東北 | U25: 関東 | V25: c
D26: 事務所 | E26: =メイン!R47 -> 5000 | G26: 事務所 | H26: =IF(E26=0,"",E26/$E$44) -> 0.41666667 | K26: 事務所 | L26: =HLOOKUP(K$25,$G$56:$M$73,P57) -> #N/A | M26: =HLOOKUP(K$25,$G$78:$M$95,P79) -> #N/A | T26: 関東 | U26: 九州 | V26: g
D27: 電算･情報センター | G27: 電算･情報センター | K27: 電算･情報センター | L27: =HLOOKUP(K$25,$G$56:$M$73,P58) -> #N/A | M27: =HLOOKUP(K$25,$G$78:$M$95,P80) -> #N/A | T27: 中部 | U27: 中国・四国 | V27: f
D28: 官公庁 | E28: =メイン!R48 -> 0 | G28: 官公庁 | H28: =IF(E28=0,"",E28/$E$44) | K28: 官公庁 | L28: =HLOOKUP(K$25,$G$56:$M$73,P59) -> #N/A | M28: =HLOOKUP(K$25,$G$78:$M$95,P81) -> #N/A | T28: 関西 | U28: 中部 | V28: d
D29: 幼稚園・保育園 | E29: =メイン!R49 -> 0 | G29: 幼稚園・保育園 | H29: =IF(E29=0,"",E29/$E$44) | K29: 幼稚園・保育園 | L29: =HLOOKUP(K$25,$G$56:$M$73,P60) -> #N/A | M29: =HLOOKUP(K$25,$G$78:$M$95,P82) -> #N/A | T29: 中国・四国 | U29: 東北 | V29: b
D30: 小・中学校 | E30: =メイン!R50+メイン!R51 -> 4000 | G30: 小・中学校 | H30: =IF(E30=0,"",E30/$E$44) -> 0.33333333 | K30: 小・中学校 | L30: =HLOOKUP(K$25,$G$56:$M$73,P61) -> #N/A | M30: =HLOOKUP(K$25,$G$78:$M$95,P83) -> #N/A | T30: 九州 | U30: 北海道 | V30: a
D31: 高等学校 | E31: =メイン!R52 -> 0 | G31: 高等学校 | H31: =IF(E31=0,"",E31/$E$44) | K31: 高等学校 | L31: =HLOOKUP(K$25,$G$56:$M$73,P62) -> #N/A | M31: =HLOOKUP(K$25,$G$78:$M$95,P84) -> #N/A
D32: 大学・専門学校 | E32: =メイン!R53 -> 0 | G32: 大学・専門学校 | H32: =IF(E32=0,"",E32/$E$44) | K32: 大学・専門学校 | L32: =HLOOKUP(K$25,$G$56:$M$73,P63) -> #N/A | M32: =HLOOKUP(K$25,$G$78:$M$95,P85) -> #N/A
D33: 研究機関 | G33: 研究機関 | H33: =IF(E33=0,"",E33/$E$44) | K33: 研究機関 | L33: =HLOOKUP(K$25,$G$56:$M$73,P64) -> #N/A | M33: =HLOOKUP(K$25,$G$78:$M$95,P86) -> #N/A
D34: ﾃﾞﾊﾟｰﾄ･ｽｰﾊﾟｰ | E34: =メイン!R54 -> 0 | G34: ﾃﾞﾊﾟｰﾄ･ｽｰﾊﾟｰ | H34: =IF(E34=0,"",E34/$E$44) | K34: ﾃﾞﾊﾟｰﾄ･ｽｰﾊﾟｰ | L34: =HLOOKUP(K$25,$G$56:$M$73,P65) -> #N/A | M34: =HLOOKUP(K$25,$G$78:$M$95,P87) -> #N/A
D35: 物販店 | E35: =メイン!R55 -> 0 | G35: 物販店 | H35: =IF(E35=0,"",E35/$E$44) | K35: 物販店 | L35: =HLOOKUP(K$25,$G$56:$M$73,P66) -> #N/A | M35: =HLOOKUP(K$25,$G$78:$M$95,P88) -> #N/A
D36: 飲食店 | E36: =メイン!R56 -> 0 | G36: 飲食店 | H36: =IF(E36=0,"",E36/$E$44) | K36: 飲食店 | L36: =HLOOKUP(K$25,$G$56:$M$73,P67) -> #N/A | M36: =HLOOKUP(K$25,$G$78:$M$95,P89) -> #N/A
D37: 劇場・ホール | E37: =メイン!R57 -> 3000 | G37: 劇場・ホール | H37: =IF(E37=0,"",E37/$E$44) -> 0.25 | K37: 劇場・ホール | L37: =HLOOKUP(K$25,$G$56:$M$73,P68) -> #N/A | M37: =HLOOKUP(K$25,$G$78:$M$95,P90) -> #N/A
D38: 展示施設 | E38: =メイン!R58 -> 0 | G38: 展示施設 | H38: =IF(E38=0,"",E38/$E$44) | K38: 展示施設 | L38: =HLOOKUP(K$25,$G$56:$M$73,P69) -> #N/A | M38: =HLOOKUP(K$25,$G$78:$M$95,P91) -> #N/A
D39: スポーツ施設 | E39: =メイン!R59 -> 0 | G39: スポーツ施設 | H39: =IF(E39=0,"",E39/$E$44) | K39: スポーツ施設 | L39: =HLOOKUP(K$25,$G$56:$M$73,P70) -> #N/A | M39: =HLOOKUP(K$25,$G$78:$M$95,P92) -> #N/A
D40: 病院 | E40: =メイン!R61 -> 0 | G40: 病院 | H40: =IF(E40=0,"",E40/$E$44) | K40: 病院 | L40: =HLOOKUP(K$25,$G$56:$M$73,P71) -> #N/A | M40: =HLOOKUP(K$25,$G$78:$M$95,P93) -> #N/A
D41: 福祉施設 | G41: 福祉施設 | H41: =IF(E41=0,"",E41/$E$44) | K41: 福祉施設 | L41: =HLOOKUP(K$25,$G$56:$M$73,P72) -> #N/A | M41: =HLOOKUP(K$25,$G$78:$M$95,P94) -> #N/A
D42: ホテル | E42: =メイン!R62 -> 0 | G42: ホテル | H42: =IF(E42=0,"",E42/$E$44) | K42: ホテル | L42: =HLOOKUP(K$25,$G$56:$M$73,P73) -> #N/A | M42: =HLOOKUP(K$25,$G$78:$M$95,P95) -> #N/A
D44: 合計 | E44: =SUM(E25:E43) -> 12000 | G44: 合計 | H44: =SUM(H26:H42) -> 1 | K44: 合計 | L44: =SUMPRODUCT(H26:H42,L26:L42) -> #N/A | M44: =SUMPRODUCT(H26:H42,M26:M42) -> #N/A
D45: （メインシートより）
C47: 4. エネルギー消費実績に基づくレベルの上下
...

Sheet 採点LR2
L1: ■建物名称 | M1: =メイン!C11 -> ○○ビル | R1: プルダウン選択肢
D3: LR2 資源・マテリアル | J3: 色欄について、プルダウンメニューから選択、または数値・コメントを記入のこと | O3: =IF(メイン!E39=0,"",メイン!E39) | R3: ○ | T3: =メイン!I39 -> 基本設計段階
